Workbook

Sheet GP-res 26-27 Kl Knattar
B1: Knattar 2016- | O1: Skånska Skolmästerskapet | U1: Skol-SM | AA1: Malmö/MSF Open | AG1: Flick-SM | AN1: MASKen | AT1: Snabbschacks-SM | AZ1: Skåne Open (DM) | BF1: Skåneblixten
A2: Plac | B2: Namn | C2: Klubb | D2: Född | E2: Antal | F2: GP1 | G2: GP2 | H2: GP3 | I2: GP4 | J2: GP5 | K2: GP6 | L2: GP7 | M2: GP8 | N2: GPtot | O2: plac | P2: 7 | Q2: procp | R2: dp | S2: placp | T2: GP | U2: plac | V2: 11 | W2: procp | X2: dp | Y2: placp | Z2: GP | AA2: plac | AB2: 8 | AC2: procp | AD2: dp | AE2: placp | AF2: GP | AG2: plac | AH2: resultat | AI2: ronder | AJ2: procp | AK2: dp | AL2: placp | AM2: GP | AN2: plac | AO2: 7 | AP2: procp | AQ2: dp | AR2: placp | AS2: GP | AT2: plac | AU2: 8 | AV2: procp | AW2: dp | AX2: placp | AY2: GP | AZ2: plac | BA2: 7 | BB2: procp | BC2: dp | BD2: placp | BE2: GP | BF2: plac | BG2: 11 | BH2: procp | BI2: dp | BJ2: placp | BK2: GP
A3: 1 | B3: Amos Lidé | C3: SK Sandlöparen | D3: 2017 | E3: =(R3+X3+AQ3+AD3+AK3+BC3+AW3+BI3)/20 -> 2 | F3: =T3 -> 85 | G3: =Z3 -> 103 | H3: =AF3 | I3: =AM3 | J3: =AS3 | K3: =AY3 | L3: =BE3 | M3: =BK3 | N3: =IF(E3<4,SUM(F3:M3),SUMPRODUCT(LARGE(F3:M3,{1;2;3;4}))) -> 188 | O3: 11 | P3: 4.5 | Q3: =CEILING(100*P3/$P$2,1) -> 65 | R3: =IF(O3="",0,20) -> 20 | S3: =IF(O3=1,30,IF(O3=2,20,IF(O3=3,10,0))) -> 0 | T3: =IF(O3="","",Q3+R3+S3) -> 85 | U3: 3 | V3: 8 | W3: =CEILING(100*V3/$V$2,1) -> 73 | X3: =IF(U3="",0,20) -> 20 | Y3: =IF(U3=1,30,IF(U3=2,20,IF(U3=3,10,0))) -> 10 | Z3: =IF(U3="","",W3+X3+Y3) -> 103 | AC3: =CEILING(100*AB3/$AB$2,1) -> 0 | AD3: =IF(AA3="",0,20) -> 0 | AE3: =IF(AA3=1,30,IF(AA3=2,20,IF(AA3=3,10,0))) -> 0 | AF3: =IF(AA3="","",AC3+AD3+AE3) | AJ3: =IF(AI3=0,"",CEILING(100*AH3/AI3,1)) | AK3: =IF(AG3="",0,20) -> 0 | AL3: =IF(AG3=1,30,IF(AG3=2,20,IF(AG3=3,10,0))) -> 0 | AM3: =IF(AG3="","",AJ3+AK3+AL3) | AP3: =CEILING(100*AO3/$AO$2,1) -> 0 | AQ3: =IF(AN3="",0,20) -> 0 | AR3: =IF(AN3=1,30,IF(AN3=2,20,IF(AN3=3,10,0))) -> 0 | AS3: =IF(AN3="","",AP3+AQ3+AR3) | AV3: =CEILING(100*AU3/$AU$2,1) -> 0 | AW3: =IF(AT3="",0,20) -> 0 | AX3: =IF(AT3=1,30,IF(AT3=2,20,IF(AT3=3,10,0))) -> 0 | AY3: =IF(AT3="","",AV3+AW3+AX3) | BB3: =CEILING(100*BA3/$BA$2,1) -> 0 | BC3: =IF(AZ3="",0,20) -> 0 | BD3: =IF(AZ3=1,30,IF(AZ3=2,20,IF(AZ3=3,10,0))) -> 0 | BE3: =IF(AZ3="","",BB3+BC3+BD3) | BH3: =CEILING(100*BG3/$BG$2,1) -> 0 | BI3: =IF(BF3="",0,20) -> 0 | BJ3: =IF(BF3=1,30,IF(BF3=2,20,IF(BF3=3,10,0))) -> 0 | BK3: =IF(BF3="","",BH3+BI3+BJ3)
A4: 2 | B4: Linnea Hongbei Liu | C4: SK Sandlöparen | D4: 2016 | E4: =(R4+X4+AQ4+AD4+AK4+BC4+AW4+BI4)/20 -> 2 | F4: =T4 -> 102 | G4: =Z4 -> 75 | H4: =AF4 | I4: =AM4 | J4: =AS4 | K4: =AY4 | L4: =BE4 | M4: =BK4 | N4: =IF(E4<4,SUM(F4:M4),SUMPRODUCT(LARGE(F4:M4,{1;2;3;4}))) -> 177 | O4: 3 | P4: 5 | Q4: =CEILING(100*P4/$P$2,1) -> 72 | R4: =IF(O4="",0,20) -> 20 | S4: =IF(O4=1,30,IF(O4=2,20,IF(O4=3,10,0))) -> 10 | T4: =IF(O4="","",Q4+R4+S4) -> 102 | U4: 16 | V4: 6 | W4: =CEILING(100*V4/$V$2,1) -> 55 | X4: =IF(U4="",0,20) -> 20 | Y4: =IF(U4=1,30,IF(U4=2,20,IF(U4=3,10,0))) -> 0 | Z4: =IF(U4="","",W4+X4+Y4) -> 75 | AC4: =CEILING(100*AB4/$AB$2,1) -> 0 | AD4: =IF(AA4="",0,20) -> 0 | AE4: =IF(AA4=1,30,IF(AA4=2,20,IF(AA4=3,10,0))) -> 0 | AF4: =IF(AA4="","",AC4+AD4+AE4) | AJ4: =IF(AI4=0,"",CEILING(100*AH4/AI4,1)) | AK4: =IF(AG4="",0,20) -> 0 | AL4: =IF(AG4=1,30,IF(AG4=2,20,IF(AG4=3,10,0))) -> 0 | AM4: =IF(AG4="","",AJ4+AK4+AL4) | AP4: =CEILING(100*AO4/$AO$2,1) -> 0 | AQ4: =IF(AN4="",0,20) -> 0 | AR4: =IF(AN4=1,30,IF(AN4=2,20,IF(AN4=3,10,0))) -> 0 | AS4: =IF(AN4="","",AP4+AQ4+AR4) | AV4: =CEILING(100*AU4/$AU$2,1) -> 0 | AW4: =IF(AT4="",0,20) -> 0 | AX4: =IF(AT4=1,30,IF(AT4=2,20,IF(AT4=3,10,0))) -> 0 | AY4: =IF(AT4="","",AV4+AW4+AX4) | BB4: =CEILING(100*BA4/$BA$2,1) -> 0 | BC4: =IF(AZ4="",0,20) -> 0 | BD4: =IF(AZ4=1,30,IF(AZ4=2,20,IF(AZ4=3,10,0))) -> 0 | BE4: =IF(AZ4="","",BB4+BC4+BD4) | BH4: =CEILING(100*BG4/$BG$2,1) -> 0 | BI4: =IF(BF4="",0,20) -> 0 | BJ4: =IF(BF4=1,30,IF(BF4=2,20,IF(BF4=3,10,0))) -> 0 | BK4: =IF(BF4="","",BH4+BI4+BJ4)
A5: 3 | B5: Ethan Preman | C5: Lunds ASK | D5: 2019 | E5: =(R5+X5+AQ5+AD5+AK5+BC5+AW5+BI5)/20 -> 2 | F5: =T5 -> 85 | G5: =Z5 -> 89 | H5: =AF5 | I5: =AM5 | J5: =AS5 | K5: =AY5 | L5: =BE5 | M5: =BK5 | N5: =IF(E5<4,SUM(F5:M5),SUMPRODUCT(LARGE(F5:M5,{1;2;3;4}))) -> 174 | O5: 10 | P5: 4.5 | Q5: =CEILING(100*P5/$P$2,1) -> 65 | R5: =IF(O5="",0,20) -> 20 | S5: =IF(O5=1,30,IF(O5=2,20,IF(O5=3,10,0))) -> 0 | T5: =IF(O5="","",Q5+R5+S5) -> 85 | U5: 4 | V5: 7.5 | W5: =CEILING(100*V5/$V$2,1) -> 69 | X5: =IF(U5="",0,20) -> 20 | Y5: =IF(U5=1,30,IF(U5=2,20,IF(U5=3,10,0))) -> 0 | Z5: =IF(U5="","",W5+X5+Y5) -> 89 | AC5: =CEILING(100*AB5/$AB$2,1) -> 0 | AD5: =IF(AA5="",0,20) -> 0 | AE5: =IF(AA5=1,30,IF(AA5=2,20,IF(AA5=3,10,0))) -> 0 | AF5: =IF(AA5="","",AC5+AD5+AE5) | AJ5: =IF(AI5=0,"",CEILING(100*AH5/AI5,1)) | AK5: =IF(AG5="",0,20) -> 0 | AL5: =IF(AG5=1,30,IF(AG5=2,20,IF(AG5=3,10,0))) -> 0 | AM5: =IF(AG5="","",AJ5+AK5+AL5) | AP5: =CEILING(100*AO5/$AO$2,1) -> 0 | AQ5: =IF(AN5="",0,20) -> 0 | AR5: =IF(AN5=1,30,IF(AN5=2,20,IF(AN5=3,10,0))) -> 0 | AS5: =IF(AN5="","",AP5+AQ5+AR5) | AV5: =CEILING(100*AU5/$AU$2,1) -> 0 | AW5: =IF(AT5="",0,20) -> 0 | AX5: =IF(AT5=1,30,IF(AT5=2,20,IF(AT5=3,10,0))) -> 0 | AY5: =IF(AT5="","",AV5+AW5+AX5) | BB5: =CEILING(100*BA5/$BA$2,1) -> 0 | BC5: =IF(AZ5="",0,20) -> 0 | BD5: =IF(AZ5=1,30,IF(AZ5=2,20,IF(AZ5=3,10,0))) -> 0 | BE5: =IF(AZ5="","",BB5+BC5+BD5) | BH5: =CEILING(100*BG5/$BG$2,1) -> 0 | BI5: =IF(BF5="",0,20) -> 0 | BJ5: =IF(BF5=1,30,IF(BF5=2,20,IF(BF5=3,10,0))) -> 0 | BK5: =IF(BF5="","",BH5+BI5+BJ5)
A6: 4 | B6: Aranya Das | C6: Limhamns SK | D6: 2017 | E6: =(R6+X6+AQ6+AD6+AK6+BC6+AW6+BI6)/20 -> 2 | F6: =T6 -> 92 | G6: =Z6 -> 75 | H6: =AF6 | I6: =AM6 | J6: =AS6 | K6: =AY6 | L6: =BE6 | M6: =BK6 | N6: =IF(E6<4,SUM(F6:M6),SUMPRODUCT(LARGE(F6:M6,{1;2;3;4}))) -> 167 | O6: 5 | P6: 5 | Q6: =CEILING(100*P6/$P$2,1) -> 72 | R6: =IF(O6="",0,20) -> 20 | S6: =IF(O6=1,30,IF(O6=2,20,IF(O6=3,10,0))) -> 0 | T6: =IF(O6="","",Q6+R6+S6) -> 92 | U6: 14 | V6: 6 | W6: =CEILING(100*V6/$V$2,1) -> 55 | X6: =IF(U6="",0,20) -> 20 | Y6: =IF(U6=1,30,IF(U6=2,20,IF(U6=3,10,0))) -> 0 | Z6: =IF(U6="","",W6+X6+Y6) -> 75 | AC6: =CEILING(100*AB6/$AB$2,1) -> 0 | AD6: =IF(AA6="",0,20) -> 0 | AE6: =IF(AA6=1,30,IF(AA6=2,20,IF(AA6=3,10,0))) -> 0 | AF6: =IF(AA6="","",AC6+AD6+AE6) | AJ6: =IF(AI6=0,"",CEILING(100*AH6/AI6,1)) | AK6: =IF(AG6="",0,20) -> 0 | AL6: =IF(AG6=1,30,IF(AG6=2,20,IF(AG6=3,10,0))) -> 0 | AM6: =IF(AG6="","",AJ6+AK6+AL6) | AP6: =CEILING(100*AO6/$AO$2,1) -> 0 | AQ6: =IF(AN6="",0,20) -> 0 | AR6: =IF(AN6=1,30,IF(AN6=2,20,IF(AN6=3,10,0))) -> 0 | AS6: =IF(AN6="","",AP6+AQ6+AR6) | AV6: =CEILING(100*AU6/$AU$2,1) -> 0 | AW6: =IF(AT6="",0,20) -> 0 | AX6: =IF(AT6=1,30,IF(AT6=2,20,IF(AT6=3,10,0))) -> 0 | AY6: =IF(AT6="","",AV6+AW6+AX6) | BB6: =CEILING(100*BA6/$BA$2,1) -> 0 | BC6: =IF(AZ6="",0,20) -> 0 | BD6: =IF(AZ6=1,30,IF(AZ6=2,20,IF(AZ6=3,10,0))) -> 0 | BE6: =IF(AZ6="","",BB6+BC6+BD6) | BH6: =CEILING(100*BG6/$BG$2,1) -> 0 | BI6: =IF(BF6="",0,20) -> 0 | BJ6: =IF(BF6=1,30,IF(BF6=2,20,IF(BF6=3,10,0))) -> 0 | BK6: =IF(BF6="","",BH6+BI6+BJ6)
A7: 5 | B7: Georg Olivemark | C7: Malmö AS | D7: 2016 | E7: =(R7+X7+AQ7+AD7+AK7+BC7+AW7+BI7)/20 -> 2 | F7: =T7 -> 70 | G7: =Z7 -> 84 | H7: =AF7 | I7: =AM7 | J7: =AS7 | K7: =AY7 | L7: =BE7 | M7: =BK7 | N7: =IF(E7<4,SUM(F7:M7),SUMPRODUCT(LARGE(F7:M7,{1;2;3;4}))) -> 154 | O7: 13 | P7: 3.5 | Q7: =CEILING(100*P7/$P$2,1) -> 50 | R7: =IF(O7="",0,20) -> 20 | S7: =IF(O7=1,30,IF(O7=2,20,IF(O7=3,10,0))) -> 0 | T7: =IF(O7="","",Q7+R7+S7) -> 70 | U7: 7 | V7: 7 | W7: =CEILING(100*V7/$V$2,1) -> 64 | X7: =IF(U7="",0,20) -> 20 | Y7: =IF(U7=1,30,IF(U7=2,20,IF(U7=3,10,0))) -> 0 | Z7: =IF(U7="","",W7+X7+Y7) -> 84 | AC7: =CEILING(100*AB7/$AB$2,1) -> 0 | AD7: =IF(AA7="",0,20) -> 0 | AE7: =IF(AA7=1,30,IF(AA7=2,20,IF(AA7=3,10,0))) -> 0 | AF7: =IF(AA7="","",AC7+AD7+AE7) | AJ7: =IF(AI7=0,"",CEILING(100*AH7/AI7,1)) | AK7: =IF(AG7="",0,20) -> 0 | AL7: =IF(AG7=1,30,IF(AG7=2,20,IF(AG7=3,10,0))) -> 0 | AM7: =IF(AG7="","",AJ7+AK7+AL7) | AP7: =CEILING(100*AO7/$AO$2,1) -> 0 | AQ7: =IF(AN7="",0,20) -> 0 | AR7: =IF(AN7=1,30,IF(AN7=2,20,IF(AN7=3,10,0))) -> 0 | AS7: =IF(AN7="","",AP7+AQ7+AR7) | AV7: =CEILING(100*AU7/$AU$2,1) -> 0 | AW7: =IF(AT7="",0,20) -> 0 | AX7: =IF(AT7=1,30,IF(AT7=2,20,IF(AT7=3,10,0))) -> 0 | AY7: =IF(AT7="","",AV7+AW7+AX7) | BB7: =CEILING(100*BA7/$BA$2,1) -> 0 | BC7: =IF(AZ7="",0,20) -> 0 | BD7: =IF(AZ7=1,30,IF(AZ7=2,20,IF(AZ7=3,10,0))) -> 0 | BE7: =IF(AZ7="","",BB7+BC7+BD7) | BH7: =CEILING(100*BG7/$BG$2,1) -> 0 | BI7: =IF(BF7="",0,20) -> 0 | BJ7: =IF(BF7=1,30,IF(BF7=2,20,IF(BF7=3,10,0))) -> 0 | BK7: =IF(BF7="","",BH7+BI7+BJ7)
A8: 6 | B8: Linghao Zeng | C8: Lunds ASK | D8: 2017 | E8: =(R8+X8+AQ8+AD8+AK8+BC8+AW8+BI8)/20 -> 1 | F8: =T8 -> 150 | G8: =Z8 | H8: =AF8 | I8: =AM8 | J8: =AS8 | K8: =AY8 | L8: =BE8 | M8: =BK8 | N8: =IF(E8<4,SUM(F8:M8),SUMPRODUCT(LARGE(F8:M8,{1;2;3;4}))) -> 150 | O8: 1 | P8: 7 | Q8: =CEILING(100*P8/$P$2,1) -> 100 | R8: =IF(O8="",0,20) -> 20 | S8: =IF(O8=1,30,IF(O8=2,20,IF(O8=3,10,0))) -> 30 | T8: =IF(O8="","",Q8+R8+S8) -> 150 | W8: =CEILING(100*V8/$V$2,1) -> 0 | X8: =IF(U8="",0,20) -> 0 | Y8: =IF(U8=1,30,IF(U8=2,20,IF(U8=3,10,0))) -> 0 | Z8: =IF(U8="","",W8+X8+Y8) | AC8: =CEILING(100*AB8/$AB$2,1) -> 0 | AD8: =IF(AA8="",0,20) -> 0 | AE8: =IF(AA8=1,30,IF(AA8=2,20,IF(AA8=3,10,0))) -> 0 | AF8: =IF(AA8="","",AC8+AD8+AE8) | AJ8: =IF(AI8=0,"",CEILING(100*AH8/AI8,1)) | AK8: =IF(AG8="",0,20) -> 0 | AL8: =IF(AG8=1,30,IF(AG8=2,20,IF(AG8=3,10,0))) -> 0 | AM8: =IF(AG8="","",AJ8+AK8+AL8) | AP8: =CEILING(100*AO8/$AO$2,1) -> 0 | AQ8: =IF(AN8="",0,20) -> 0 | AR8: =IF(AN8=1,30,IF(AN8=2,20,IF(AN8=3,10,0))) -> 0 | AS8: =IF(AN8="","",AP8+AQ8+AR8) | AV8: =CEILING(100*AU8/$AU$2,1) -> 0 | AW8: =IF(AT8="",0,20) -> 0 | AX8: =IF(AT8=1,30,IF(AT8=2,20,IF(AT8=3,10,0))) -> 0 | AY8: =IF(AT8="","",AV8+AW8+AX8) | BB8: =CEILING(100*BA8/$BA$2,1) -> 0 | BC8: =IF(AZ8="",0,20) -> 0 | BD8: =IF(AZ8=1,30,IF(AZ8=2,20,IF(AZ8=3,10,0))) -> 0 | BE8: =IF(AZ8="","",BB8+BC8+BD8) | BH8: =CEILING(100*BG8/$BG$2,1) -> 0 | BI8: =IF(BF8="",0,20) -> 0 | BJ8: =IF(BF8=1,30,IF(BF8=2,20,IF(BF8=3,10,0))) -> 0 | BK8: =IF(BF8="","",BH8+BI8+BJ8)
A9: 7 | B9: Minh Thuc Le Doan | C9: Lunds ASK | D9: 2017 | E9: =(R9+X9+AQ9+AD9+AK9+BC9+AW9+BI9)/20 -> 1 | F9: =T9 | G9: =Z9 -> 150 | H9: =AF9 | I9: =AM9 | J9: =AS9 | K9: =AY9 | L9: =BE9 | M9: =BK9 | N9: =IF(E9<4,SUM(F9:M9),SUMPRODUCT(LARGE(F9:M9,{1;2;3;4}))) -> 150 | Q9: =CEILING(100*P9/$P$2,1) -> 0 | R9: =IF(O9="",0,20) -> 0 | S9: =IF(O9=1,30,IF(O9=2,20,IF(O9=3,10,0))) -> 0 | T9: =IF(O9="","",Q9+R9+S9) | U9: 1 | V9: 11 | W9: =CEILING(100*V9/$V$2,1) -> 100 | X9: =IF(U9="",0,20) -> 20 | Y9: =IF(U9=1,30,IF(U9=2,20,IF(U9=3,10,0))) -> 30 | Z9: =IF(U9="","",W9+X9+Y9) -> 150 | AC9: =CEILING(100*AB9/$AB$2,1) -> 0 | AD9: =IF(AA9="",0,20) -> 0 | AE9: =IF(AA9=1,30,IF(AA9=2,20,IF(AA9=3,10,0))) -> 0 | AF9: =IF(AA9="","",AC9+AD9+AE9) | AJ9: =IF(AI9=0,"",CEILING(100*AH9/AI9,1)) | AK9: =IF(AG9="",0,20) -> 0 | AL9: =IF(AG9=1,30,IF(AG9=2,20,IF(AG9=3,10,0))) -> 0 | AM9: =IF(AG9="","",AJ9+AK9+AL9) | AP9: =CEILING(100*AO9/$AO$2,1) -> 0 | AQ9: =IF(AN9="",0,20) -> 0 | AR9: =IF(AN9=1,30,IF(AN9=2,20,IF(AN9=3,10,0))) -> 0 | AS9: =IF(AN9="","",AP9+AQ9+AR9) | AV9: =CEILING(100*AU9/$AU$2,1) -> 0 | AW9: =IF(AT9="",0,20) -> 0 | AX9: =IF(AT9=1,30,IF(AT9=2,20,IF(AT9=3,10,0))) -> 0 | AY9: =IF(AT9="","",AV9+AW9+AX9) | BB9: =CEILING(100*BA9/$BA$2,1) -> 0 | BC9: =IF(AZ9="",0,20) -> 0 | BD9: =IF(AZ9=1,30,IF(AZ9=2,20,IF(AZ9=3,10,0))) -> 0 | BE9: =IF(AZ9="","",BB9+BC9+BD9) | BH9: =CEILING(100*BG9/$BG$2,1) -> 0 | BI9: =IF(BF9="",0,20) -> 0 | BJ9: =IF(BF9=1,30,IF(BF9=2,20,IF(BF9=3,10,0))) -> 0 | BK9: =IF(BF9="","",BH9+BI9+BJ9)
A10: 8 | B10: August Faxén | C10: Limhamns SK | D10: 2016 | E10: =(R10+X10+AQ10+AD10+AK10+BC10+AW10+BI10)/20 -> 2 | F10: =T10 -> 70 | G10: =Z10 -> 57 | H10: =AF10 | I10: =AM10 | J10: =AS10 | K10: =AY10 | L10: =BE10 | M10: =BK10 | N10: =IF(E10<4,SUM(F10:M10),SUMPRODUCT(LARGE(F10:M10,{1;2;3;4}))) -> 127 | O10: 20 | P10: 3.5 | Q10: =CEILING(100*P10/$P$2,1) -> 50 | R10: =IF(O10="",0,20) -> 20 | S10: =IF(O10=1,30,IF(O10=2,20,IF(O10=3,10,0))) -> 0 | T10: =IF(O10="","",Q10+R10+S10) -> 70 | U10: 36 | V10: 4 | W10: =CEILING(100*V10/$V$2,1) -> 37 | X10: =IF(U10="",0,20) -> 20 | Y10: =IF(U10=1,30,IF(U10=2,20,IF(U10=3,10,0))) -> 0 | Z10: =IF(U10="","",W10+X10+Y10) -> 57 | AC10: =CEILING(100*AB10/$AB$2,1) -> 0 | AD10: =IF(AA10="",0,20) -> 0 | AE10: =IF(AA10=1,30,IF(AA10=2,20,IF(AA10=3,10,0))) -> 0 | AF10: =IF(AA10="","",AC10+AD10+AE10) | AJ10: =IF(AI10=0,"",CEILING(100*AH10/AI10,1)) | AK10: =IF(AG10="",0,20) -> 0 | AL10: =IF(AG10=1,30,IF(AG10=2,20,IF(AG10=3,10,0))) -> 0 | AM10: =IF(AG10="","",AJ10+AK10+AL10) | AP10: =CEILING(100*AO10/$AO$2,1) -> 0 | AQ10: =IF(AN10="",0,20) -> 0 | AR10: =IF(AN10=1,30,IF(AN10=2,20,IF(AN10=3,10,0))) -> 0 | AS10: =IF(AN10="","",AP10+AQ10+AR10) | AV10: =CEILING(100*AU10/$AU$2,1) -> 0 | AW10: =IF(AT10="",0,20) -> 0 | AX10: =IF(AT10=1,30,IF(AT10=2,20,IF(AT10=3,10,0))) -> 0 | AY10: =IF(AT10="","",AV10+AW10+AX10) | BB10: =CEILING(100*BA10/$BA$2,1) -> 0 | BC10: =IF(AZ10="",0,20) -> 0 | BD10: =IF(AZ10=1,30,IF(AZ10=2,20,IF(AZ10=3,10,0))) -> 0 | BE10: =IF(AZ10="","",BB10+BC10+BD10) | BH10: =CEILING(100*BG10/$BG$2,1) -> 0 | BI10: =IF(BF10="",0,20) -> 0 | BJ10: =IF(BF10=1,30,IF(BF10=2,20,IF(BF10=3,10,0))) -> 0 | BK10: =IF(BF10="","",BH10+BI10+BJ10)
A11: 9 | B11: Erik Kvalvik | C11: Ystads SS | D11: 2019 | E11: =(R11+X11+AQ11+AD11+AK11+BC11+AW11+BI11)/20 -> 1 | F11: =T11 -> 126 | G11: =Z11 | H11: =AF11 | I11: =AM11 | J11: =AS11 | K11: =AY11 | L11: =BE11 | M11: =BK11 | N11: =IF(E11<4,SUM(F11:M11),SUMPRODUCT(LARGE(F11:M11,{1;2;3;4}))) -> 126 | O11: 2 | P11: 6 | Q11: =CEILING(100*P11/$P$2,1) -> 86 | R11: =IF(O11="",0,20) -> 20 | S11: =IF(O11=1,30,IF(O11=2,20,IF(O11=3,10,0))) -> 20 | T11: =IF(O11="","",Q11+R11+S11) -> 126 | W11: =CEILING(100*V11/$V$2,1) -> 0 | X11: =IF(U11="",0,20) -> 0 | Y11: =IF(U11=1,30,IF(U11=2,20,IF(U11=3,10,0))) -> 0 | Z11: =IF(U11="","",W11+X11+Y11) | AC11: =CEILING(100*AB11/$AB$2,1) -> 0 | AD11: =IF(AA11="",0,20) -> 0 | AE11: =IF(AA11=1,30,IF(AA11=2,20,IF(AA11=3,10,0))) -> 0 | AF11: =IF(AA11="","",AC11+AD11+AE11) | AJ11: =IF(AI11=0,"",CEILING(100*AH11/AI11,1)) | AK11: =IF(AG11="",0,20) -> 0 | AL11: =IF(AG11=1,30,IF(AG11=2,20,IF(AG11=3,10,0))) -> 0 | AM11: =IF(AG11="","",AJ11+AK11+AL11) | AP11: =CEILING(100*AO11/$AO$2,1) -> 0 | AQ11: =IF(AN11="",0,20) -> 0 | AR11: =IF(AN11=1,30,IF(AN11=2,20,IF(AN11=3,10,0))) -> 0 | AS11: =IF(AN11="","",AP11+AQ11+AR11) | AV11: =CEILING(100*AU11/$AU$2,1) -> 0 | AW11: =IF(AT11="",0,20) -> 0 | AX11: =IF(AT11=1,30,IF(AT11=2,20,IF(AT11=3,10,0))) -> 0 | AY11: =IF(AT11="","",AV11+AW11+AX11) | BB11: =CEILING(100*BA11/$BA$2,1) -> 0 | BC11: =IF(AZ11="",0,20) -> 0 | BD11: =IF(AZ11=1,30,IF(AZ11=2,20,IF(AZ11=3,10,0))) -> 0 | BE11: =IF(AZ11="","",BB11+BC11+BD11) | BH11: =CEILING(100*BG11/$BG$2,1) -> 0 | BI11: =IF(BF11="",0,20) -> 0 | BJ11: =IF(BF11=1,30,IF(BF11=2,20,IF(BF11=3,10,0))) -> 0 | BK11: =IF(BF11="","",BH11+BI11+BJ11)
A12: 10 | B12: Henry Backman | C12: Limhamns SK | D12: 2016 | E12: =(R12+X12+AQ12+AD12+AK12+BC12+AW12+BI12)/20 -> 1 | F12: =T12 -> 92 | G12: =Z12 | H12: =AF12 | I12: =AM12 | J12: =AS12 | K12: =AY12 | L12: =BE12 | M12: =BK12 | N12: =IF(E12<4,SUM(F12:M12),SUMPRODUCT(LARGE(F12:M12,{1;2;3;4}))) -> 92 | O12: 4 | P12: 5 | Q12: =CEILING(100*P12/$P$2,1) -> 72 | R12: =IF(O12="",0,20) -> 20 | S12: =IF(O12=1,30,IF(O12=2,20,IF(O12=3,10,0))) -> 0 | T12: =IF(O12="","",Q12+R12+S12) -> 92 | W12: =CEILING(100*V12/$V$2,1) -> 0 | X12: =IF(U12="",0,20) -> 0 | Y12: =IF(U12=1,30,IF(U12=2,20,IF(U12=3,10,0))) -> 0 | Z12: =IF(U12="","",W12+X12+Y12) | AC12: =CEILING(100*AB12/$AB$2,1) -> 0 | AD12: =IF(AA12="",0,20) -> 0 | AE12: =IF(AA12=1,30,IF(AA12=2,20,IF(AA12=3,10,0))) -> 0 | AF12: =IF(AA12="","",AC12+AD12+AE12) | AJ12: =IF(AI12=0,"",CEILING(100*AH12/AI12,1)) | AK12: =IF(AG12="",0,20) -> 0 | AL12: =IF(AG12=1,30,IF(AG12=2,20,IF(AG12=3,10,0))) -> 0 | AM12: =IF(AG12="","",AJ12+AK12+AL12) | AP12: =CEILING(100*AO12/$AO$2,1) -> 0 | AQ12: =IF(AN12="",0,20) -> 0 | AR12: =IF(AN12=1,30,IF(AN12=2,20,IF(AN12=3,10,0))) -> 0 | AS12: =IF(AN12="","",AP12+AQ12+AR12) | AV12: =CEILING(100*AU12/$AU$2,1) -> 0 | AW12: =IF(AT12="",0,20) -> 0 | AX12: =IF(AT12=1,30,IF(AT12=2,20,IF(AT12=3,10,0))) -> 0 | AY12: =IF(AT12="","",AV12+AW12+AX12) | BB12: =CEILING(100*BA12/$BA$2,1) -> 0 | BC12: =IF(AZ12="",0,20) -> 0 | BD12: =IF(AZ12=1,30,IF(AZ12=2,20,IF(AZ12=3,10,0))) -> 0 | BE12: =IF(AZ12="","",BB12+BC12+BD12) | BH12: =CEILING(100*BG12/$BG$2,1) -> 0 | BI12: =IF(BF12="",0,20) -> 0 | BJ12: =IF(BF12=1,30,IF(BF12=2,20,IF(BF12=3,10,0))) -> 0 | BK12: =IF(BF12="","",BH12+BI12+BJ12)
A13: 11 | B13: Henrik Wen | C13: SK Sandlöparen | D13: 2018 | E13: =(R13+X13+AQ13+AD13+AK13+BC13+AW13+BI13)/20 -> 1 | F13: =T13 -> 92 | G13: =Z13 | H13: =AF13 | I13: =AM13 | J13: =AS13 | K13: =AY13 | L13: =BE13 | M13: =BK13 | N13: =IF(E13<4,SUM(F13:M13),SUMPRODUCT(LARGE(F13:M13,{1;2;3;4}))) -> 92 | O13: 6 | P13: 5 | Q13: =CEILING(100*P13/$P$2,1) -> 72 | R13: =IF(O13="",0,20) -> 20 | S13: =IF(O13=1,30,IF(O13=2,20,IF(O13=3,10,0))) -> 0 | T13: =IF(O13="","",Q13+R13+S13) -> 92 | W13: =CEILING(100*V13/$V$2,1) -> 0 | X13: =IF(U13="",0,20) -> 0 | Y13: =IF(U13=1,30,IF(U13=2,20,IF(U13=3,10,0))) -> 0 | Z13: =IF(U13="","",W13+X13+Y13) | AC13: =CEILING(100*AB13/$AB$2,1) -> 0 | AD13: =IF(AA13="",0,20) -> 0 | AE13: =IF(AA13=1,30,IF(AA13=2,20,IF(AA13=3,10,0))) -> 0 | AF13: =IF(AA13="","",AC13+AD13+AE13) | AJ13: =IF(AI13=0,"",CEILING(100*AH13/AI13,1)) | AK13: =IF(AG13="",0,20) -> 0 | AL13: =IF(AG13=1,30,IF(AG13=2,20,IF(AG13=3,10,0))) -> 0 | AM13: =IF(AG13="","",AJ13+AK13+AL13) | AP13: =CEILING(100*AO13/$AO$2,1) -> 0 | AQ13: =IF(AN13="",0,20) -> 0 | AR13: =IF(AN13=1,30,IF(AN13=2,20,IF(AN13=3,10,0))) -> 0 | AS13: =IF(AN13="","",AP13+AQ13+AR13) | AV13: =CEILING(100*AU13/$AU$2,1) -> 0 | AW13: =IF(AT13="",0,20) -> 0 | AX13: =IF(AT13=1,30,IF(AT13=2,20,IF(AT13=3,10,0))) -> 0 | AY13: =IF(AT13="","",AV13+AW13+AX13) | BB13: =CEILING(100*BA13/$BA$2,1) -> 0 | BC13: =IF(AZ13="",0,20) -> 0 | BD13: =IF(AZ13=1,30,IF(AZ13=2,20,IF(AZ13=3,10,0))) -> 0 | BE13: =IF(AZ13="","",BB13+BC13+BD13) | BH13: =CEILING(100*BG13/$BG$2,1) -> 0 | BI13: =IF(BF13="",0,20) -> 0 | BJ13: =IF(BF13=1,30,IF(BF13=2,20,IF(BF13=3,10,0))) -> 0 | BK13: =IF(BF13="","",BH13+BI13+BJ13)
A14: 12 | B14: Okko Pajunen | C14: Limhamns SK | D14: 2016 | E14: =(R14+X14+AQ14+AD14+AK14+BC14+AW14+BI14)/20 -> 1 | F14: =T14 -> 92 | G14: =Z14 | H14: =AF14 | I14: =AM14 | J14: =AS14 | K14: =AY14 | L14: =BE14 | M14: =BK14 | N14: =IF(E14<4,SUM(F14:M14),SUMPRODUCT(LARGE(F14:M14,{1;2;3;4}))) -> 92 | O14: 7 | P14: 5 | Q14: =CEILING(100*P14/$P$2,1) -> 72 | R14: =IF(O14="",0,20) -> 20 | S14: =IF(O14=1,30,IF(O14=2,20,IF(O14=3,10,0))) -> 0 | T14: =IF(O14="","",Q14+R14+S14) -> 92 | W14: =CEILING(100*V14/$V$2,1) -> 0 | X14: =IF(U14="",0,20) -> 0 | Y14: =IF(U14=1,30,IF(U14=2,20,IF(U14=3,10,0))) -> 0 | Z14: =IF(U14="","",W14+X14+Y14) | AC14: =CEILING(100*AB14/$AB$2,1) -> 0 | AD14: =IF(AA14="",0,20) -> 0 | AE14: =IF(AA14=1,30,IF(AA14=2,20,IF(AA14=3,10,0))) -> 0 | AF14: =IF(AA14="","",AC14+AD14+AE14) | AJ14: =IF(AI14=0,"",CEILING(100*AH14/AI14,1)) | AK14: =IF(AG14="",0,20) -> 0 | AL14: =IF(AG14=1,30,IF(AG14=2,20,IF(AG14=3,10,0))) -> 0 | AM14: =IF(AG14="","",AJ14+AK14+AL14) | AP14: =CEILING(100*AO14/$AO$2,1) -> 0 | AQ14: =IF(AN14="",0,20) -> 0 | AR14: =IF(AN14=1,30,IF(AN14=2,20,IF(AN14=3,10,0))) -> 0 | AS14: =IF(AN14="","",AP14+AQ14+AR14) | AV14: =CEILING(100*AU14/$AU$2,1) -> 0 | AW14: =IF(AT14="",0,20) -> 0 | AX14: =IF(AT14=1,30,IF(AT14=2,20,IF(AT14=3,10,0))) -> 0 | AY14: =IF(AT14="","",AV14+AW14+AX14) | BB14: =CEILING(100*BA14/$BA$2,1) -> 0 | BC14: =IF(AZ14="",0,20) -> 0 | BD14: =IF(AZ14=1,30,IF(AZ14=2,20,IF(AZ14=3,10,0))) -> 0 | BE14: =IF(AZ14="","",BB14+BC14+BD14) | BH14: =CEILING(100*BG14/$BG$2,1) -> 0 | BI14: =IF(BF14="",0,20) -> 0 | BJ14: =IF(BF14=1,30,IF(BF14=2,20,IF(BF14=3,10,0))) -> 0 | BK14: =IF(BF14="","",BH14+BI14+BJ14)
A15: 13 | B15: Joshiv Orumpati | C15: Helsingborgs ASK | D15: 2017 | E15: =(R15+X15+AQ15+AD15+AK15+BC15+AW15+BI15)/20 -> 1 | F15: =T15 -> 92 | G15: =Z15 | H15: =AF15 | I15: =AM15 | J15: =AS15 | K15: =AY15 | L15: =BE15 | M15: =BK15 | N15: =IF(E15<4,SUM(F15:M15),SUMPRODUCT(LARGE(F15:M15,{1;2;3;4}))) -> 92 | O15: 8 | P15: 5 | Q15: =CEILING(100*P15/$P$2,1) -> 72 | R15: =IF(O15="",0,20) -> 20 | S15: =IF(O15=1,30,IF(O15=2,20,IF(O15=3,10,0))) -> 0 | T15: =IF(O15="","",Q15+R15+S15) -> 92 | W15: =CEILING(100*V15/$V$2,1) -> 0 | X15: =IF(U15="",0,20) -> 0 | Y15: =IF(U15=1,30,IF(U15=2,20,IF(U15=3,10,0))) -> 0 | Z15: =IF(U15="","",W15+X15+Y15) | AC15: =CEILING(100*AB15/$AB$2,1) -> 0 | AD15: =IF(AA15="",0,20) -> 0 | AE15: =IF(AA15=1,30,IF(AA15=2,20,IF(AA15=3,10,0))) -> 0 | AF15: =IF(AA15="","",AC15+AD15+AE15) | AJ15: =IF(AI15=0,"",CEILING(100*AH15/AI15,1)) | AK15: =IF(AG15="",0,20) -> 0 | AL15: =IF(AG15=1,30,IF(AG15=2,20,IF(AG15=3,10,0))) -> 0 | AM15: =IF(AG15="","",AJ15+AK15+AL15) | AP15: =CEILING(100*AO15/$AO$2,1) -> 0 | AQ15: =IF(AN15="",0,20) -> 0 | AR15: =IF(AN15=1,30,IF(AN15=2,20,IF(AN15=3,10,0))) -> 0 | AS15: =IF(AN15="","",AP15+AQ15+AR15) | AV15: =CEILING(100*AU15/$AU$2,1) -> 0 | AW15: =IF(AT15="",0,20) -> 0 | AX15: =IF(AT15=1,30,IF(AT15=2,20,IF(AT15=3,10,0))) -> 0 | AY15: =IF(AT15="","",AV15+AW15+AX15) | BB15: =CEILING(100*BA15/$BA$2,1) -> 0 | BC15: =IF(AZ15="",0,20) -> 0 | BD15: =IF(AZ15=1,30,IF(AZ15=2,20,IF(AZ15=3,10,0))) -> 0 | BE15: =IF(AZ15="","",BB15+BC15+BD15) | BH15: =CEILING(100*BG15/$BG$2,1) -> 0 | BI15: =IF(BF15="",0,20) -> 0 | BJ15: =IF(BF15=1,30,IF(BF15=2,20,IF(BF15=3,10,0))) -> 0 | BK15: =IF(BF15="","",BH15+BI15+BJ15)
A16: 14 | B16: Frank Eneberg Berlin | C16: Blindschack | D16: 2017 | E16: =(R16+X16+AQ16+AD16+AK16+BC16+AW16+BI16)/20 -> 1 | F16: =T16 -> 85 | G16: =Z16 | H16: =AF16 | I16: =AM16 | J16: =AS16 | K16: =AY16 | L16: =BE16 | M16: =BK16 | N16: =IF(E16<4,SUM(F16:M16),SUMPRODUCT(LARGE(F16:M16,{1;2;3;4}))) -> 85 | O16: 9 | P16: 4.5 | Q16: =CEILING(100*P16/$P$2,1) -> 65 | R16: =IF(O16="",0,20) -> 20 | S16: =IF(O16=1,30,IF(O16=2,20,IF(O16=3,10,0))) -> 0 | T16: =IF(O16="","",Q16+R16+S16) -> 85 | W16: =CEILING(100*V16/$V$2,1) -> 0 | X16: =IF(U16="",0,20) -> 0 | Y16: =IF(U16=1,30,IF(U16=2,20,IF(U16=3,10,0))) -> 0 | Z16: =IF(U16="","",W16+X16+Y16) | AC16: =CEILING(100*AB16/$AB$2,1) -> 0 | AD16: =IF(AA16="",0,20) -> 0 | AE16: =IF(AA16=1,30,IF(AA16=2,20,IF(AA16=3,10,0))) -> 0 | AF16: =IF(AA16="","",AC16+AD16+AE16) | AJ16: =IF(AI16=0,"",CEILING(100*AH16/AI16,1)) | AK16: =IF(AG16="",0,20) -> 0 | AL16: =IF(AG16=1,30,IF(AG16=2,20,IF(AG16=3,10,0))) -> 0 | AM16: =IF(AG16="","",AJ16+AK16+AL16) | AP16: =CEILING(100*AO16/$AO$2,1) -> 0 | AQ16: =IF(AN16="",0,20) -> 0 | AR16: =IF(AN16=1,30,IF(AN16=2,20,IF(AN16=3,10,0))) -> 0 | AS16: =IF(AN16="","",AP16+AQ16+AR16) | AV16: =CEILING(100*AU16/$AU$2,1) -> 0 | AW16: =IF(AT16="",0,20) -> 0 | AX16: =IF(AT16=1,30,IF(AT16=2,20,IF(AT16=3,10,0))) -> 0 | AY16: =IF(AT16="","",AV16+AW16+AX16) | BB16: =CEILING(100*BA16/$BA$2,1) -> 0 | BC16: =IF(AZ16="",0,20) -> 0 | BD16: =IF(AZ16=1,30,IF(AZ16=2,20,IF(AZ16=3,10,0))) -> 0 | BE16: =IF(AZ16="","",BB16+BC16+BD16) | BH16: =CEILING(100*BG16/$BG$2,1) -> 0 | BI16: =IF(BF16="",0,20) -> 0 | BJ16: =IF(BF16=1,30,IF(BF16=2,20,IF(BF16=3,10,0))) -> 0 | BK16: =IF(BF16="","",BH16+BI16+BJ16)
A17: 15 | B17: Ivan Fuckar | C17: Blindschack | D17: 2017 | E17: =(R17+X17+AQ17+AD17+AK17+BC17+AW17+BI17)/20 -> 1 | F17: =T17 -> 85 | G17: =Z17 | H17: =AF17 | I17: =AM17 | J17: =AS17 | K17: =AY17 | L17: =BE17 | M17: =BK17 | N17: =IF(E17<4,SUM(F17:M17),SUMPRODUCT(LARGE(F17:M17,{1;2;3;4}))) -> 85 | O17: 12 | P17: 4.5 | Q17: =CEILING(100*P17/$P$2,1) -> 65 | R17: =IF(O17="",0,20) -> 20 | S17: =IF(O17=1,30,IF(O17=2,20,IF(O17=3,10,0))) -> 0 | T17: =IF(O17="","",Q17+R17+S17) -> 85 | W17: =CEILING(100*V17/$V$2,1) -> 0 | X17: =IF(U17="",0,20) -> 0 | Y17: =IF(U17=1,30,IF(U17=2,20,IF(U17=3,10,0))) -> 0 | Z17: =IF(U17="","",W17+X17+Y17) | AC17: =CEILING(100*AB17/$AB$2,1) -> 0 | AD17: =IF(AA17="",0,20) -> 0 | AE17: =IF(AA17=1,30,IF(AA17=2,20,IF(AA17=3,10,0))) -> 0 | AF17: =IF(AA17="","",AC17+AD17+AE17) | AJ17: =IF(AI17=0,"",CEILING(100*AH17/AI17,1)) | AK17: =IF(AG17="",0,20) -> 0 | AL17: =IF(AG17=1,30,IF(AG17=2,20,IF(AG17=3,10,0))) -> 0 | AM17: =IF(AG17="","",AJ17+AK17+AL17) | AP17: =CEILING(100*AO17/$AO$2,1) -> 0 | AQ17: =IF(AN17="",0,20) -> 0 | AR17: =IF(AN17=1,30,IF(AN17=2,20,IF(AN17=3,10,0))) -> 0 | AS17: =IF(AN17="","",AP17+AQ17+AR17) | AV17: =CEILING(100*AU17/$AU$2,1) -> 0 | AW17: =IF(AT17="",0,20) -> 0 | AX17: =IF(AT17=1,30,IF(AT17=2,20,IF(AT17=3,10,0))) -> 0 | AY17: =IF(AT17="","",AV17+AW17+AX17) | BB17: =CEILING(100*BA17/$BA$2,1) -> 0 | BC17: =IF(AZ17="",0,20) -> 0 | BD17: =IF(AZ17=1,30,IF(AZ17=2,20,IF(AZ17=3,10,0))) -> 0 | BE17: =IF(AZ17="","",BB17+BC17+BD17) | BH17: =CEILING(100*BG17/$BG$2,1) -> 0 | BI17: =IF(BF17="",0,20) -> 0 | BJ17: =IF(BF17=1,30,IF(BF17=2,20,IF(BF17=3,10,0))) -> 0 | BK17: =IF(BF17="","",BH17+BI17+BJ17)
A18: 16 | B18: Shreyan Bathini | C18: Limhamns SK | D18: 2019 | E18: =(R18+X18+AQ18+AD18+AK18+BC18+AW18+BI18)/20 -> 1 | F18: =T18 -> 85 | G18: =Z18 | H18: =AF18 | I18: =AM18 | J18: =AS18 | K18: =AY18 | L18: =BE18 | M18: =BK18 | N18: =IF(E18<4,SUM(F18:M18),SUMPRODUCT(LARGE(F18:M18,{1;2;3;4}))) -> 85 | O18: 13 | P18: 4.5 | Q18: =CEILING(100*P18/$P$2,1) -> 65 | R18: =IF(O18="",0,20) -> 20 | S18: =IF(O18=1,30,IF(O18=2,20,IF(O18=3,10,0))) -> 0 | T18: =IF(O18="","",Q18+R18+S18) -> 85 | W18: =CEILING(100*V18/$V$2,1) -> 0 | X18: =IF(U18="",0,20) -> 0 | Y18: =IF(U18=1,30,IF(U18=2,20,IF(U18=3,10,0))) -> 0 | Z18: =IF(U18="","",W18+X18+Y18) | AC18: =CEILING(100*AB18/$AB$2,1) -> 0 | AD18: =IF(AA18="",0,20) -> 0 | AE18: =IF(AA18=1,30,IF(AA18=2,20,IF(AA18=3,10,0))) -> 0 | AF18: =IF(AA18="","",AC18+AD18+AE18) | AJ18: =IF(AI18=0,"",CEILING(100*AH18/AI18,1)) | AK18: =IF(AG18="",0,20) -> 0 | AL18: =IF(AG18=1,30,IF(AG18=2,20,IF(AG18=3,10,0))) -> 0 | AM18: =IF(AG18="","",AJ18+AK18+AL18) | AP18: =CEILING(100*AO18/$AO$2,1) -> 0 | AQ18: =IF(AN18="",0,20) -> 0 | AR18: =IF(AN18=1,30,IF(AN18=2,20,IF(AN18=3,10,0))) -> 0 | AS18: =IF(AN18="","",AP18+AQ18+AR18) | AV18: =CEILING(100*AU18/$AU$2,1) -> 0 | AW18: =IF(AT18="",0,20) -> 0 | AX18: =IF(AT18=1,30,IF(AT18=2,20,IF(AT18=3,10,0))) -> 0 | AY18: =IF(AT18="","",AV18+AW18+AX18) | BB18: =CEILING(100*BA18/$BA$2,1) -> 0 | BC18: =IF(AZ18="",0,20) -> 0 | BD18: =IF(AZ18=1,30,IF(AZ18=2,20,IF(AZ18=3,10,0))) -> 0 | BE18: =IF(AZ18="","",BB18+BC18+BD18) | BH18: =CEILING(100*BG18/$BG$2,1) -> 0 | BI18: =IF(BF18="",0,20) -> 0 | BJ18: =IF(BF18=1,30,IF(BF18=2,20,IF(BF18=3,10,0))) -> 0 | BK18: =IF(BF18="","",BH18+BI18+BJ18)
A19: 17 | B19: Liam Andersson | C19: Helsingborgs ASK | D19: 2016 | E19: =(R19+X19+AQ19+AD19+AK19+BC19+AW19+BI19)/20 -> 1 | F19: =T19 -> 78 | G19: =Z19 | H19: =AF19 | I19: =AM19 | J19: =AS19 | K19: =AY19 | L19: =BE19 | M19: =BK19 | N19: =IF(E19<4,SUM(F19:M19),SUMPRODUCT(LARGE(F19:M19,{1;2;3;4}))) -> 78 | O19: 14 | P19: 4 | Q19: =CEILING(100*P19/$P$2,1) -> 58 | R19: =IF(O19="",0,20) -> 20 | S19: =IF(O19=1,30,IF(O19=2,20,IF(O19=3,10,0))) -> 0 | T19: =IF(O19="","",Q19+R19+S19) -> 78 | W19: =CEILING(100*V19/$V$2,1) -> 0 | X19: =IF(U19="",0,20) -> 0 | Y19: =IF(U19=1,30,IF(U19=2,20,IF(U19=3,10,0))) -> 0 | Z19: =IF(U19="","",W19+X19+Y19) | AC19: =CEILING(100*AB19/$AB$2,1) -> 0 | AD19: =IF(AA19="",0,20) -> 0 | AE19: =IF(AA19=1,30,IF(AA19=2,20,IF(AA19=3,10,0))) -> 0 | AF19: =IF(AA19="","",AC19+AD19+AE19) | AJ19: =IF(AI19=0,"",CEILING(100*AH19/AI19,1)) | AK19: =IF(AG19="",0,20) -> 0 | AL19: =IF(AG19=1,30,IF(AG19=2,20,IF(AG19=3,10,0))) -> 0 | AM19: =IF(AG19="","",AJ19+AK19+AL19) | AP19: =CEILING(100*AO19/$AO$2,1) -> 0 | AQ19: =IF(AN19="",0,20) -> 0 | AR19: =IF(AN19=1,30,IF(AN19=2,20,IF(AN19=3,10,0))) -> 0 | AS19: =IF(AN19="","",AP19+AQ19+AR19) | AV19: =CEILING(100*AU19/$AU$2,1) -> 0 | AW19: =IF(AT19="",0,20) -> 0 | AX19: =IF(AT19=1,30,IF(AT19=2,20,IF(AT19=3,10,0))) -> 0 | AY19: =IF(AT19="","",AV19+AW19+AX19) | BB19: =CEILING(100*BA19/$BA$2,1) -> 0 | BC19: =IF(AZ19="",0,20) -> 0 | BD19: =IF(AZ19=1,30,IF(AZ19=2,20,IF(AZ19=3,10,0))) -> 0 | BE19: =IF(AZ19="","",BB19+BC19+BD19) | BH19: =CEILING(100*BG19/$BG$2,1) -> 0 | BI19: =IF(BF19="",0,20) -> 0 | BJ19: =IF(BF19=1,30,IF(BF19=2,20,IF(BF19=3,10,0))) -> 0 | BK19: =IF(BF19="","",BH19+BI19+BJ19)
A20: 18 | B20: Victor Sten Värendh | C20: Limhamns SK | D20: 2016 | E20: =(R20+X20+AQ20+AD20+AK20+BC20+AW20+BI20)/20 -> 1 | F20: =T20 -> 78 | G20: =Z20 | H20: =AF20 | I20: =AM20 | J20: =AS20 | K20: =AY20 | L20: =BE20 | M20: =BK20 | N20: =IF(E20<4,SUM(F20:M20),SUMPRODUCT(LARGE(F20:M20,{1;2;3;4}))) -> 78 | O20: 15 | P20: 4 | Q20: =CEILING(100*P20/$P$2,1) -> 58 | R20: =IF(O20="",0,20) -> 20 | S20: =IF(O20=1,30,IF(O20=2,20,IF(O20=3,10,0))) -> 0 | T20: =IF(O20="","",Q20+R20+S20) -> 78 | W20: =CEILING(100*V20/$V$2,1) -> 0 | X20: =IF(U20="",0,20) -> 0 | Y20: =IF(U20=1,30,IF(U20=2,20,IF(U20=3,10,0))) -> 0 | Z20: =IF(U20="","",W20+X20+Y20) | AC20: =CEILING(100*AB20/$AB$2,1) -> 0 | AD20: =IF(AA20="",0,20) -> 0 | AE20: =IF(AA20=1,30,IF(AA20=2,20,IF(AA20=3,10,0))) -> 0 | AF20: =IF(AA20="","",AC20+AD20+AE20) | AJ20: =IF(AI20=0,"",CEILING(100*AH20/AI20,1)) | AK20: =IF(AG20="",0,20) -> 0 | AL20: =IF(AG20=1,30,IF(AG20=2,20,IF(AG20=3,10,0))) -> 0 | AM20: =IF(AG20="","",AJ20+AK20+AL20) | AP20: =CEILING(100*AO20/$AO$2,1) -> 0 | AQ20: =IF(AN20="",0,20) -> 0 | AR20: =IF(AN20=1,30,IF(AN20=2,20,IF(AN20=3,10,0))) -> 0 | AS20: =IF(AN20="","",AP20+AQ20+AR20) | AV20: =CEILING(100*AU20/$AU$2,1) -> 0 | AW20: =IF(AT20="",0,20) -> 0 | AX20: =IF(AT20=1,30,IF(AT20=2,20,IF(AT20=3,10,0))) -> 0 | AY20: =IF(AT20="","",AV20+AW20+AX20) | BB20: =CEILING(100*BA20/$BA$2,1) -> 0 | BC20: =IF(AZ20="",0,20) -> 0 | BD20: =IF(AZ20=1,30,IF(AZ20=2,20,IF(AZ20=3,10,0))) -> 0 | BE20: =IF(AZ20="","",BB20+BC20+BD20) | BH20: =CEILING(100*BG20/$BG$2,1) -> 0 | BI20: =IF(BF20="",0,20) -> 0 | BJ20: =IF(BF20=1,30,IF(BF20=2,20,IF(BF20=3,10,0))) -> 0 | BK20: =IF(BF20="","",BH20+BI20+BJ20)
A21: 19 | B21: Yagiz Geray | C21: Blindschack | D21: 2017 | E21: =(R21+X21+AQ21+AD21+AK21+BC21+AW21+BI21)/20 -> 1 | F21: =T21 -> 78 | G21: =Z21 | H21: =AF21 | I21: =AM21 | J21: =AS21 | K21: =AY21 | L21: =BE21 | M21: =BK21 | N21: =IF(E21<4,SUM(F21:M21),SUMPRODUCT(LARGE(F21:M21,{1;2;3;4}))) -> 78 | O21: 16 | P21: 4 | Q21: =CEILING(100*P21/$P$2,1) -> 58 | R21: =IF(O21="",0,20) -> 20 | S21: =IF(O21=1,30,IF(O21=2,20,IF(O21=3,10,0))) -> 0 | T21: =IF(O21="","",Q21+R21+S21) -> 78 | W21: =CEILING(100*V21/$V$2,1) -> 0 | X21: =IF(U21="",0,20) -> 0 | Y21: =IF(U21=1,30,IF(U21=2,20,IF(U21=3,10,0))) -> 0 | Z21: =IF(U21="","",W21+X21+Y21) | AC21: =CEILING(100*AB21/$AB$2,1) -> 0 | AD21: =IF(AA21="",0,20) -> 0 | AE21: =IF(AA21=1,30,IF(AA21=2,20,IF(AA21=3,10,0))) -> 0 | AF21: =IF(AA21="","",AC21+AD21+AE21) | AJ21: =IF(AI21=0,"",CEILING(100*AH21/AI21,1)) | AK21: =IF(AG21="",0,20) -> 0 | AL21: =IF(AG21=1,30,IF(AG21=2,20,IF(AG21=3,10,0))) -> 0 | AM21: =IF(AG21="","",AJ21+AK21+AL21) | AP21: =CEILING(100*AO21/$AO$2,1) -> 0 | AQ21: =IF(AN21="",0,20) -> 0 | AR21: =IF(AN21=1,30,IF(AN21=2,20,IF(AN21=3,10,0))) -> 0 | AS21: =IF(AN21="","",AP21+AQ21+AR21) | AV21: =CEILING(100*AU21/$AU$2,1) -> 0 | AW21: =IF(AT21="",0,20) -> 0 | AX21: =IF(AT21=1,30,IF(AT21=2,20,IF(AT21=3,10,0))) -> 0 | AY21: =IF(AT21="","",AV21+AW21+AX21) | BB21: =CEILING(100*BA21/$BA$2,1) -> 0 | BC21: =IF(AZ21="",0,20) -> 0 | BD21: =IF(AZ21=1,30,IF(AZ21=2,20,IF(AZ21=3,10,0))) -> 0 | BE21: =IF(AZ21="","",BB21+BC21+BD21) | BH21: =CEILING(100*BG21/$BG$2,1) -> 0 | BI21: =IF(BF21="",0,20) -> 0 | BJ21: =IF(BF21=1,30,IF(BF21=2,20,IF(BF21=3,10,0))) -> 0 | BK21: =IF(BF21="","",BH21+BI21+BJ21)
A22: 20 | B22: Bhavik Sai Setikam | C22: Helsingborgs ASK | D22: 2018 | E22: =(R22+X22+AQ22+AD22+AK22+BC22+AW22+BI22)/20 -> 1 | F22: =T22 -> 78 | G22: =Z22 | H22: =AF22 | I22: =AM22 | J22: =AS22 | K22: =AY22 | L22: =BE22 | M22: =BK22 | N22: =IF(E22<4,SUM(F22:M22),SUMPRODUCT(LARGE(F22:M22,{1;2;3;4}))) -> 78 | O22: 17 | P22: 4 | Q22: =CEILING(100*P22/$P$2,1) -> 58 | R22: =IF(O22="",0,20) -> 20 | S22: =IF(O22=1,30,IF(O22=2,20,IF(O22=3,10,0))) -> 0 | T22: =IF(O22="","",Q22+R22+S22) -> 78 | W22: =CEILING(100*V22/$V$2,1) -> 0 | X22: =IF(U22="",0,20) -> 0 | Y22: =IF(U22=1,30,IF(U22=2,20,IF(U22=3,10,0))) -> 0 | Z22: =IF(U22="","",W22+X22+Y22) | AC22: =CEILING(100*AB22/$AB$2,1) -> 0 | AD22: =IF(AA22="",0,20) -> 0 | AE22: =IF(AA22=1,30,IF(AA22=2,20,IF(AA22=3,10,0))) -> 0 | AF22: =IF(AA22="","",AC22+AD22+AE22) | AJ22: =IF(AI22=0,"",CEILING(100*AH22/AI22,1)) | AK22: =IF(AG22="",0,20) -> 0 | AL22: =IF(AG22=1,30,IF(AG22=2,20,IF(AG22=3,10,0))) -> 0 | AM22: =IF(AG22="","",AJ22+AK22+AL22) | AP22: =CEILING(100*AO22/$AO$2,1) -> 0 | AQ22: =IF(AN22="",0,20) -> 0 | AR22: =IF(AN22=1,30,IF(AN22=2,20,IF(AN22=3,10,0))) -> 0 | AS22: =IF(AN22="","",AP22+AQ22+AR22) | AV22: =CEILING(100*AU22/$AU$2,1) -> 0 | AW22: =IF(AT22="",0,20) -> 0 | AX22: =IF(AT22=1,30,IF(AT22=2,20,IF(AT22=3,10,0))) -> 0 | AY22: =IF(AT22="","",AV22+AW22+AX22) | BB22: =CEILING(100*BA22/$BA$2,1) -> 0 | BC22: =IF(AZ22="",0,20) -> 0 | BD22: =IF(AZ22=1,30,IF(AZ22=2,20,IF(AZ22=3,10,0))) -> 0 | BE22: =IF(AZ22="","",BB22+BC22+BD22) | BH22: =CEILING(100*BG22/$BG$2,1) -> 0 | BI22: =IF(BF22="",0,20) -> 0 | BJ22: =IF(BF22=1,30,IF(BF22=2,20,IF(BF22=3,10,0))) -> 0 | BK22: =IF(BF22="","",BH22+BI22+BJ22)
... A29: 27 | B29: Shrihaan Angara | C29: Helsingborgs ASK | D29: 2019 | E29: =(R29+X29+AQ29+AD29+AK29+BC29+AW29+BI29)/20 -> 1 | F29: =T29 -> 70 | G29: =Z29 | H29: =AF29 | I29: =AM29 | J29: =AS29 | K29: =AY29 | L29: =BE29 | M29: =BK29 | N29: =IF(E29<4,SUM(F29:M29),SUMPRODUCT(LARGE(F29:M29,{1;2;3;4}))) -> 70 | O29: 25 | P29: 3.5 | Q29: =CEILING(100*P29/$P$2,1) -> 50 | R29: =IF(O29="",0,20) -> 20 | S29: =IF(O29=1,30,IF(O29=2,20,IF(O29=3,10,0))) -> 0 | T29: =IF(O29="","",Q29+R29+S29) -> 70 | W29: =CEILING(100*V29/$V$2,1) -> 0 | X29: =IF(U29="",0,20) -> 0 | Y29: =IF(U29=1,30,IF(U29=2,20,IF(U29=3,10,0))) -> 0 | Z29: =IF(U29="","",W29+X29+Y29) | AC29: =CEILING(100*AB29/$AB$2,1) -> 0 | AD29: =IF(AA29="",0,20) -> 0 | AE29: =IF(AA29=1,30,IF(AA29=2,20,IF(AA29=3,10,0))) -> 0 | AF29: =IF(AA29="","",AC29+AD29+AE29) | AJ29: =IF(AI29=0,"",CEILING(100*AH29/AI29,1)) | AK29: =IF(AG29="",0,20) -> 0 | AL29: =IF(AG29=1,30,IF(AG29=2,20,IF(AG29=3,10,0))) -> 0 | AM29: =IF(AG29="","",AJ29+AK29+AL29) | AP29: =CEILING(100*AO29/$AO$2,1) -> 0 | AQ29: =IF(AN29="",0,20) -> 0 | AR29: =IF(AN29=1,30,IF(AN29=2,20,IF(AN29=3,10,0))) -> 0 | AS29: =IF(AN29="","",AP29+AQ29+AR29) | AV29: =CEILING(100*AU29/$AU$2,1) -> 0 | AW29: =IF(AT29="",0,20) -> 0 | AX29: =IF(AT29=1,30,IF(AT29=2,20,IF(AT29=3,10,0))) -> 0 | AY29: =IF(AT29="","",AV29+AW29+AX29) | BB29: =CEILING(100*BA29/$BA$2,1) -> 0 | BC29: =IF(AZ29="",0,20) -> 0 | BD29: =IF(AZ29=1,30,IF(AZ29=2,20,IF(AZ29=3,10,0))) -> 0 | BE29: =IF(AZ29="","",BB29+BC29+BD29) | BH29: =CEILING(100*BG29/$BG$2,1) -> 0 | BI29: =IF(BF29="",0,20) -> 0 | BJ29: =IF(BF29=1,30,IF(BF29=2,20,IF(BF29=3,10,0))) -> 0 | BK29: =IF(BF29="","",BH29+BI29+BJ29)
A30: 28 | B30: Emil Bergh | C30: SK Bara Bönder | D30: 2017 | E30: =(R30+X30+AQ30+AD30+AK30+BC30+AW30+BI30)/20 -> 1 | F30: =T30 | G30: =Z30 -> 66 | H30: =AF30 | I30: =AM30 | J30: =AS30 | K30: =AY30 | L30: =BE30 | M30: =BK30 | N30: =IF(E30<4,SUM(F30:M30),SUMPRODUCT(LARGE(F30:M30,{1;2;3;4}))) -> 66 | Q30: =CEILING(100*P30/$P$2,1) -> 0 | R30: =IF(O30="",0,20) -> 0 | S30: =IF(O30=1,30,IF(O30=2,20,IF(O30=3,10,0))) -> 0 | T30: =IF(O30="","",Q30+R30+S30) | U30: 26 | V30: 5 | W30: =CEILING(100*V30/$V$2,1) -> 46 | X30: =IF(U30="",0,20) -> 20 | Y30: =IF(U30=1,30,IF(U30=2,20,IF(U30=3,10,0))) -> 0 | Z30: =IF(U30="","",W30+X30+Y30) -> 66 | AC30: =CEILING(100*AB30/$AB$2,1) -> 0 | AD30: =IF(AA30="",0,20) -> 0 | AE30: =IF(AA30=1,30,IF(AA30=2,20,IF(AA30=3,10,0))) -> 0 | AF30: =IF(AA30="","",AC30+AD30+AE30) | AJ30: =IF(AI30=0,"",CEILING(100*AH30/AI30,1)) | AK30: =IF(AG30="",0,20) -> 0 | AL30: =IF(AG30=1,30,IF(AG30=2,20,IF(AG30=3,10,0))) -> 0 | AM30: =IF(AG30="","",AJ30+AK30+AL30) | AP30: =CEILING(100*AO30/$AO$2,1) -> 0 | AQ30: =IF(AN30="",0,20) -> 0 | AR30: =IF(AN30=1,30,IF(AN30=2,20,IF(AN30=3,10,0))) -> 0 | AS30: =IF(AN30="","",AP30+AQ30+AR30) | AV30: =CEILING(100*AU30/$AU$2,1) -> 0 | AW30: =IF(AT30="",0,20) -> 0 | AX30: =IF(AT30=1,30,IF(AT30=2,20,IF(AT30=3,10,0))) -> 0 | AY30: =IF(AT30="","",AV30+AW30+AX30) | BB30: =CEILING(100*BA30/$BA$2,1) -> 0 | BC30: =IF(AZ30="",0,20) -> 0 | BD30: =IF(AZ30=1,30,IF(AZ30=2,20,IF(AZ30=3,10,0))) -> 0 | BE30: =IF(AZ30="","",BB30+BC30+BD30) | BH30: =CEILING(100*BG30/$BG$2,1) -> 0 | BI30: =IF(BF30="",0,20) -> 0 | BJ30: =IF(BF30=1,30,IF(BF30=2,20,IF(BF30=3,10,0))) -> 0 | BK30: =IF(BF30="","",BH30+BI30+BJ30)
A31: 29 | B31: Samadrita Guharoy | C31: Helsingborgs ASK | D31: 2017 | E31: =(R31+X31+AQ31+AD31+AK31+BC31+AW31+BI31)/20 -> 1 | F31: =T31 -> 63 | G31: =Z31 | H31: =AF31 | I31: =AM31 | J31: =AS31 | K31: =AY31 | L31: =BE31 | M31: =BK31 | N31: =IF(E31<4,SUM(F31:M31),SUMPRODUCT(LARGE(F31:M31,{1;2;3;4}))) -> 63 | O31: 26 | P31: 3 | Q31: =CEILING(100*P31/$P$2,1) -> 43 | R31: =IF(O31="",0,20) -> 20 | S31: =IF(O31=1,30,IF(O31=2,20,IF(O31=3,10,0))) -> 0 | T31: =IF(O31="","",Q31+R31+S31) -> 63 | W31: =CEILING(100*V31/$V$2,1) -> 0 | X31: =IF(U31="",0,20) -> 0 | Y31: =IF(U31=1,30,IF(U31=2,20,IF(U31=3,10,0))) -> 0 | Z31: =IF(U31="","",W31+X31+Y31) | AC31: =CEILING(100*AB31/$AB$2,1) -> 0 | AD31: =IF(AA31="",0,20) -> 0 | AE31: =IF(AA31=1,30,IF(AA31=2,20,IF(AA31=3,10,0))) -> 0 | AF31: =IF(AA31="","",AC31+AD31+AE31) | AJ31: =IF(AI31=0,"",CEILING(100*AH31/AI31,1)) | AK31: =IF(AG31="",0,20) -> 0 | AL31: =IF(AG31=1,30,IF(AG31=2,20,IF(AG31=3,10,0))) -> 0 | AM31: =IF(AG31="","",AJ31+AK31+AL31) | AP31: =CEILING(100*AO31/$AO$2,1) -> 0 | AQ31: =IF(AN31="",0,20) -> 0 | AR31: =IF(AN31=1,30,IF(AN31=2,20,IF(AN31=3,10,0))) -> 0 | AS31: =IF(AN31="","",AP31+AQ31+AR31) | AV31: =CEILING(100*AU31/$AU$2,1) -> 0 | AW31: =IF(AT31="",0,20) -> 0 | AX31: =IF(AT31=1,30,IF(AT31=2,20,IF(AT31=3,10,0))) -> 0 | AY31: =IF(AT31="","",AV31+AW31+AX31) | BB31: =CEILING(100*BA31/$BA$2,1) -> 0 | BC31: =IF(AZ31="",0,20) -> 0 | BD31: =IF(AZ31=1,30,IF(AZ31=2,20,IF(AZ31=3,10,0))) -> 0 | BE31: =IF(AZ31="","",BB31+BC31+BD31) | BH31: =CEILING(100*BG31/$BG$2,1) -> 0 | BI31: =IF(BF31="",0,20) -> 0 | BJ31: =IF(BF31=1,30,IF(BF31=2,20,IF(BF31=3,10,0))) -> 0 | BK31: =IF(BF31="","",BH31+BI31+BJ31)
A32: 30 | B32: Mokshath Yanamadala | C32: Helsingborgs ASK | D32: 2018 | E32: =(R32+X32+AQ32+AD32+AK32+BC32+AW32+BI32)/20 -> 1 | F32: =T32 -> 63 | G32: =Z32 | H32: =AF32 | I32: =AM32 | J32: =AS32 | K32: =AY32 | L32: =BE32 | M32: =BK32 | N32: =IF(E32<4,SUM(F32:M32),SUMPRODUCT(LARGE(F32:M32,{1;2;3;4}))) -> 63 | O32: 27 | P32: 3 | Q32: =CEILING(100*P32/$P$2,1) -> 43 | R32: =IF(O32="",0,20) -> 20 | S32: =IF(O32=1,30,IF(O32=2,20,IF(O32=3,10,0))) -> 0 | T32: =IF(O32="","",Q32+R32+S32) -> 63 | W32: =CEILING(100*V32/$V$2,1) -> 0 | X32: =IF(U32="",0,20) -> 0 | Y32: =IF(U32=1,30,IF(U32=2,20,IF(U32=3,10,0))) -> 0 | Z32: =IF(U32="","",W32+X32+Y32) | AC32: =CEILING(100*AB32/$AB$2,1) -> 0 | AD32: =IF(AA32="",0,20) -> 0 | AE32: =IF(AA32=1,30,IF(AA32=2,20,IF(AA32=3,10,0))) -> 0 | AF32: =IF(AA32="","",AC32+AD32+AE32) | AJ32: =IF(AI32=0,"",CEILING(100*AH32/AI32,1)) | AK32: =IF(AG32="",0,20) -> 0 | AL32: =IF(AG32=1,30,IF(AG32=2,20,IF(AG32=3,10,0))) -> 0 | AM32: =IF(AG32="","",AJ32+AK32+AL32) | AP32: =CEILING(100*AO32/$AO$2,1) -> 0 | AQ32: =IF(AN32="",0,20) -> 0 | AR32: =IF(AN32=1,30,IF(AN32=2,20,IF(AN32=3,10,0))) -> 0 | AS32: =IF(AN32="","",AP32+AQ32+AR32) | AV32: =CEILING(100*AU32/$AU$2,1) -> 0 | AW32: =IF(AT32="",0,20) -> 0 | AX32: =IF(AT32=1,30,IF(AT32=2,20,IF(AT32=3,10,0))) -> 0 | AY32: =IF(AT32="","",AV32+AW32+AX32) | BB32: =CEILING(100*BA32/$BA$2,1) -> 0 | BC32: =IF(AZ32="",0,20) -> 0 | BD32: =IF(AZ32=1,30,IF(AZ32=2,20,IF(AZ32=3,10,0))) -> 0 | BE32: =IF(AZ32="","",BB32+BC32+BD32) | BH32: =CEILING(100*BG32/$BG$2,1) -> 0 | BI32: =IF(BF32="",0,20) -> 0 | BJ32: =IF(BF32=1,30,IF(BF32=2,20,IF(BF32=3,10,0))) -> 0 | BK32: =IF(BF32="","",BH32+BI32+BJ32)
A33: 31 | B33: Leo Sköld Zubanovic | C33: Blindschack | D33: 2016 | E33: =(R33+X33+AQ33+AD33+AK33+BC33+AW33+BI33)/20 -> 1 | F33: =T33 -> 63 | G33: =Z33 | H33: =AF33 | I33: =AM33 | J33: =AS33 | K33: =AY33 | L33: =BE33 | M33: =BK33 | N33: =IF(E33<4,SUM(F33:M33),SUMPRODUCT(LARGE(F33:M33,{1;2;3;4}))) -> 63 | O33: 28 | P33: 3 | Q33: =CEILING(100*P33/$P$2,1) -> 43 | R33: =IF(O33="",0,20) -> 20 | S33: =IF(O33=1,30,IF(O33=2,20,IF(O33=3,10,0))) -> 0 | T33: =IF(O33="","",Q33+R33+S33) -> 63 | W33: =CEILING(100*V33/$V$2,1) -> 0 | X33: =IF(U33="",0,20) -> 0 | Y33: =IF(U33=1,30,IF(U33=2,20,IF(U33=3,10,0))) -> 0 | Z33: =IF(U33="","",W33+X33+Y33) | AC33: =CEILING(100*AB33/$AB$2,1) -> 0 | AD33: =IF(AA33="",0,20) -> 0 | AE33: =IF(AA33=1,30,IF(AA33=2,20,IF(AA33=3,10,0))) -> 0 | AF33: =IF(AA33="","",AC33+AD33+AE33) | AJ33: =IF(AI33=0,"",CEILING(100*AH33/AI33,1)) | AK33: =IF(AG33="",0,20) -> 0 | AL33: =IF(AG33=1,30,IF(AG33=2,20,IF(AG33=3,10,0))) -> 0 | AM33: =IF(AG33="","",AJ33+AK33+AL33) | AP33: =CEILING(100*AO33/$AO$2,1) -> 0 | AQ33: =IF(AN33="",0,20) -> 0 | AR33: =IF(AN33=1,30,IF(AN33=2,20,IF(AN33=3,10,0))) -> 0 | AS33: =IF(AN33="","",AP33+AQ33+AR33) | AV33: =CEILING(100*AU33/$AU$2,1) -> 0 | AW33: =IF(AT33="",0,20) -> 0 | AX33: =IF(AT33=1,30,IF(AT33=2,20,IF(AT33=3,10,0))) -> 0 | AY33: =IF(AT33="","",AV33+AW33+AX33) | BB33: =CEILING(100*BA33/$BA$2,1) -> 0 | BC33: =IF(AZ33="",0,20) -> 0 | BD33: =IF(AZ33=1,30,IF(AZ33=2,20,IF(AZ33=3,10,0))) -> 0 | BE33: =IF(AZ33="","",BB33+BC33+BD33) | BH33: =CEILING(100*BG33/$BG$2,1) -> 0 | BI33: =IF(BF33="",0,20) -> 0 | BJ33: =IF(BF33=1,30,IF(BF33=2,20,IF(BF33=3,10,0))) -> 0 | BK33: =IF(BF33="","",BH33+BI33+BJ33)
A34: 32 | B34: Anisha Jain | C34: Limhamns SK | D34: 2016 | E34: =(R34+X34+AQ34+AD34+AK34+BC34+AW34+BI34)/20 -> 1 | F34: =T34 -> 63 | G34: =Z34 | H34: =AF34 | I34: =AM34 | J34: =AS34 | K34: =AY34 | L34: =BE34 | M34: =BK34 | N34: =IF(E34<4,SUM(F34:M34),SUMPRODUCT(LARGE(F34:M34,{1;2;3;4}))) -> 63 | O34: 29 | P34: 3 | Q34: =CEILING(100*P34/$P$2,1) -> 43 | R34: =IF(O34="",0,20) -> 20 | S34: =IF(O34=1,30,IF(O34=2,20,IF(O34=3,10,0))) -> 0 | T34: =IF(O34="","",Q34+R34+S34) -> 63 | W34: =CEILING(100*V34/$V$2,1) -> 0 | X34: =IF(U34="",0,20) -> 0 | Y34: =IF(U34=1,30,IF(U34=2,20,IF(U34=3,10,0))) -> 0 | Z34: =IF(U34="","",W34+X34+Y34) | AC34: =CEILING(100*AB34/$AB$2,1) -> 0 | AD34: =IF(AA34="",0,20) -> 0 | AE34: =IF(AA34=1,30,IF(AA34=2,20,IF(AA34=3,10,0))) -> 0 | AF34: =IF(AA34="","",AC34+AD34+AE34) | AJ34: =IF(AI34=0,"",CEILING(100*AH34/AI34,1)) | AK34: =IF(AG34="",0,20) -> 0 | AL34: =IF(AG34=1,30,IF(AG34=2,20,IF(AG34=3,10,0))) -> 0 | AM34: =IF(AG34="","",AJ34+AK34+AL34) | AP34: =CEILING(100*AO34/$AO$2,1) -> 0 | AQ34: =IF(AN34="",0,20) -> 0 | AR34: =IF(AN34=1,30,IF(AN34=2,20,IF(AN34=3,10,0))) -> 0 | AS34: =IF(AN34="","",AP34+AQ34+AR34) | AV34: =CEILING(100*AU34/$AU$2,1) -> 0 | AW34: =IF(AT34="",0,20) -> 0 | AX34: =IF(AT34=1,30,IF(AT34=2,20,IF(AT34=3,10,0))) -> 0 | AY34: =IF(AT34="","",AV34+AW34+AX34) | BB34: =CEILING(100*BA34/$BA$2,1) -> 0 | BC34: =IF(AZ34="",0,20) -> 0 | BD34: =IF(AZ34=1,30,IF(AZ34=2,20,IF(AZ34=3,10,0))) -> 0 | BE34: =IF(AZ34="","",BB34+BC34+BD34) | BH34: =CEILING(100*BG34/$BG$2,1) -> 0 | BI34: =IF(BF34="",0,20) -> 0 | BJ34: =IF(BF34=1,30,IF(BF34=2,20,IF(BF34=3,10,0))) -> 0 | BK34: =IF(BF34="","",BH34+BI34+BJ34)
A35: 33 | B35: William Exner | C35: Lunds ASK | D35: 2019 | E35: =(R35+X35+AQ35+AD35+AK35+BC35+AW35+BI35)/20 -> 1 | F35: =T35 -> 63 | G35: =Z35 | H35: =AF35 | I35: =AM35 | J35: =AS35 | K35: =AY35 | L35: =BE35 | M35: =BK35 | N35: =IF(E35<4,SUM(F35:M35),SUMPRODUCT(LARGE(F35:M35,{1;2;3;4}))) -> 63 | O35: 30 | P35: 3 | Q35: =CEILING(100*P35/$P$2,1) -> 43 | R35: =IF(O35="",0,20) -> 20 | S35: =IF(O35=1,30,IF(O35=2,20,IF(O35=3,10,0))) -> 0 | T35: =IF(O35="","",Q35+R35+S35) -> 63 | W35: =CEILING(100*V35/$V$2,1) -> 0 | X35: =IF(U35="",0,20) -> 0 | Y35: =IF(U35=1,30,IF(U35=2,20,IF(U35=3,10,0))) -> 0 | Z35: =IF(U35="","",W35+X35+Y35) | AC35: =CEILING(100*AB35/$AB$2,1) -> 0 | AD35: =IF(AA35="",0,20) -> 0 | AE35: =IF(AA35=1,30,IF(AA35=2,20,IF(AA35=3,10,0))) -> 0 | AF35: =IF(AA35="","",AC35+AD35+AE35) | AJ35: =IF(AI35=0,"",CEILING(100*AH35/AI35,1)) | AK35: =IF(AG35="",0,20) -> 0 | AL35: =IF(AG35=1,30,IF(AG35=2,20,IF(AG35=3,10,0))) -> 0 | AM35: =IF(AG35="","",AJ35+AK35+AL35) | AP35: =CEILING(100*AO35/$AO$2,1) -> 0 | AQ35: =IF(AN35="",0,20) -> 0 | AR35: =IF(AN35=1,30,IF(AN35=2,20,IF(AN35=3,10,0))) -> 0 | AS35: =IF(AN35="","",AP35+AQ35+AR35) | AV35: =CEILING(100*AU35/$AU$2,1) -> 0 | AW35: =IF(AT35="",0,20) -> 0 | AX35: =IF(AT35=1,30,IF(AT35=2,20,IF(AT35=3,10,0))) -> 0 | AY35: =IF(AT35="","",AV35+AW35+AX35) | BB35: =CEILING(100*BA35/$BA$2,1) -> 0 | BC35: =IF(AZ35="",0,20) -> 0 | BD35: =IF(AZ35=1,30,IF(AZ35=2,20,IF(AZ35=3,10,0))) -> 0 | BE35: =IF(AZ35="","",BB35+BC35+BD35) | BH35: =CEILING(100*BG35/$BG$2,1) -> 0 | BI35: =IF(BF35="",0,20) -> 0 | BJ35: =IF(BF35=1,30,IF(BF35=2,20,IF(BF35=3,10,0))) -> 0 | BK35: =IF(BF35="","",BH35+BI35+BJ35)
A36: 34 | B36: Ruwan Rathi | C36: Limhamns SK | D36: 2017 | E36: =(R36+X36+AQ36+AD36+AK36+BC36+AW36+BI36)/20 -> 1 | F36: =T36 -> 63 | G36: =Z36 | H36: =AF36 | I36: =AM36 | J36: =AS36 | K36: =AY36 | L36: =BE36 | M36: =BK36 | N36: =IF(E36<4,SUM(F36:M36),SUMPRODUCT(LARGE(F36:M36,{1;2;3;4}))) -> 63 | O36: 32 | P36: 3 | Q36: =CEILING(100*P36/$P$2,1) -> 43 | R36: =IF(O36="",0,20) -> 20 | S36: =IF(O36=1,30,IF(O36=2,20,IF(O36=3,10,0))) -> 0 | T36: =IF(O36="","",Q36+R36+S36) -> 63 | W36: =CEILING(100*V36/$V$2,1) -> 0 | X36: =IF(U36="",0,20) -> 0 | Y36: =IF(U36=1,30,IF(U36=2,20,IF(U36=3,10,0))) -> 0 | Z36: =IF(U36="","",W36+X36+Y36) | AC36: =CEILING(100*AB36/$AB$2,1) -> 0 | AD36: =IF(AA36="",0,20) -> 0 | AE36: =IF(AA36=1,30,IF(AA36=2,20,IF(AA36=3,10,0))) -> 0 | AF36: =IF(AA36="","",AC36+AD36+AE36) | AJ36: =IF(AI36=0,"",CEILING(100*AH36/AI36,1)) | AK36: =IF(AG36="",0,20) -> 0 | AL36: =IF(AG36=1,30,IF(AG36=2,20,IF(AG36=3,10,0))) -> 0 | AM36: =IF(AG36="","",AJ36+AK36+AL36) | AP36: =CEILING(100*AO36/$AO$2,1) -> 0 | AQ36: =IF(AN36="",0,20) -> 0 | AR36: =IF(AN36=1,30,IF(AN36=2,20,IF(AN36=3,10,0))) -> 0 | AS36: =IF(AN36="","",AP36+AQ36+AR36) | AV36: =CEILING(100*AU36/$AU$2,1) -> 0 | AW36: =IF(AT36="",0,20) -> 0 | AX36: =IF(AT36=1,30,IF(AT36=2,20,IF(AT36=3,10,0))) -> 0 | AY36: =IF(AT36="","",AV36+AW36+AX36) | BB36: =CEILING(100*BA36/$BA$2,1) -> 0 | BC36: =IF(AZ36="",0,20) -> 0 | BD36: =IF(AZ36=1,30,IF(AZ36=2,20,IF(AZ36=3,10,0))) -> 0 | BE36: =IF(AZ36="","",BB36+BC36+BD36) | BH36: =CEILING(100*BG36/$BG$2,1) -> 0 | BI36: =IF(BF36="",0,20) -> 0 | BJ36: =IF(BF36=1,30,IF(BF36=2,20,IF(BF36=3,10,0))) -> 0 | BK36: =IF(BF36="","",BH36+BI36+BJ36)
A37: 35 | B37: Hamsini Bathini | C37: Limhamns SK | D37: 2017 | E37: =(R37+X37+AQ37+AD37+AK37+BC37+AW37+BI37)/20 -> 1 | F37: =T37 -> 63 | G37: =Z37 | H37: =AF37 | I37: =AM37 | J37: =AS37 | K37: =AY37 | L37: =BE37 | M37: =BK37 | N37: =IF(E37<4,SUM(F37:M37),SUMPRODUCT(LARGE(F37:M37,{1;2;3;4}))) -> 63 | O37: 33 | P37: 3 | Q37: =CEILING(100*P37/$P$2,1) -> 43 | R37: =IF(O37="",0,20) -> 20 | S37: =IF(O37=1,30,IF(O37=2,20,IF(O37=3,10,0))) -> 0 | T37: =IF(O37="","",Q37+R37+S37) -> 63 | W37: =CEILING(100*V37/$V$2,1) -> 0 | X37: =IF(U37="",0,20) -> 0 | Y37: =IF(U37=1,30,IF(U37=2,20,IF(U37=3,10,0))) -> 0 | Z37: =IF(U37="","",W37+X37+Y37) | AC37: =CEILING(100*AB37/$AB$2,1) -> 0 | AD37: =IF(AA37="",0,20) -> 0 | AE37: =IF(AA37=1,30,IF(AA37=2,20,IF(AA37=3,10,0))) -> 0 | AF37: =IF(AA37="","",AC37+AD37+AE37) | AJ37: =IF(AI37=0,"",CEILING(100*AH37/AI37,1)) | AK37: =IF(AG37="",0,20) -> 0 | AL37: =IF(AG37=1,30,IF(AG37=2,20,IF(AG37=3,10,0))) -> 0 | AM37: =IF(AG37="","",AJ37+AK37+AL37) | AP37: =CEILING(100*AO37/$AO$2,1) -> 0 | AQ37: =IF(AN37="",0,20) -> 0 | AR37: =IF(AN37=1,30,IF(AN37=2,20,IF(AN37=3,10,0))) -> 0 | AS37: =IF(AN37="","",AP37+AQ37+AR37) | AV37: =CEILING(100*AU37/$AU$2,1) -> 0 | AW37: =IF(AT37="",0,20) -> 0 | AX37: =IF(AT37=1,30,IF(AT37=2,20,IF(AT37=3,10,0))) -> 0 | AY37: =IF(AT37="","",AV37+AW37+AX37) | BB37: =CEILING(100*BA37/$BA$2,1) -> 0 | BC37: =IF(AZ37="",0,20) -> 0 | BD37: =IF(AZ37=1,30,IF(AZ37=2,20,IF(AZ37=3,10,0))) -> 0 | BE37: =IF(AZ37="","",BB37+BC37+BD37) | BH37: =CEILING(100*BG37/$BG$2,1) -> 0 | BI37: =IF(BF37="",0,20) -> 0 | BJ37: =IF(BF37=1,30,IF(BF37=2,20,IF(BF37=3,10,0))) -> 0 | BK37: =IF(BF37="","",BH37+BI37+BJ37)
A38: 36 | B38: Alfred Mares Johansson | C38: SK Sandlöparen | D38: 2016 | E38: =(R38+X38+AQ38+AD38+AK38+BC38+AW38+BI38)/20 -> 1 | F38: =T38 | G38: =Z38 -> 57 | H38: =AF38 | I38: =AM38 | J38: =AS38 | K38: =AY38 | L38: =BE38 | M38: =BK38 | N38: =IF(E38<4,SUM(F38:M38),SUMPRODUCT(LARGE(F38:M38,{1;2;3;4}))) -> 57 | Q38: =CEILING(100*P38/$P$2,1) -> 0 | R38: =IF(O38="",0,20) -> 0 | S38: =IF(O38=1,30,IF(O38=2,20,IF(O38=3,10,0))) -> 0 | T38: =IF(O38="","",Q38+R38+S38) | U38: 35 | V38: 4 | W38: =CEILING(100*V38/$V$2,1) -> 37 | X38: =IF(U38="",0,20) -> 20 | Y38: =IF(U38=1,30,IF(U38=2,20,IF(U38=3,10,0))) -> 0 | Z38: =IF(U38="","",W38+X38+Y38) -> 57 | AC38: =CEILING(100*AB38/$AB$2,1) -> 0 | AD38: =IF(AA38="",0,20) -> 0 | AE38: =IF(AA38=1,30,IF(AA38=2,20,IF(AA38=3,10,0))) -> 0 | AF38: =IF(AA38="","",AC38+AD38+AE38) | AJ38: =IF(AI38=0,"",CEILING(100*AH38/AI38,1)) | AK38: =IF(AG38="",0,20) -> 0 | AL38: =IF(AG38=1,30,IF(AG38=2,20,IF(AG38=3,10,0))) -> 0 | AM38: =IF(AG38="","",AJ38+AK38+AL38) | AP38: =CEILING(100*AO38/$AO$2,1) -> 0 | AQ38: =IF(AN38="",0,20) -> 0 | AR38: =IF(AN38=1,30,IF(AN38=2,20,IF(AN38=3,10,0))) -> 0 | AS38: =IF(AN38="","",AP38+AQ38+AR38) | AV38: =CEILING(100*AU38/$AU$2,1) -> 0 | AW38: =IF(AT38="",0,20) -> 0 | AX38: =IF(AT38=1,30,IF(AT38=2,20,IF(AT38=3,10,0))) -> 0 | AY38: =IF(AT38="","",AV38+AW38+AX38) | BB38: =CEILING(100*BA38/$BA$2,1) -> 0 | BC38: =IF(AZ38="",0,20) -> 0 | BD38: =IF(AZ38=1,30,IF(AZ38=2,20,IF(AZ38=3,10,0))) -> 0 | BE38: =IF(AZ38="","",BB38+BC38+BD38) | BH38: =CEILING(100*BG38/$BG$2,1) -> 0 | BI38: =IF(BF38="",0,20) -> 0 | BJ38: =IF(BF38=1,30,IF(BF38=2,20,IF(BF38=3,10,0))) -> 0 | BK38: =IF(BF38="","",BH38+BI38+BJ38)
A39: 37 | B39: Felix Mannerberg | C39: Limhamns SK | D39: 2016 | E39: =(R39+X39+AQ39+AD39+AK39+BC39+AW39+BI39)/20 -> 1 | F39: =T39 -> 56 | G39: =Z39 | H39: =AF39 | I39: =AM39 | J39: =AS39 | K39: =AY39 | L39: =BE39 | M39: =BK39 | N39: =IF(E39<4,SUM(F39:M39),SUMPRODUCT(LARGE(F39:M39,{1;2;3;4}))) -> 56 | O39: 34 | P39: 2.5 | Q39: =CEILING(100*P39/$P$2,1) -> 36 | R39: =IF(O39="",0,20) -> 20 | S39: =IF(O39=1,30,IF(O39=2,20,IF(O39=3,10,0))) -> 0 | T39: =IF(O39="","",Q39+R39+S39) -> 56 | W39: =CEILING(100*V39/$V$2,1) -> 0 | X39: =IF(U39="",0,20) -> 0 | Y39: =IF(U39=1,30,IF(U39=2,20,IF(U39=3,10,0))) -> 0 | Z39: =IF(U39="","",W39+X39+Y39) | AC39: =CEILING(100*AB39/$AB$2,1) -> 0 | AD39: =IF(AA39="",0,20) -> 0 | AE39: =IF(AA39=1,30,IF(AA39=2,20,IF(AA39=3,10,0))) -> 0 | AF39: =IF(AA39="","",AC39+AD39+AE39) | AJ39: =IF(AI39=0,"",CEILING(100*AH39/AI39,1)) | AK39: =IF(AG39="",0,20) -> 0 | AL39: =IF(AG39=1,30,IF(AG39=2,20,IF(AG39=3,10,0))) -> 0 | AM39: =IF(AG39="","",AJ39+AK39+AL39) | AP39: =CEILING(100*AO39/$AO$2,1) -> 0 | AQ39: =IF(AN39="",0,20) -> 0 | AR39: =IF(AN39=1,30,IF(AN39=2,20,IF(AN39=3,10,0))) -> 0 | AS39: =IF(AN39="","",AP39+AQ39+AR39) | AV39: =CEILING(100*AU39/$AU$2,1) -> 0 | AW39: =IF(AT39="",0,20) -> 0 | AX39: =IF(AT39=1,30,IF(AT39=2,20,IF(AT39=3,10,0))) -> 0 | AY39: =IF(AT39="","",AV39+AW39+AX39) | BB39: =CEILING(100*BA39/$BA$2,1) -> 0 | BC39: =IF(AZ39="",0,20) -> 0 | BD39: =IF(AZ39=1,30,IF(AZ39=2,20,IF(AZ39=3,10,0))) -> 0 | BE39: =IF(AZ39="","",BB39+BC39+BD39) | BH39: =CEILING(100*BG39/$BG$2,1) -> 0 | BI39: =IF(BF39="",0,20) -> 0 | BJ39: =IF(BF39=1,30,IF(BF39=2,20,IF(BF39=3,10,0))) -> 0 | BK39: =IF(BF39="","",BH39+BI39+BJ39)
A40: 38 | B40: Fabian Larsson | C40: Limhamns SK | D40: 2019 | E40: =(R40+X40+AQ40+AD40+AK40+BC40+AW40+BI40)/20 -> 1 | F40: =T40 -> 56 | G40: =Z40 | H40: =AF40 | I40: =AM40 | J40: =AS40 | K40: =AY40 | L40: =BE40 | M40: =BK40 | N40: =IF(E40<4,SUM(F40:M40),SUMPRODUCT(LARGE(F40:M40,{1;2;3;4}))) -> 56 | O40: 35 | P40: 2.5 | Q40: =CEILING(100*P40/$P$2,1) -> 36 | R40: =IF(O40="",0,20) -> 20 | S40: =IF(O40=1,30,IF(O40=2,20,IF(O40=3,10,0))) -> 0 | T40: =IF(O40="","",Q40+R40+S40) -> 56 | W40: =CEILING(100*V40/$V$2,1) -> 0 | X40: =IF(U40="",0,20) -> 0 | Y40: =IF(U40=1,30,IF(U40=2,20,IF(U40=3,10,0))) -> 0 | Z40: =IF(U40="","",W40+X40+Y40) | AC40: =CEILING(100*AB40/$AB$2,1) -> 0 | AD40: =IF(AA40="",0,20) -> 0 | AE40: =IF(AA40=1,30,IF(AA40=2,20,IF(AA40=3,10,0))) -> 0 | AF40: =IF(AA40="","",AC40+AD40+AE40) | AJ40: =IF(AI40=0,"",CEILING(100*AH40/AI40,1)) | AK40: =IF(AG40="",0,20) -> 0 | AL40: =IF(AG40=1,30,IF(AG40=2,20,IF(AG40=3,10,0))) -> 0 | AM40: =IF(AG40="","",AJ40+AK40+AL40) | AP40: =CEILING(100*AO40/$AO$2,1) -> 0 | AQ40: =IF(AN40="",0,20) -> 0 | AR40: =IF(AN40=1,30,IF(AN40=2,20,IF(AN40=3,10,0))) -> 0 | AS40: =IF(AN40="","",AP40+AQ40+AR40) | AV40: =CEILING(100*AU40/$AU$2,1) -> 0 | AW40: =IF(AT40="",0,20) -> 0 | AX40: =IF(AT40=1,30,IF(AT40=2,20,IF(AT40=3,10,0))) -> 0 | AY40: =IF(AT40="","",AV40+AW40+AX40) | BB40: =CEILING(100*BA40/$BA$2,1) -> 0 | BC40: =IF(AZ40="",0,20) -> 0 | BD40: =IF(AZ40=1,30,IF(AZ40=2,20,IF(AZ40=3,10,0))) -> 0 | BE40: =IF(AZ40="","",BB40+BC40+BD40) | BH40: =CEILING(100*BG40/$BG$2,1) -> 0 | BI40: =IF(BF40="",0,20) -> 0 | BJ40: =IF(BF40=1,30,IF(BF40=2,20,IF(BF40=3,10,0))) -> 0 | BK40: =IF(BF40="","",BH40+BI40+BJ40)
A41: 39 | B41: Erik Ingemansson | C41: Helsingborgs SS | D41: 2016 | E41: =(R41+X41+AQ41+AD41+AK41+BC41+AW41+BI41)/20 -> 1 | F41: =T41 -> 49 | G41: =Z41 | H41: =AF41 | I41: =AM41 | J41: =AS41 | K41: =AY41 | L41: =BE41 | M41: =BK41 | N41: =IF(E41<4,SUM(F41:M41),SUMPRODUCT(LARGE(F41:M41,{1;2;3;4}))) -> 49 | O41: 36 | P41: 2 | Q41: =CEILING(100*P41/$P$2,1) -> 29 | R41: =IF(O41="",0,20) -> 20 | S41: =IF(O41=1,30,IF(O41=2,20,IF(O41=3,10,0))) -> 0 | T41: =IF(O41="","",Q41+R41+S41) -> 49 | W41: =CEILING(100*V41/$V$2,1) -> 0 | X41: =IF(U41="",0,20) -> 0 | Y41: =IF(U41=1,30,IF(U41=2,20,IF(U41=3,10,0))) -> 0 | Z41: =IF(U41="","",W41+X41+Y41) | AC41: =CEILING(100*AB41/$AB$2,1) -> 0 | AD41: =IF(AA41="",0,20) -> 0 | AE41: =IF(AA41=1,30,IF(AA41=2,20,IF(AA41=3,10,0))) -> 0 | AF41: =IF(AA41="","",AC41+AD41+AE41) | AJ41: =IF(AI41=0,"",CEILING(100*AH41/AI41,1)) | AK41: =IF(AG41="",0,20) -> 0 | AL41: =IF(AG41=1,30,IF(AG41=2,20,IF(AG41=3,10,0))) -> 0 | AM41: =IF(AG41="","",AJ41+AK41+AL41) | AP41: =CEILING(100*AO41/$AO$2,1) -> 0 | AQ41: =IF(AN41="",0,20) -> 0 | AR41: =IF(AN41=1,30,IF(AN41=2,20,IF(AN41=3,10,0))) -> 0 | AS41: =IF(AN41="","",AP41+AQ41+AR41) | AV41: =CEILING(100*AU41/$AU$2,1) -> 0 | AW41: =IF(AT41="",0,20) -> 0 | AX41: =IF(AT41=1,30,IF(AT41=2,20,IF(AT41=3,10,0))) -> 0 | AY41: =IF(AT41="","",AV41+AW41+AX41) | BB41: =CEILING(100*BA41/$BA$2,1) -> 0 | BC41: =IF(AZ41="",0,20) -> 0 | BD41: =IF(AZ41=1,30,IF(AZ41=2,20,IF(AZ41=3,10,0))) -> 0 | BE41: =IF(AZ41="","",BB41+BC41+BD41) | BH41: =CEILING(100*BG41/$BG$2,1) -> 0 | BI41: =IF(BF41="",0,20) -> 0 | BJ41: =IF(BF41=1,30,IF(BF41=2,20,IF(BF41=3,10,0))) -> 0 | BK41: =IF(BF41="","",BH41+BI41+BJ41)
A42: 40 | B42: Gustav Sandgren Tomelius | C42: Mattadorerna | D42: 2017 | E42: =(R42+X42+AQ42+AD42+AK42+BC42+AW42+BI42)/20 -> 1 | F42: =T42 -> 49 | G42: =Z42 | H42: =AF42 | I42: =AM42 | J42: =AS42 | K42: =AY42 | L42: =BE42 | M42: =BK42 | N42: =IF(E42<4,SUM(F42:M42),SUMPRODUCT(LARGE(F42:M42,{1;2;3;4}))) -> 49 | O42: 37 | P42: 2 | Q42: =CEILING(100*P42/$P$2,1) -> 29 | R42: =IF(O42="",0,20) -> 20 | S42: =IF(O42=1,30,IF(O42=2,20,IF(O42=3,10,0))) -> 0 | T42: =IF(O42="","",Q42+R42+S42) -> 49 | W42: =CEILING(100*V42/$V$2,1) -> 0 | X42: =IF(U42="",0,20) -> 0 | Y42: =IF(U42=1,30,IF(U42=2,20,IF(U42=3,10,0))) -> 0 | Z42: =IF(U42="","",W42+X42+Y42) | AC42: =CEILING(100*AB42/$AB$2,1) -> 0 | AD42: =IF(AA42="",0,20) -> 0 | AE42: =IF(AA42=1,30,IF(AA42=2,20,IF(AA42=3,10,0))) -> 0 | AF42: =IF(AA42="","",AC42+AD42+AE42) | AJ42: =IF(AI42=0,"",CEILING(100*AH42/AI42,1)) | AK42: =IF(AG42="",0,20) -> 0 | AL42: =IF(AG42=1,30,IF(AG42=2,20,IF(AG42=3,10,0))) -> 0 | AM42: =IF(AG42="","",AJ42+AK42+AL42) | AP42: =CEILING(100*AO42/$AO$2,1) -> 0 | AQ42: =IF(AN42="",0,20) -> 0 | AR42: =IF(AN42=1,30,IF(AN42=2,20,IF(AN42=3,10,0))) -> 0 | AS42: =IF(AN42="","",AP42+AQ42+AR42) | AV42: =CEILING(100*AU42/$AU$2,1) -> 0 | AW42: =IF(AT42="",0,20) -> 0 | AX42: =IF(AT42=1,30,IF(AT42=2,20,IF(AT42=3,10,0))) -> 0 | AY42: =IF(AT42="","",AV42+AW42+AX42) | BB42: =CEILING(100*BA42/$BA$2,1) -> 0 | BC42: =IF(AZ42="",0,20) -> 0 | BD42: =IF(AZ42=1,30,IF(AZ42=2,20,IF(AZ42=3,10,0))) -> 0 | BE42: =IF(AZ42="","",BB42+BC42+BD42) | BH42: =CEILING(100*BG42/$BG$2,1) -> 0 | BI42: =IF(BF42="",0,20) -> 0 | BJ42: =IF(BF42=1,30,IF(BF42=2,20,IF(BF42=3,10,0))) -> 0 | BK42: =IF(BF42="","",BH42+BI42+BJ42)
A43: 41 | B43: Sigge Andersson | C43: Mattadorerna | D43: 2017 | E43: =(R43+X43+AQ43+AD43+AK43+BC43+AW43+BI43)/20 -> 1 | F43: =T43 -> 49 | G43: =Z43 | H43: =AF43 | I43: =AM43 | J43: =AS43 | K43: =AY43 | L43: =BE43 | M43: =BK43 | N43: =IF(E43<4,SUM(F43:M43),SUMPRODUCT(LARGE(F43:M43,{1;2;3;4}))) -> 49 | O43: 38 | P43: 2 | Q43: =CEILING(100*P43/$P$2,1) -> 29 | R43: =IF(O43="",0,20) -> 20 | S43: =IF(O43=1,30,IF(O43=2,20,IF(O43=3,10,0))) -> 0 | T43: =IF(O43="","",Q43+R43+S43) -> 49 | W43: =CEILING(100*V43/$V$2,1) -> 0 | X43: =IF(U43="",0,20) -> 0 | Y43: =IF(U43=1,30,IF(U43=2,20,IF(U43=3,10,0))) -> 0 | Z43: =IF(U43="","",W43+X43+Y43) | AC43: =CEILING(100*AB43/$AB$2,1) -> 0 | AD43: =IF(AA43="",0,20) -> 0 | AE43: =IF(AA43=1,30,IF(AA43=2,20,IF(AA43=3,10,0))) -> 0 | AF43: =IF(AA43="","",AC43+AD43+AE43) | AJ43: =IF(AI43=0,"",CEILING(100*AH43/AI43,1)) | AK43: =IF(AG43="",0,20) -> 0 | AL43: =IF(AG43=1,30,IF(AG43=2,20,IF(AG43=3,10,0))) -> 0 | AM43: =IF(AG43="","",AJ43+AK43+AL43) | AP43: =CEILING(100*AO43/$AO$2,1) -> 0 | AQ43: =IF(AN43="",0,20) -> 0 | AR43: =IF(AN43=1,30,IF(AN43=2,20,IF(AN43=3,10,0))) -> 0 | AS43: =IF(AN43="","",AP43+AQ43+AR43) | AV43: =CEILING(100*AU43/$AU$2,1) -> 0 | AW43: =IF(AT43="",0,20) -> 0 | AX43: =IF(AT43=1,30,IF(AT43=2,20,IF(AT43=3,10,0))) -> 0 | AY43: =IF(AT43="","",AV43+AW43+AX43) | BB43: =CEILING(100*BA43/$BA$2,1) -> 0 | BC43: =IF(AZ43="",0,20) -> 0 | BD43: =IF(AZ43=1,30,IF(AZ43=2,20,IF(AZ43=3,10,0))) -> 0 | BE43: =IF(AZ43="","",BB43+BC43+BD43) | BH43: =CEILING(100*BG43/$BG$2,1) -> 0 | BI43: =IF(BF43="",0,20) -> 0 | BJ43: =IF(BF43=1,30,IF(BF43=2,20,IF(BF43=3,10,0))) -> 0 | BK43: =IF(BF43="","",BH43+BI43+BJ43)
A44: 42 | B44: Nova Tegsell | C44: Helsingborgs ASK | D44: 2017 | E44: =(R44+X44+AQ44+AD44+AK44+BC44+AW44+BI44)/20 -> 1 | F44: =T44 -> 42 | G44: =Z44 | H44: =AF44 | I44: =AM44 | J44: =AS44 | K44: =AY44 | L44: =BE44 | M44: =BK44 | N44: =IF(E44<4,SUM(F44:M44),SUMPRODUCT(LARGE(F44:M44,{1;2;3;4}))) -> 42 | O44: 40 | P44: 1.5 | Q44: =CEILING(100*P44/$P$2,1) -> 22 | R44: =IF(O44="",0,20) -> 20 | S44: =IF(O44=1,30,IF(O44=2,20,IF(O44=3,10,0))) -> 0 | T44: =IF(O44="","",Q44+R44+S44) -> 42 | W44: =CEILING(100*V44/$V$2,1) -> 0 | X44: =IF(U44="",0,20) -> 0 | Y44: =IF(U44=1,30,IF(U44=2,20,IF(U44=3,10,0))) -> 0 | Z44: =IF(U44="","",W44+X44+Y44) | AC44: =CEILING(100*AB44/$AB$2,1) -> 0 | AD44: =IF(AA44="",0,20) -> 0 | AE44: =IF(AA44=1,30,IF(AA44=2,20,IF(AA44=3,10,0))) -> 0 | AF44: =IF(AA44="","",AC44+AD44+AE44) | AJ44: =IF(AI44=0,"",CEILING(100*AH44/AI44,1)) | AK44: =IF(AG44="",0,20) -> 0 | AL44: =IF(AG44=1,30,IF(AG44=2,20,IF(AG44=3,10,0))) -> 0 | AM44: =IF(AG44="","",AJ44+AK44+AL44) | AP44: =CEILING(100*AO44/$AO$2,1) -> 0 | AQ44: =IF(AN44="",0,20) -> 0 | AR44: =IF(AN44=1,30,IF(AN44=2,20,IF(AN44=3,10,0))) -> 0 | AS44: =IF(AN44="","",AP44+AQ44+AR44) | AV44: =CEILING(100*AU44/$AU$2,1) -> 0 | AW44: =IF(AT44="",0,20) -> 0 | AX44: =IF(AT44=1,30,IF(AT44=2,20,IF(AT44=3,10,0))) -> 0 | AY44: =IF(AT44="","",AV44+AW44+AX44) | BB44: =CEILING(100*BA44/$BA$2,1) -> 0 | BC44: =IF(AZ44="",0,20) -> 0 | BD44: =IF(AZ44=1,30,IF(AZ44=2,20,IF(AZ44=3,10,0))) -> 0 | BE44: =IF(AZ44="","",BB44+BC44+BD44) | BH44: =CEILING(100*BG44/$BG$2,1) -> 0 | BI44: =IF(BF44="",0,20) -> 0 | BJ44: =IF(BF44=1,30,IF(BF44=2,20,IF(BF44=3,10,0))) -> 0 | BK44: =IF(BF44="","",BH44+BI44+BJ44)
A45: 43 | B45: Alvin Garg | C45: Helsingborgs SS | D45: 2019 | E45: =(R45+X45+AQ45+AD45+AK45+BC45+AW45+BI45)/20 -> 1 | F45: =T45 -> 42 | G45: =Z45 | H45: =AF45 | I45: =AM45 | J45: =AS45 | K45: =AY45 | L45: =BE45 | M45: =BK45 | N45: =IF(E45<4,SUM(F45:M45),SUMPRODUCT(LARGE(F45:M45,{1;2;3;4}))) -> 42 | O45: 41 | P45: 1.5 | Q45: =CEILING(100*P45/$P$2,1) -> 22 | R45: =IF(O45="",0,20) -> 20 | S45: =IF(O45=1,30,IF(O45=2,20,IF(O45=3,10,0))) -> 0 | T45: =IF(O45="","",Q45+R45+S45) -> 42 | W45: =CEILING(100*V45/$V$2,1) -> 0 | X45: =IF(U45="",0,20) -> 0 | Y45: =IF(U45=1,30,IF(U45=2,20,IF(U45=3,10,0))) -> 0 | Z45: =IF(U45="","",W45+X45+Y45) | AC45: =CEILING(100*AB45/$AB$2,1) -> 0 | AD45: =IF(AA45="",0,20) -> 0 | AE45: =IF(AA45=1,30,IF(AA45=2,20,IF(AA45=3,10,0))) -> 0 | AF45: =IF(AA45="","",AC45+AD45+AE45) | AJ45: =IF(AI45=0,"",CEILING(100*AH45/AI45,1)) | AK45: =IF(AG45="",0,20) -> 0 | AL45: =IF(AG45=1,30,IF(AG45=2,20,IF(AG45=3,10,0))) -> 0 | AM45: =IF(AG45="","",AJ45+AK45+AL45) | AP45: =CEILING(100*AO45/$AO$2,1) -> 0 | AQ45: =IF(AN45="",0,20) -> 0 | AR45: =IF(AN45=1,30,IF(AN45=2,20,IF(AN45=3,10,0))) -> 0 | AS45: =IF(AN45="","",AP45+AQ45+AR45) | AV45: =CEILING(100*AU45/$AU$2,1) -> 0 | AW45: =IF(AT45="",0,20) -> 0 | AX45: =IF(AT45=1,30,IF(AT45=2,20,IF(AT45=3,10,0))) -> 0 | AY45: =IF(AT45="","",AV45+AW45+AX45) | BB45: =CEILING(100*BA45/$BA$2,1) -> 0 | BC45: =IF(AZ45="",0,20) -> 0 | BD45: =IF(AZ45=1,30,IF(AZ45=2,20,IF(AZ45=3,10,0))) -> 0 | BE45: =IF(AZ45="","",BB45+BC45+BD45) | BH45: =CEILING(100*BG45/$BG$2,1) -> 0 | BI45: =IF(BF45="",0,20) -> 0 | BJ45: =IF(BF45=1,30,IF(BF45=2,20,IF(BF45=3,10,0))) -> 0 | BK45: =IF(BF45="","",BH45+BI45+BJ45)
A46: 44 | B46: Udvita Nandan Venike | C46: Helsingborgs ASK | D46: 2020 | E46: =(R46+X46+AQ46+AD46+AK46+BC46+AW46+BI46)/20 -> 1 | F46: =T46 -> 42 | G46: =Z46 | H46: =AF46 | I46: =AM46 | J46: =AS46 | K46: =AY46 | L46: =BE46 | M46: =BK46 | N46: =IF(E46<4,SUM(F46:M46),SUMPRODUCT(LARGE(F46:M46,{1;2;3;4}))) -> 42 | O46: 42 | P46: 1.5 | Q46: =CEILING(100*P46/$P$2,1) -> 22 | R46: =IF(O46="",0,20) -> 20 | S46: =IF(O46=1,30,IF(O46=2,20,IF(O46=3,10,0))) -> 0 | T46: =IF(O46="","",Q46+R46+S46) -> 42 | W46: =CEILING(100*V46/$V$2,1) -> 0 | X46: =IF(U46="",0,20) -> 0 | Y46: =IF(U46=1,30,IF(U46=2,20,IF(U46=3,10,0))) -> 0 | Z46: =IF(U46="","",W46+X46+Y46) | AC46: =CEILING(100*AB46/$AB$2,1) -> 0 | AD46: =IF(AA46="",0,20) -> 0 | AE46: =IF(AA46=1,30,IF(AA46=2,20,IF(AA46=3,10,0))) -> 0 | AF46: =IF(AA46="","",AC46+AD46+AE46) | AJ46: =IF(AI46=0,"",CEILING(100*AH46/AI46,1)) | AK46: =IF(AG46="",0,20) -> 0 | AL46: =IF(AG46=1,30,IF(AG46=2,20,IF(AG46=3,10,0))) -> 0 | AM46: =IF(AG46="","",AJ46+AK46+AL46) | AP46: =CEILING(100*AO46/$AO$2,1) -> 0 | AQ46: =IF(AN46="",0,20) -> 0 | AR46: =IF(AN46=1,30,IF(AN46=2,20,IF(AN46=3,10,0))) -> 0 | AS46: =IF(AN46="","",AP46+AQ46+AR46) | AV46: =CEILING(100*AU46/$AU$2,1) -> 0 | AW46: =IF(AT46="",0,20) -> 0 | AX46: =IF(AT46=1,30,IF(AT46=2,20,IF(AT46=3,10,0))) -> 0 | AY46: =IF(AT46="","",AV46+AW46+AX46) | BB46: =CEILING(100*BA46/$BA$2,1) -> 0 | BC46: =IF(AZ46="",0,20) -> 0 | BD46: =IF(AZ46=1,30,IF(AZ46=2,20,IF(AZ46=3,10,0))) -> 0 | BE46: =IF(AZ46="","",BB46+BC46+BD46) | BH46: =CEILING(100*BG46/$BG$2,1) -> 0 | BI46: =IF(BF46="",0,20) -> 0 | BJ46: =IF(BF46=1,30,IF(BF46=2,20,IF(BF46=3,10,0))) -> 0 | BK46: =IF(BF46="","",BH46+BI46+BJ46)
A47: 45 | B47: Joel Broman | C47: Limhamns SK | D47: 2016 | E47: =(R47+X47+AQ47+AD47+AK47+BC47+AW47+BI47)/20 -> 1 | F47: =T47 -> 35 | G47: =Z47 | H47: =AF47 | I47: =AM47 | J47: =AS47 | K47: =AY47 | L47: =BE47 | M47: =BK47 | N47: =IF(E47<4,SUM(F47:M47),SUMPRODUCT(LARGE(F47:M47,{1;2;3;4}))) -> 35 | O47: 43 | P47: 1 | Q47: =CEILING(100*P47/$P$2,1) -> 15 | R47: =IF(O47="",0,20) -> 20 | S47: =IF(O47=1,30,IF(O47=2,20,IF(O47=3,10,0))) -> 0 | T47: =IF(O47="","",Q47+R47+S47) -> 35 | W47: =CEILING(100*V47/$V$2,1) -> 0 | X47: =IF(U47="",0,20) -> 0 | Y47: =IF(U47=1,30,IF(U47=2,20,IF(U47=3,10,0))) -> 0 | Z47: =IF(U47="","",W47+X47+Y47) | AC47: =CEILING(100*AB47/$AB$2,1) -> 0 | AD47: =IF(AA47="",0,20) -> 0 | AE47: =IF(AA47=1,30,IF(AA47=2,20,IF(AA47=3,10,0))) -> 0 | AF47: =IF(AA47="","",AC47+AD47+AE47) | AJ47: =IF(AI47=0,"",CEILING(100*AH47/AI47,1)) | AK47: =IF(AG47="",0,20) -> 0 | AL47: =IF(AG47=1,30,IF(AG47=2,20,IF(AG47=3,10,0))) -> 0 | AM47: =IF(AG47="","",AJ47+AK47+AL47) | AP47: =CEILING(100*AO47/$AO$2,1) -> 0 | AQ47: =IF(AN47="",0,20) -> 0 | AR47: =IF(AN47=1,30,IF(AN47=2,20,IF(AN47=3,10,0))) -> 0 | AS47: =IF(AN47="","",AP47+AQ47+AR47) | AV47: =CEILING(100*AU47/$AU$2,1) -> 0 | AW47: =IF(AT47="",0,20) -> 0 | AX47: =IF(AT47=1,30,IF(AT47=2,20,IF(AT47=3,10,0))) -> 0 | AY47: =IF(AT47="","",AV47+AW47+AX47) | BB47: =CEILING(100*BA47/$BA$2,1) -> 0 | BC47: =IF(AZ47="",0,20) -> 0 | BD47: =IF(AZ47=1,30,IF(AZ47=2,20,IF(AZ47=3,10,0))) -> 0 | BE47: =IF(AZ47="","",BB47+BC47+BD47) | BH47: =CEILING(100*BG47/$BG$2,1) -> 0 | BI47: =IF(BF47="",0,20) -> 0 | BJ47: =IF(BF47=1,30,IF(BF47=2,20,IF(BF47=3,10,0))) -> 0 | BK47: =IF(BF47="","",BH47+BI47+BJ47)
A48: 46 | B48: Isak Ståhl | C48: Limhamns SK | D48: 2016 | E48: =(R48+X48+AQ48+AD48+AK48+BC48+AW48+BI48)/20 -> 1 | F48: =T48 -> 35 | G48: =Z48 | H48: =AF48 | I48: =AM48 | J48: =AS48 | K48: =AY48 | L48: =BE48 | M48: =BK48 | N48: =IF(E48<4,SUM(F48:M48),SUMPRODUCT(LARGE(F48:M48,{1;2;3;4}))) -> 35 | O48: 44 | P48: 1 | Q48: =CEILING(100*P48/$P$2,1) -> 15 | R48: =IF(O48="",0,20) -> 20 | S48: =IF(O48=1,30,IF(O48=2,20,IF(O48=3,10,0))) -> 0 | T48: =IF(O48="","",Q48+R48+S48) -> 35 | W48: =CEILING(100*V48/$V$2,1) -> 0 | X48: =IF(U48="",0,20) -> 0 | Y48: =IF(U48=1,30,IF(U48=2,20,IF(U48=3,10,0))) -> 0 | Z48: =IF(U48="","",W48+X48+Y48) | AC48: =CEILING(100*AB48/$AB$2,1) -> 0 | AD48: =IF(AA48="",0,20) -> 0 | AE48: =IF(AA48=1,30,IF(AA48=2,20,IF(AA48=3,10,0))) -> 0 | AF48: =IF(AA48="","",AC48+AD48+AE48) | AJ48: =IF(AI48=0,"",CEILING(100*AH48/AI48,1)) | AK48: =IF(AG48="",0,20) -> 0 | AL48: =IF(AG48=1,30,IF(AG48=2,20,IF(AG48=3,10,0))) -> 0 | AM48: =IF(AG48="","",AJ48+AK48+AL48) | AP48: =CEILING(100*AO48/$AO$2,1) -> 0 | AQ48: =IF(AN48="",0,20) -> 0 | AR48: =IF(AN48=1,30,IF(AN48=2,20,IF(AN48=3,10,0))) -> 0 | AS48: =IF(AN48="","",AP48+AQ48+AR48) | AV48: =CEILING(100*AU48/$AU$2,1) -> 0 | AW48: =IF(AT48="",0,20) -> 0 | AX48: =IF(AT48=1,30,IF(AT48=2,20,IF(AT48=3,10,0))) -> 0 | AY48: =IF(AT48="","",AV48+AW48+AX48) | BB48: =CEILING(100*BA48/$BA$2,1) -> 0 | BC48: =IF(AZ48="",0,20) -> 0 | BD48: =IF(AZ48=1,30,IF(AZ48=2,20,IF(AZ48=3,10,0))) -> 0 | BE48: =IF(AZ48="","",BB48+BC48+BD48) | BH48: =CEILING(100*BG48/$BG$2,1) -> 0 | BI48: =IF(BF48="",0,20) -> 0 | BJ48: =IF(BF48=1,30,IF(BF48=2,20,IF(BF48=3,10,0))) -> 0 | BK48: =IF(BF48="","",BH48+BI48+BJ48)
A49: 47 | E49: =(R49+X49+AQ49+AD49+AK49+BC49+AW49+BI49)/20 -> 0 | F49: =T49 | G49: =Z49 | H49: =AF49 | I49: =AM49 | J49: =AS49 | K49: =AY49 | L49: =BE49 | M49: =BK49 | N49: =IF(E49<4,SUM(F49:M49),SUMPRODUCT(LARGE(F49:M49,{1;2;3;4}))) -> 0 | Q49: =CEILING(100*P49/$P$2,1) -> 0 | R49: =IF(O49="",0,20) -> 0 | S49: =IF(O49=1,30,IF(O49=2,20,IF(O49=3,10,0))) -> 0 | T49: =IF(O49="","",Q49+R49+S49) | W49: =CEILING(100*V49/$V$2,1) -> 0 | X49: =IF(U49="",0,20) -> 0 | Y49: =IF(U49=1,30,IF(U49=2,20,IF(U49=3,10,0))) -> 0 | Z49: =IF(U49="","",W49+X49+Y49) | AC49: =CEILING(100*AB49/$AB$2,1) -> 0 | AD49: =IF(AA49="",0,20) -> 0 | AE49: =IF(AA49=1,30,IF(AA49=2,20,IF(AA49=3,10,0))) -> 0 | AF49: =IF(AA49="","",AC49+AD49+AE49) | AJ49: =IF(AI49=0,"",CEILING(100*AH49/AI49,1)) | AK49: =IF(AG49="",0,20) -> 0 | AL49: =IF(AG49=1,30,IF(AG49=2,20,IF(AG49=3,10,0))) -> 0 | AM49: =IF(AG49="","",AJ49+AK49+AL49) | AP49: =CEILING(100*AO49/$AO$2,1) -> 0 | AQ49: =IF(AN49="",0,20) -> 0 | AR49: =IF(AN49=1,30,IF(AN49=2,20,IF(AN49=3,10,0))) -> 0 | AS49: =IF(AN49="","",AP49+AQ49+AR49) | AV49: =CEILING(100*AU49/$AU$2,1) -> 0 | AW49: =IF(AT49="",0,20) -> 0 | AX49: =IF(AT49=1,30,IF(AT49=2,20,IF(AT49=3,10,0))) -> 0 | AY49: =IF(AT49="","",AV49+AW49+AX49) | BB49: =CEILING(100*BA49/$BA$2,1) -> 0 | BC49: =IF(AZ49="",0,20) -> 0 | BD49: =IF(AZ49=1,30,IF(AZ49=2,20,IF(AZ49=3,10,0))) -> 0 | BE49: =IF(AZ49="","",BB49+BC49+BD49) | BH49: =CEILING(100*BG49/$BG$2,1) -> 0 | BI49: =IF(BF49="",0,20) -> 0 | BJ49: =IF(BF49=1,30,IF(BF49=2,20,IF(BF49=3,10,0))) -> 0 | BK49: =IF(BF49="","",BH49+BI49+BJ49)
A50: 48 | E50: =(R50+X50+AQ50+AD50+AK50+BC50+AW50+BI50)/20 -> 0 | F50: =T50 | G50: =Z50 | H50: =AF50 | I50: =AM50 | J50: =AS50 | K50: =AY50 | L50: =BE50 | M50: =BK50 | N50: =IF(E50<4,SUM(F50:M50),SUMPRODUCT(LARGE(F50:M50,{1;2;3;4}))) -> 0 | Q50: =CEILING(100*P50/$P$2,1) -> 0 | R50: =IF(O50="",0,20) -> 0 | S50: =IF(O50=1,30,IF(O50=2,20,IF(O50=3,10,0))) -> 0 | T50: =IF(O50="","",Q50+R50+S50) | W50: =CEILING(100*V50/$V$2,1) -> 0 | X50: =IF(U50="",0,20) -> 0 | Y50: =IF(U50=1,30,IF(U50=2,20,IF(U50=3,10,0))) -> 0 | Z50: =IF(U50="","",W50+X50+Y50) | AC50: =CEILING(100*AB50/$AB$2,1) -> 0 | AD50: =IF(AA50="",0,20) -> 0 | AE50: =IF(AA50=1,30,IF(AA50=2,20,IF(AA50=3,10,0))) -> 0 | AF50: =IF(AA50="","",AC50+AD50+AE50) | AJ50: =IF(AI50=0,"",CEILING(100*AH50/AI50,1)) | AK50: =IF(AG50="",0,20) -> 0 | AL50: =IF(AG50=1,30,IF(AG50=2,20,IF(AG50=3,10,0))) -> 0 | AM50: =IF(AG50="","",AJ50+AK50+AL50) | AP50: =CEILING(100*AO50/$AO$2,1) -> 0 | AQ50: =IF(AN50="",0,20) -> 0 | AR50: =IF(AN50=1,30,IF(AN50=2,20,IF(AN50=3,10,0))) -> 0 | AS50: =IF(AN50="","",AP50+AQ50+AR50) | AV50: =CEILING(100*AU50/$AU$2,1) -> 0 | AW50: =IF(AT50="",0,20) -> 0 | AX50: =IF(AT50=1,30,IF(AT50=2,20,IF(AT50=3,10,0))) -> 0 | AY50: =IF(AT50="","",AV50+AW50+AX50) | BB50: =CEILING(100*BA50/$BA$2,1) -> 0 | BC50: =IF(AZ50="",0,20) -> 0 | BD50: =IF(AZ50=1,30,IF(AZ50=2,20,IF(AZ50=3,10,0))) -> 0 | BE50: =IF(AZ50="","",BB50+BC50+BD50) | BH50: =CEILING(100*BG50/$BG$2,1) -> 0 | BI50: =IF(BF50="",0,20) -> 0 | BJ50: =IF(BF50=1,30,IF(BF50=2,20,IF(BF50=3,10,0))) -> 0 | BK50: =IF(BF50="","",BH50+BI50+BJ50)
A51: 49 | E51: =(R51+X51+AQ51+AD51+AK51+BC51+AW51+BI51)/20 -> 0 | F51: =T51 | G51: =Z51 | H51: =AF51 | I51: =AM51 | J51: =AS51 | K51: =AY51 | L51: =BE51 | M51: =BK51 | N51: =IF(E51<4,SUM(F51:M51),SUMPRODUCT(LARGE(F51:M51,{1;2;3;4}))) -> 0 | Q51: =CEILING(100*P51/$P$2,1) -> 0 | R51: =IF(O51="",0,20) -> 0 | S51: =IF(O51=1,30,IF(O51=2,20,IF(O51=3,10,0))) -> 0 | T51: =IF(O51="","",Q51+R51+S51) | W51: =CEILING(100*V51/$V$2,1) -> 0 | X51: =IF(U51="",0,20) -> 0 | Y51: =IF(U51=1,30,IF(U51=2,20,IF(U51=3,10,0))) -> 0 | Z51: =IF(U51="","",W51+X51+Y51) | AC51: =CEILING(100*AB51/$AB$2,1) -> 0 | AD51: =IF(AA51="",0,20) -> 0 | AE51: =IF(AA51=1,30,IF(AA51=2,20,IF(AA51=3,10,0))) -> 0 | AF51: =IF(AA51="","",AC51+AD51+AE51) | AJ51: =IF(AI51=0,"",CEILING(100*AH51/AI51,1)) | AK51: =IF(AG51="",0,20) -> 0 | AL51: =IF(AG51=1,30,IF(AG51=2,20,IF(AG51=3,10,0))) -> 0 | AM51: =IF(AG51="","",AJ51+AK51+AL51) | AP51: =CEILING(100*AO51/$AO$2,1) -> 0 | AQ51: =IF(AN51="",0,20) -> 0 | AR51: =IF(AN51=1,30,IF(AN51=2,20,IF(AN51=3,10,0))) -> 0 | AS51: =IF(AN51="","",AP51+AQ51+AR51) | AV51: =CEILING(100*AU51/$AU$2,1) -> 0 | AW51: =IF(AT51="",0,20) -> 0 | AX51: =IF(AT51=1,30,IF(AT51=2,20,IF(AT51=3,10,0))) -> 0 | AY51: =IF(AT51="","",AV51+AW51+AX51) | BB51: =CEILING(100*BA51/$BA$2,1) -> 0 | BC51: =IF(AZ51="",0,20) -> 0 | BD51: =IF(AZ51=1,30,IF(AZ51=2,20,IF(AZ51=3,10,0))) -> 0 | BE51: =IF(AZ51="","",BB51+BC51+BD51) | BH51: =CEILING(100*BG51/$BG$2,1) -> 0 | BI51: =IF(BF51="",0,20) -> 0 | BJ51: =IF(BF51=1,30,IF(BF51=2,20,IF(BF51=3,10,0))) -> 0 | BK51: =IF(BF51="","",BH51+BI51+BJ51)
A52: 50 | E52: =(R52+X52+AQ52+AD52+AK52+BC52+AW52+BI52)/20 -> 0 | F52: =T52 | G52: =Z52 | H52: =AF52 | I52: =AM52 | J52: =AS52 | K52: =AY52 | L52: =BE52 | M52: =BK52 | N52: =IF(E52<4,SUM(F52:M52),SUMPRODUCT(LARGE(F52:M52,{1;2;3;4}))) -> 0 | Q52: =CEILING(100*P52/$P$2,1) -> 0 | R52: =IF(O52="",0,20) -> 0 | S52: =IF(O52=1,30,IF(O52=2,20,IF(O52=3,10,0))) -> 0 | T52: =IF(O52="","",Q52+R52+S52) | W52: =CEILING(100*V52/$V$2,1) -> 0 | X52: =IF(U52="",0,20) -> 0 | Y52: =IF(U52=1,30,IF(U52=2,20,IF(U52=3,10,0))) -> 0 | Z52: =IF(U52="","",W52+X52+Y52) | AC52: =CEILING(100*AB52/$AB$2,1) -> 0 | AD52: =IF(AA52="",0,20) -> 0 | AE52: =IF(AA52=1,30,IF(AA52=2,20,IF(AA52=3,10,0))) -> 0 | AF52: =IF(AA52="","",AC52+AD52+AE52) | AJ52: =IF(AI52=0,"",CEILING(100*AH52/AI52,1)) | AK52: =IF(AG52="",0,20) -> 0 | AL52: =IF(AG52=1,30,IF(AG52=2,20,IF(AG52=3,10,0))) -> 0 | AM52: =IF(AG52="","",AJ52+AK52+AL52) | AP52: =CEILING(100*AO52/$AO$2,1) -> 0 | AQ52: =IF(AN52="",0,20) -> 0 | AR52: =IF(AN52=1,30,IF(AN52=2,20,IF(AN52=3,10,0))) -> 0 | AS52: =IF(AN52="","",AP52+AQ52+AR52) | AV52: =CEILING(100*AU52/$AU$2,1) -> 0 | AW52: =IF(AT52="",0,20) -> 0 | AX52: =IF(AT52=1,30,IF(AT52=2,20,IF(AT52=3,10,0))) -> 0 | AY52: =IF(AT52="","",AV52+AW52+AX52) | BB52: =CEILING(100*BA52/$BA$2,1) -> 0 | BC52: =IF(AZ52="",0,20) -> 0 | BD52: =IF(AZ52=1,30,IF(AZ52=2,20,IF(AZ52=3,10,0))) -> 0 | BE52: =IF(AZ52="","",BB52+BC52+BD52) | BH52: =CEILING(100*BG52/$BG$2,1) -> 0 | BI52: =IF(BF52="",0,20) -> 0 | BJ52: =IF(BF52=1,30,IF(BF52=2,20,IF(BF52=3,10,0))) -> 0 | BK52: =IF(BF52="","",BH52+BI52+BJ52)
A53: 51 | E53: =(R53+X53+AQ53+AD53+AK53+BC53+AW53+BI53)/20 -> 0 | F53: =T53 | G53: =Z53 | H53: =AF53 | I53: =AM53 | J53: =AS53 | K53: =AY53 | L53: =BE53 | M53: =BK53 | N53: =IF(E53<4,SUM(F53:M53),SUMPRODUCT(LARGE(F53:M53,{1;2;3;4}))) -> 0 | Q53: =CEILING(100*P53/$P$2,1) -> 0 | R53: =IF(O53="",0,20) -> 0 | S53: =IF(O53=1,30,IF(O53=2,20,IF(O53=3,10,0))) -> 0 | T53: =IF(O53="","",Q53+R53+S53) | W53: =CEILING(100*V53/$V$2,1) -> 0 | X53: =IF(U53="",0,20) -> 0 | Y53: =IF(U53=1,30,IF(U53=2,20,IF(U53=3,10,0))) -> 0 | Z53: =IF(U53="","",W53+X53+Y53) | AC53: =CEILING(100*AB53/$AB$2,1) -> 0 | AD53: =IF(AA53="",0,20) -> 0 | AE53: =IF(AA53=1,30,IF(AA53=2,20,IF(AA53=3,10,0))) -> 0 | AF53: =IF(AA53="","",AC53+AD53+AE53) | AJ53: =IF(AI53=0,"",CEILING(100*AH53/AI53,1)) | AK53: =IF(AG53="",0,20) -> 0 | AL53: =IF(AG53=1,30,IF(AG53=2,20,IF(AG53=3,10,0))) -> 0 | AM53: =IF(AG53="","",AJ53+AK53+AL53) | AP53: =CEILING(100*AO53/$AO$2,1) -> 0 | AQ53: =IF(AN53="",0,20) -> 0 | AR53: =IF(AN53=1,30,IF(AN53=2,20,IF(AN53=3,10,0))) -> 0 | AS53: =IF(AN53="","",AP53+AQ53+AR53) | AV53: =CEILING(100*AU53/$AU$2,1) -> 0 | AW53: =IF(AT53="",0,20) -> 0 | AX53: =IF(AT53=1,30,IF(AT53=2,20,IF(AT53=3,10,0))) -> 0 | AY53: =IF(AT53="","",AV53+AW53+AX53) | BB53: =CEILING(100*BA53/$BA$2,1) -> 0 | BC53: =IF(AZ53="",0,20) -> 0 | BD53: =IF(AZ53=1,30,IF(AZ53=2,20,IF(AZ53=3,10,0))) -> 0 | BE53: =IF(AZ53="","",BB53+BC53+BD53) | BH53: =CEILING(100*BG53/$BG$2,1) -> 0 | BI53: =IF(BF53="",0,20) -> 0 | BJ53: =IF(BF53=1,30,IF(BF53=2,20,IF(BF53=3,10,0))) -> 0 | BK53: =IF(BF53="","",BH53+BI53+BJ53)
A54: 52 | E54: =(R54+X54+AQ54+AD54+AK54+BC54+AW54+BI54)/20 -> 0 | F54: =T54 | G54: =Z54 | H54: =AF54 | I54: =AM54 | J54: =AS54 | K54: =AY54 | L54: =BE54 | M54: =BK54 | N54: =IF(E54<4,SUM(F54:M54),SUMPRODUCT(LARGE(F54:M54,{1;2;3;4}))) -> 0 | Q54: =CEILING(100*P54/$P$2,1) -> 0 | R54: =IF(O54="",0,20) -> 0 | S54: =IF(O54=1,30,IF(O54=2,20,IF(O54=3,10,0))) -> 0 | T54: =IF(O54="","",Q54+R54+S54) | W54: =CEILING(100*V54/$V$2,1) -> 0 | X54: =IF(U54="",0,20) -> 0 | Y54: =IF(U54=1,30,IF(U54=2,20,IF(U54=3,10,0))) -> 0 | Z54: =IF(U54="","",W54+X54+Y54) | AC54: =CEILING(100*AB54/$AB$2,1) -> 0 | AD54: =IF(AA54="",0,20) -> 0 | AE54: =IF(AA54=1,30,IF(AA54=2,20,IF(AA54=3,10,0))) -> 0 | AF54: =IF(AA54="","",AC54+AD54+AE54) | AJ54: =IF(AI54=0,"",CEILING(100*AH54/AI54,1)) | AK54: =IF(AG54="",0,20) -> 0 | AL54: =IF(AG54=1,30,IF(AG54=2,20,IF(AG54=3,10,0))) -> 0 | AM54: =IF(AG54="","",AJ54+AK54+AL54) | AP54: =CEILING(100*AO54/$AO$2,1) -> 0 | AQ54: =IF(AN54="",0,20) -> 0 | AR54: =IF(AN54=1,30,IF(AN54=2,20,IF(AN54=3,10,0))) -> 0 | AS54: =IF(AN54="","",AP54+AQ54+AR54) | AV54: =CEILING(100*AU54/$AU$2,1) -> 0 | AW54: =IF(AT54="",0,20) -> 0 | AX54: =IF(AT54=1,30,IF(AT54=2,20,IF(AT54=3,10,0))) -> 0 | AY54: =IF(AT54="","",AV54+AW54+AX54) | BB54: =CEILING(100*BA54/$BA$2,1) -> 0 | BC54: =IF(AZ54="",0,20) -> 0 | BD54: =IF(AZ54=1,30,IF(AZ54=2,20,IF(AZ54=3,10,0))) -> 0 | BE54: =IF(AZ54="","",BB54+BC54+BD54) | BH54: =CEILING(100*BG54/$BG$2,1) -> 0 | BI54: =IF(BF54="",0,20) -> 0 | BJ54: =IF(BF54=1,30,IF(BF54=2,20,IF(BF54=3,10,0))) -> 0 | BK54: =IF(BF54="","",BH54+BI54+BJ54)
A55: 53 | E55: =(R55+X55+AQ55+AD55+AK55+BC55+AW55+BI55)/20 -> 0 | F55: =T55 | G55: =Z55 | H55: =AF55 | I55: =AM55 | J55: =AS55 | K55: =AY55 | L55: =BE55 | M55: =BK55 | N55: =IF(E55<4,SUM(F55:M55),SUMPRODUCT(LARGE(F55:M55,{1;2;3;4}))) -> 0 | Q55: =CEILING(100*P55/$P$2,1) -> 0 | R55: =IF(O55="",0,20) -> 0 | S55: =IF(O55=1,30,IF(O55=2,20,IF(O55=3,10,0))) -> 0 | T55: =IF(O55="","",Q55+R55+S55) | W55: =CEILING(100*V55/$V$2,1) -> 0 | X55: =IF(U55="",0,20) -> 0 | Y55: =IF(U55=1,30,IF(U55=2,20,IF(U55=3,10,0))) -> 0 | Z55: =IF(U55="","",W55+X55+Y55) | AC55: =CEILING(100*AB55/$AB$2,1) -> 0 | AD55: =IF(AA55="",0,20) -> 0 | AE55: =IF(AA55=1,30,IF(AA55=2,20,IF(AA55=3,10,0))) -> 0 | AF55: =IF(AA55="","",AC55+AD55+AE55) | AJ55: =IF(AI55=0,"",CEILING(100*AH55/AI55,1)) | AK55: =IF(AG55="",0,20) -> 0 | AL55: =IF(AG55=1,30,IF(AG55=2,20,IF(AG55=3,10,0))) -> 0 | AM55: =IF(AG55="","",AJ55+AK55+AL55) | AP55: =CEILING(100*AO55/$AO$2,1) -> 0 | AQ55: =IF(AN55="",0,20) -> 0 | AR55: =IF(AN55=1,30,IF(AN55=2,20,IF(AN55=3,10,0))) -> 0 | AS55: =IF(AN55="","",AP55+AQ55+AR55) | AV55: =CEILING(100*AU55/$AU$2,1) -> 0 | AW55: =IF(AT55="",0,20) -> 0 | AX55: =IF(AT55=1,30,IF(AT55=2,20,IF(AT55=3,10,0))) -> 0 | AY55: =IF(AT55="","",AV55+AW55+AX55) | BB55: =CEILING(100*BA55/$BA$2,1) -> 0 | BC55: =IF(AZ55="",0,20) -> 0 | BD55: =IF(AZ55=1,30,IF(AZ55=2,20,IF(AZ55=3,10,0))) -> 0 | BE55: =IF(AZ55="","",BB55+BC55+BD55) | BH55: =CEILING(100*BG55/$BG$2,1) -> 0 | BI55: =IF(BF55="",0,20) -> 0 | BJ55: =IF(BF55=1,30,IF(BF55=2,20,IF(BF55=3,10,0))) -> 0 | BK55: =IF(BF55="","",BH55+BI55+BJ55)
A56: 54 | E56: =(R56+X56+AQ56+AD56+AK56+BC56+AW56+BI56)/20 -> 0 | F56: =T56 | G56: =Z56 | H56: =AF56 | I56: =AM56 | J56: =AS56 | K56: =AY56 | L56: =BE56 | M56: =BK56 | N56: =IF(E56<4,SUM(F56:M56),SUMPRODUCT(LARGE(F56:M56,{1;2;3;4}))) -> 0 | Q56: =CEILING(100*P56/$P$2,1) -> 0 | R56: =IF(O56="",0,20) -> 0 | S56: =IF(O56=1,30,IF(O56=2,20,IF(O56=3,10,0))) -> 0 | T56: =IF(O56="","",Q56+R56+S56) | W56: =CEILING(100*V56/$V$2,1) -> 0 | X56: =IF(U56="",0,20) -> 0 | Y56: =IF(U56=1,30,IF(U56=2,20,IF(U56=3,10,0))) -> 0 | Z56: =IF(U56="","",W56+X56+Y56) | AC56: =CEILING(100*AB56/$AB$2,1) -> 0 | AD56: =IF(AA56="",0,20) -> 0 | AE56: =IF(AA56=1,30,IF(AA56=2,20,IF(AA56=3,10,0))) -> 0 | AF56: =IF(AA56="","",AC56+AD56+AE56) | AJ56: =IF(AI56=0,"",CEILING(100*AH56/AI56,1)) | AK56: =IF(AG56="",0,20) -> 0 | AL56: =IF(AG56=1,30,IF(AG56=2,20,IF(AG56=3,10,0))) -> 0 | AM56: =IF(AG56="","",AJ56+AK56+AL56) | AP56: =CEILING(100*AO56/$AO$2,1) -> 0 | AQ56: =IF(AN56="",0,20) -> 0 | AR56: =IF(AN56=1,30,IF(AN56=2,20,IF(AN56=3,10,0))) -> 0 | AS56: =IF(AN56="","",AP56+AQ56+AR56) | AV56: =CEILING(100*AU56/$AU$2,1) -> 0 | AW56: =IF(AT56="",0,20) -> 0 | AX56: =IF(AT56=1,30,IF(AT56=2,20,IF(AT56=3,10,0))) -> 0 | AY56: =IF(AT56="","",AV56+AW56+AX56) | BB56: =CEILING(100*BA56/$BA$2,1) -> 0 | BC56: =IF(AZ56="",0,20) -> 0 | BD56: =IF(AZ56=1,30,IF(AZ56=2,20,IF(AZ56=3,10,0))) -> 0 | BE56: =IF(AZ56="","",BB56+BC56+BD56) | BH56: =CEILING(100*BG56/$BG$2,1) -> 0 | BI56: =IF(BF56="",0,20) -> 0 | BJ56: =IF(BF56=1,30,IF(BF56=2,20,IF(BF56=3,10,0))) -> 0 | BK56: =IF(BF56="","",BH56+BI56+BJ56)
A57: 55 | E57: =(R57+X57+AQ57+AD57+AK57+BC57+AW57+BI57)/20 -> 0 | F57: =T57 | G57: =Z57 | H57: =AF57 | I57: =AM57 | J57: =AS57 | K57: =AY57 | L57: =BE57 | M57: =BK57 | N57: =IF(E57<4,SUM(F57:M57),SUMPRODUCT(LARGE(F57:M57,{1;2;3;4}))) -> 0 | Q57: =CEILING(100*P57/$P$2,1) -> 0 | R57: =IF(O57="",0,20) -> 0 | S57: =IF(O57=1,30,IF(O57=2,20,IF(O57=3,10,0))) -> 0 | T57: =IF(O57="","",Q57+R57+S57) | W57: =CEILING(100*V57/$V$2,1) -> 0 | X57: =IF(U57="",0,20) -> 0 | Y57: =IF(U57=1,30,IF(U57=2,20,IF(U57=3,10,0))) -> 0 | Z57: =IF(U57="","",W57+X57+Y57) | AC57: =CEILING(100*AB57/$AB$2,1) -> 0 | AD57: =IF(AA57="",0,20) -> 0 | AE57: =IF(AA57=1,30,IF(AA57=2,20,IF(AA57=3,10,0))) -> 0 | AF57: =IF(AA57="","",AC57+AD57+AE57) | AJ57: =IF(AI57=0,"",CEILING(100*AH57/AI57,1)) | AK57: =IF(AG57="",0,20) -> 0 | AL57: =IF(AG57=1,30,IF(AG57=2,20,IF(AG57=3,10,0))) -> 0 | AM57: =IF(AG57="","",AJ57+AK57+AL57) | AP57: =CEILING(100*AO57/$AO$2,1) -> 0 | AQ57: =IF(AN57="",0,20) -> 0 | AR57: =IF(AN57=1,30,IF(AN57=2,20,IF(AN57=3,10,0))) -> 0 | AS57: =IF(AN57="","",AP57+AQ57+AR57) | AV57: =CEILING(100*AU57/$AU$2,1) -> 0 | AW57: =IF(AT57="",0,20) -> 0 | AX57: =IF(AT57=1,30,IF(AT57=2,20,IF(AT57=3,10,0))) -> 0 | AY57: =IF(AT57="","",AV57+AW57+AX57) | BB57: =CEILING(100*BA57/$BA$2,1) -> 0 | BC57: =IF(AZ57="",0,20) -> 0 | BD57: =IF(AZ57=1,30,IF(AZ57=2,20,IF(AZ57=3,10,0))) -> 0 | BE57: =IF(AZ57="","",BB57+BC57+BD57) | BH57: =CEILING(100*BG57/$BG$2,1) -> 0 | BI57: =IF(BF57="",0,20) -> 0 | BJ57: =IF(BF57=1,30,IF(BF57=2,20,IF(BF57=3,10,0))) -> 0 | BK57: =IF(BF57="","",BH57+BI57+BJ57)
A58: 56 | E58: =(R58+X58+AQ58+AD58+AK58+BC58+AW58+BI58)/20 -> 0 | F58: =T58 | G58: =Z58 | H58: =AF58 | I58: =AM58 | J58: =AS58 | K58: =AY58 | L58: =BE58 | M58: =BK58 | N58: =IF(E58<4,SUM(F58:M58),SUMPRODUCT(LARGE(F58:M58,{1;2;3;4}))) -> 0 | Q58: =CEILING(100*P58/$P$2,1) -> 0 | R58: =IF(O58="",0,20) -> 0 | S58: =IF(O58=1,30,IF(O58=2,20,IF(O58=3,10,0))) -> 0 | T58: =IF(O58="","",Q58+R58+S58) | W58: =CEILING(100*V58/$V$2,1) -> 0 | X58: =IF(U58="",0,20) -> 0 | Y58: =IF(U58=1,30,IF(U58=2,20,IF(U58=3,10,0))) -> 0 | Z58: =IF(U58="","",W58+X58+Y58) | AC58: =CEILING(100*AB58/$AB$2,1) -> 0 | AD58: =IF(AA58="",0,20) -> 0 | AE58: =IF(AA58=1,30,IF(AA58=2,20,IF(AA58=3,10,0))) -> 0 | AF58: =IF(AA58="","",AC58+AD58+AE58) | AJ58: =IF(AI58=0,"",CEILING(100*AH58/AI58,1)) | AK58: =IF(AG58="",0,20) -> 0 | AL58: =IF(AG58=1,30,IF(AG58=2,20,IF(AG58=3,10,0))) -> 0 | AM58: =IF(AG58="","",AJ58+AK58+AL58) | AP58: =CEILING(100*AO58/$AO$2,1) -> 0 | AQ58: =IF(AN58="",0,20) -> 0 | AR58: =IF(AN58=1,30,IF(AN58=2,20,IF(AN58=3,10,0))) -> 0 | AS58: =IF(AN58="","",AP58+AQ58+AR58) | AV58: =CEILING(100*AU58/$AU$2,1) -> 0 | AW58: =IF(AT58="",0,20) -> 0 | AX58: =IF(AT58=1,30,IF(AT58=2,20,IF(AT58=3,10,0))) -> 0 | AY58: =IF(AT58="","",AV58+AW58+AX58) | BB58: =CEILING(100*BA58/$BA$2,1) -> 0 | BC58: =IF(AZ58="",0,20) -> 0 | BD58: =IF(AZ58=1,30,IF(AZ58=2,20,IF(AZ58=3,10,0))) -> 0 | BE58: =IF(AZ58="","",BB58+BC58+BD58) | BH58: =CEILING(100*BG58/$BG$2,1) -> 0 | BI58: =IF(BF58="",0,20) -> 0 | BJ58: =IF(BF58=1,30,IF(BF58=2,20,IF(BF58=3,10,0))) -> 0 | BK58: =IF(BF58="","",BH58+BI58+BJ58)
A59: 57 | E59: =(R59+X59+AQ59+AD59+AK59+BC59+AW59+BI59)/20 -> 0 | F59: =T59 | G59: =Z59 | H59: =AF59 | I59: =AM59 | J59: =AS59 | K59: =AY59 | L59: =BE59 | M59: =BK59 | N59: =IF(E59<4,SUM(F59:M59),SUMPRODUCT(LARGE(F59:M59,{1;2;3;4}))) -> 0 | Q59: =CEILING(100*P59/$P$2,1) -> 0 | R59: =IF(O59="",0,20) -> 0 | S59: =IF(O59=1,30,IF(O59=2,20,IF(O59=3,10,0))) -> 0 | T59: =IF(O59="","",Q59+R59+S59) | W59: =CEILING(100*V59/$V$2,1) -> 0 | X59: =IF(U59="",0,20) -> 0 | Y59: =IF(U59=1,30,IF(U59=2,20,IF(U59=3,10,0))) -> 0 | Z59: =IF(U59="","",W59+X59+Y59) | AC59: =CEILING(100*AB59/$AB$2,1) -> 0 | AD59: =IF(AA59="",0,20) -> 0 | AE59: =IF(AA59=1,30,IF(AA59=2,20,IF(AA59=3,10,0))) -> 0 | AF59: =IF(AA59="","",AC59+AD59+AE59) | AJ59: =IF(AI59=0,"",CEILING(100*AH59/AI59,1)) | AK59: =IF(AG59="",0,20) -> 0 | AL59: =IF(AG59=1,30,IF(AG59=2,20,IF(AG59=3,10,0))) -> 0 | AM59: =IF(AG59="","",AJ59+AK59+AL59) | AP59: =CEILING(100*AO59/$AO$2,1) -> 0 | AQ59: =IF(AN59="",0,20) -> 0 | AR59: =IF(AN59=1,30,IF(AN59=2,20,IF(AN59=3,10,0))) -> 0 | AS59: =IF(AN59="","",AP59+AQ59+AR59) | AV59: =CEILING(100*AU59/$AU$2,1) -> 0 | AW59: =IF(AT59="",0,20) -> 0 | AX59: =IF(AT59=1,30,IF(AT59=2,20,IF(AT59=3,10,0))) -> 0 | AY59: =IF(AT59="","",AV59+AW59+AX59) | BB59: =CEILING(100*BA59/$BA$2,1) -> 0 | BC59: =IF(AZ59="",0,20) -> 0 | BD59: =IF(AZ59=1,30,IF(AZ59=2,20,IF(AZ59=3,10,0))) -> 0 | BE59: =IF(AZ59="","",BB59+BC59+BD59) | BH59: =CEILING(100*BG59/$BG$2,1) -> 0 | BI59: =IF(BF59="",0,20) -> 0 | BJ59: =IF(BF59=1,30,IF(BF59=2,20,IF(BF59=3,10,0))) -> 0 | BK59: =IF(BF59="","",BH59+BI59+BJ59)
A60: 58 | E60: =(R60+X60+AQ60+AD60+AK60+BC60+AW60+BI60)/20 -> 0 | F60: =T60 | G60: =Z60 | H60: =AF60 | I60: =AM60 | J60: =AS60 | K60: =AY60 | L60: =BE60 | M60: =BK60 | N60: =IF(E60<4,SUM(F60:M60),SUMPRODUCT(LARGE(F60:M60,{1;2;3;4}))) -> 0 | Q60: =CEILING(100*P60/$P$2,1) -> 0 | R60: =IF(O60="",0,20) -> 0 | S60: =IF(O60=1,30,IF(O60=2,20,IF(O60=3,10,0))) -> 0 | T60: =IF(O60="","",Q60+R60+S60) | W60: =CEILING(100*V60/$V$2,1) -> 0 | X60: =IF(U60="",0,20) -> 0 | Y60: =IF(U60=1,30,IF(U60=2,20,IF(U60=3,10,0))) -> 0 | Z60: =IF(U60="","",W60+X60+Y60) | AC60: =CEILING(100*AB60/$AB$2,1) -> 0 | AD60: =IF(AA60="",0,20) -> 0 | AE60: =IF(AA60=1,30,IF(AA60=2,20,IF(AA60=3,10,0))) -> 0 | AF60: =IF(AA60="","",AC60+AD60+AE60) | AJ60: =IF(AI60=0,"",CEILING(100*AH60/AI60,1)) | AK60: =IF(AG60="",0,20) -> 0 | AL60: =IF(AG60=1,30,IF(AG60=2,20,IF(AG60=3,10,0))) -> 0 | AM60: =IF(AG60="","",AJ60+AK60+AL60) | AP60: =CEILING(100*AO60/$AO$2,1) -> 0 | AQ60: =IF(AN60="",0,20) -> 0 | AR60: =IF(AN60=1,30,IF(AN60=2,20,IF(AN60=3,10,0))) -> 0 | AS60: =IF(AN60="","",AP60+AQ60+AR60) | AV60: =CEILING(100*AU60/$AU$2,1) -> 0 | AW60: =IF(AT60="",0,20) -> 0 | AX60: =IF(AT60=1,30,IF(AT60=2,20,IF(AT60=3,10,0))) -> 0 | AY60: =IF(AT60="","",AV60+AW60+AX60) | BB60: =CEILING(100*BA60/$BA$2,1) -> 0 | BC60: =IF(AZ60="",0,20) -> 0 | BD60: =IF(AZ60=1,30,IF(AZ60=2,20,IF(AZ60=3,10,0))) -> 0 | BE60: =IF(AZ60="","",BB60+BC60+BD60) | BH60: =CEILING(100*BG60/$BG$2,1) -> 0 | BI60: =IF(BF60="",0,20) -> 0 | BJ60: =IF(BF60=1,30,IF(BF60=2,20,IF(BF60=3,10,0))) -> 0 | BK60: =IF(BF60="","",BH60+BI60+BJ60)
... A74: 72 | E74: =(R74+X74+AQ74+AD74+AK74+BC74+AW74+BI74)/20 -> 0 | F74: =T74 | G74: =Z74 | H74: =AF74 | I74: =AM74 | J74: =AS74 | K74: =AY74 | L74: =BE74 | M74: =BK74 | N74: =IF(E74<4,SUM(F74:M74),SUMPRODUCT(LARGE(F74:M74,{1;2;3;4}))) -> 0 | Q74: =CEILING(100*P74/$P$2,1) -> 0 | R74: =IF(O74="",0,20) -> 0 | S74: =IF(O74=1,30,IF(O74=2,20,IF(O74=3,10,0))) -> 0 | T74: =IF(O74="","",Q74+R74+S74) | W74: =CEILING(100*V74/$V$2,1) -> 0 | X74: =IF(U74="",0,20) -> 0 | Y74: =IF(U74=1,30,IF(U74=2,20,IF(U74=3,10,0))) -> 0 | Z74: =IF(U74="","",W74+X74+Y74) | AC74: =CEILING(100*AB74/$AB$2,1) -> 0 | AD74: =IF(AA74="",0,20) -> 0 | AE74: =IF(AA74=1,30,IF(AA74=2,20,IF(AA74=3,10,0))) -> 0 | AF74: =IF(AA74="","",AC74+AD74+AE74) | AJ74: =IF(AI74=0,"",CEILING(100*AH74/AI74,1)) | AK74: =IF(AG74="",0,20) -> 0 | AL74: =IF(AG74=1,30,IF(AG74=2,20,IF(AG74=3,10,0))) -> 0 | AM74: =IF(AG74="","",AJ74+AK74+AL74) | AP74: =CEILING(100*AO74/$AO$2,1) -> 0 | AQ74: =IF(AN74="",0,20) -> 0 | AR74: =IF(AN74=1,30,IF(AN74=2,20,IF(AN74=3,10,0))) -> 0 | AS74: =IF(AN74="","",AP74+AQ74+AR74) | AV74: =CEILING(100*AU74/$AU$2,1) -> 0 | AW74: =IF(AT74="",0,20) -> 0 | AX74: =IF(AT74=1,30,IF(AT74=2,20,IF(AT74=3,10,0))) -> 0 | AY74: =IF(AT74="","",AV74+AW74+AX74) | BB74: =CEILING(100*BA74/$BA$2,1) -> 0 | BC74: =IF(AZ74="",0,20) -> 0 | BD74: =IF(AZ74=1,30,IF(AZ74=2,20,IF(AZ74=3,10,0))) -> 0 | BE74: =IF(AZ74="","",BB74+BC74+BD74) | BH74: =CEILING(100*BG74/$BG$2,1) -> 0 | BI74: =IF(BF74="",0,20) -> 0 | BJ74: =IF(BF74=1,30,IF(BF74=2,20,IF(BF74=3,10,0))) -> 0 | BK74: =IF(BF74="","",BH74+BI74+BJ74)
A75: 73 | E75: =(R75+X75+AQ75+AD75+AK75+BC75+AW75+BI75)/20 -> 0 | F75: =T75 | G75: =Z75 | H75: =AF75 | I75: =AM75 | J75: =AS75 | K75: =AY75 | L75: =BE75 | M75: =BK75 | N75: =IF(E75<4,SUM(F75:M75),SUMPRODUCT(LARGE(F75:M75,{1;2;3;4}))) -> 0 | Q75: =CEILING(100*P75/$P$2,1) -> 0 | R75: =IF(O75="",0,20) -> 0 | S75: =IF(O75=1,30,IF(O75=2,20,IF(O75=3,10,0))) -> 0 | T75: =IF(O75="","",Q75+R75+S75) | W75: =CEILING(100*V75/$V$2,1) -> 0 | X75: =IF(U75="",0,20) -> 0 | Y75: =IF(U75=1,30,IF(U75=2,20,IF(U75=3,10,0))) -> 0 | Z75: =IF(U75="","",W75+X75+Y75) | AC75: =CEILING(100*AB75/$AB$2,1) -> 0 | AD75: =IF(AA75="",0,20) -> 0 | AE75: =IF(AA75=1,30,IF(AA75=2,20,IF(AA75=3,10,0))) -> 0 | AF75: =IF(AA75="","",AC75+AD75+AE75) | AK75: =IF(AG75="",0,20) -> 0 | AL75: =IF(AG75=1,30,IF(AG75=2,20,IF(AG75=3,10,0))) -> 0 | AM75: =IF(AG75="","",AJ75+AK75+AL75) | AP75: =CEILING(100*AO75/$AO$2,1) -> 0 | AQ75: =IF(AN75="",0,20) -> 0 | AR75: =IF(AN75=1,30,IF(AN75=2,20,IF(AN75=3,10,0))) -> 0 | AS75: =IF(AN75="","",AP75+AQ75+AR75) | AV75: =CEILING(100*AU75/$AU$2,1) -> 0 | AW75: =IF(AT75="",0,20) -> 0 | AX75: =IF(AT75=1,30,IF(AT75=2,20,IF(AT75=3,10,0))) -> 0 | AY75: =IF(AT75="","",AV75+AW75+AX75) | BB75: =CEILING(100*BA75/$BA$2,1) -> 0 | BC75: =IF(AZ75="",0,20) -> 0 | BD75: =IF(AZ75=1,30,IF(AZ75=2,20,IF(AZ75=3,10,0))) -> 0 | BE75: =IF(AZ75="","",BB75+BC75+BD75) | BH75: =CEILING(100*BG75/$BG$2,1) -> 0 | BI75: =IF(BF75="",0,20) -> 0 | BJ75: =IF(BF75=1,30,IF(BF75=2,20,IF(BF75=3,10,0))) -> 0 | BK75: =IF(BF75="","",BH75+BI75+BJ75)
A76: 74 | E76: =(R76+X76+AQ76+AD76+AK76+BC76+AW76+BI76)/20 -> 0 | F76: =T76 | G76: =Z76 | H76: =AF76 | I76: =AM76 | J76: =AS76 | K76: =AY76 | L76: =BE76 | M76: =BK76 | N76: =IF(E76<4,SUM(F76:M76),SUMPRODUCT(LARGE(F76:M76,{1;2;3;4}))) -> 0 | Q76: =CEILING(100*P76/$P$2,1) -> 0 | R76: =IF(O76="",0,20) -> 0 | S76: =IF(O76=1,30,IF(O76=2,20,IF(O76=3,10,0))) -> 0 | T76: =IF(O76="","",Q76+R76+S76) | W76: =CEILING(100*V76/$V$2,1) -> 0 | X76: =IF(U76="",0,20) -> 0 | Y76: =IF(U76=1,30,IF(U76=2,20,IF(U76=3,10,0))) -> 0 | Z76: =IF(U76="","",W76+X76+Y76) | AC76: =CEILING(100*AB76/$AB$2,1) -> 0 | AD76: =IF(AA76="",0,20) -> 0 | AE76: =IF(AA76=1,30,IF(AA76=2,20,IF(AA76=3,10,0))) -> 0 | AF76: =IF(AA76="","",AC76+AD76+AE76) | AJ76: =IF(AI76=0,"",CEILING(100*AH76/AI76,1)) | AK76: =IF(AG76="",0,20) -> 0 | AL76: =IF(AG76=1,30,IF(AG76=2,20,IF(AG76=3,10,0))) -> 0 | AM76: =IF(AG76="","",AJ76+AK76+AL76) | AP76: =CEILING(100*AO76/$AO$2,1) -> 0 | AQ76: =IF(AN76="",0,20) -> 0 | AR76: =IF(AN76=1,30,IF(AN76=2,20,IF(AN76=3,10,0))) -> 0 | AS76: =IF(AN76="","",AP76+AQ76+AR76) | AV76: =CEILING(100*AU76/$AU$2,1) -> 0 | AW76: =IF(AT76="",0,20) -> 0 | AX76: =IF(AT76=1,30,IF(AT76=2,20,IF(AT76=3,10,0))) -> 0 | AY76: =IF(AT76="","",AV76+AW76+AX76) | BB76: =CEILING(100*BA76/$BA$2,1) -> 0 | BC76: =IF(AZ76="",0,20) -> 0 | BD76: =IF(AZ76=1,30,IF(AZ76=2,20,IF(AZ76=3,10,0))) -> 0 | BE76: =IF(AZ76="","",BB76+BC76+BD76) | BH76: =CEILING(100*BG76/$BG$2,1) -> 0 | BI76: =IF(BF76="",0,20) -> 0 | BJ76: =IF(BF76=1,30,IF(BF76=2,20,IF(BF76=3,10,0))) -> 0 | BK76: =IF(BF76="","",BH76+BI76+BJ76)
A77: 75 | E77: =(R77+X77+AQ77+AD77+AK77+BC77+AW77+BI77)/20 -> 0 | F77: =T77 | G77: =Z77 | H77: =AF77 | I77: =AM77 | J77: =AS77 | K77: =AY77 | L77: =BE77 | M77: =BK77 | N77: =IF(E77<4,SUM(F77:M77),SUMPRODUCT(LARGE(F77:M77,{1;2;3;4}))) -> 0 | Q77: =CEILING(100*P77/$P$2,1) -> 0 | R77: =IF(O77="",0,20) -> 0 | S77: =IF(O77=1,30,IF(O77=2,20,IF(O77=3,10,0))) -> 0 | T77: =IF(O77="","",Q77+R77+S77) | W77: =CEILING(100*V77/$V$2,1) -> 0 | X77: =IF(U77="",0,20) -> 0 | Y77: =IF(U77=1,30,IF(U77=2,20,IF(U77=3,10,0))) -> 0 | Z77: =IF(U77="","",W77+X77+Y77) | AC77: =CEILING(100*AB77/$AB$2,1) -> 0 | AD77: =IF(AA77="",0,20) -> 0 | AE77: =IF(AA77=1,30,IF(AA77=2,20,IF(AA77=3,10,0))) -> 0 | AF77: =IF(AA77="","",AC77+AD77+AE77) | AJ77: =IF(AI77=0,"",CEILING(100*AH77/AI77,1)) | AK77: =IF(AG77="",0,20) -> 0 | AL77: =IF(AG77=1,30,IF(AG77=2,20,IF(AG77=3,10,0))) -> 0 | AM77: =IF(AG77="","",AJ77+AK77+AL77) | AP77: =CEILING(100*AO77/$AO$2,1) -> 0 | AQ77: =IF(AN77="",0,20) -> 0 | AR77: =IF(AN77=1,30,IF(AN77=2,20,IF(AN77=3,10,0))) -> 0 | AS77: =IF(AN77="","",AP77+AQ77+AR77) | AV77: =CEILING(100*AU77/$AU$2,1) -> 0 | AW77: =IF(AT77="",0,20) -> 0 | AX77: =IF(AT77=1,30,IF(AT77=2,20,IF(AT77=3,10,0))) -> 0 | AY77: =IF(AT77="","",AV77+AW77+AX77) | BB77: =CEILING(100*BA77/$BA$2,1) -> 0 | BC77: =IF(AZ77="",0,20) -> 0 | BD77: =IF(AZ77=1,30,IF(AZ77=2,20,IF(AZ77=3,10,0))) -> 0 | BE77: =IF(AZ77="","",BB77+BC77+BD77) | BH77: =CEILING(100*BG77/$BG$2,1) -> 0 | BI77: =IF(BF77="",0,20) -> 0 | BJ77: =IF(BF77=1,30,IF(BF77=2,20,IF(BF77=3,10,0))) -> 0 | BK77: =IF(BF77="","",BH77+BI77+BJ77)
A78: 76 | E78: =(R78+X78+AQ78+AD78+AK78+BC78+AW78+BI78)/20 -> 0 | F78: =T78 | G78: =Z78 | H78: =AF78 | I78: =AM78 | J78: =AS78 | K78: =AY78 | L78: =BE78 | M78: =BK78 | N78: =IF(E78<4,SUM(F78:M78),SUMPRODUCT(LARGE(F78:M78,{1;2;3;4}))) -> 0 | Q78: =CEILING(100*P78/$P$2,1) -> 0 | R78: =IF(O78="",0,20) -> 0 | S78: =IF(O78=1,30,IF(O78=2,20,IF(O78=3,10,0))) -> 0 | T78: =IF(O78="","",Q78+R78+S78) | W78: =CEILING(100*V78/$V$2,1) -> 0 | X78: =IF(U78="",0,20) -> 0 | Y78: =IF(U78=1,30,IF(U78=2,20,IF(U78=3,10,0))) -> 0 | Z78: =IF(U78="","",W78+X78+Y78) | AC78: =CEILING(100*AB78/$AB$2,1) -> 0 | AD78: =IF(AA78="",0,20) -> 0 | AE78: =IF(AA78=1,30,IF(AA78=2,20,IF(AA78=3,10,0))) -> 0 | AF78: =IF(AA78="","",AC78+AD78+AE78) | AJ78: =IF(AI78=0,"",CEILING(100*AH78/AI78,1)) | AK78: =IF(AG78="",0,20) -> 0 | AL78: =IF(AG78=1,30,IF(AG78=2,20,IF(AG78=3,10,0))) -> 0 | AM78: =IF(AG78="","",AJ78+AK78+AL78) | AP78: =CEILING(100*AO78/$AO$2,1) -> 0 | AQ78: =IF(AN78="",0,20) -> 0 | AR78: =IF(AN78=1,30,IF(AN78=2,20,IF(AN78=3,10,0))) -> 0 | AS78: =IF(AN78="","",AP78+AQ78+AR78) | AV78: =CEILING(100*AU78/$AU$2,1) -> 0 | AW78: =IF(AT78="",0,20) -> 0 | AX78: =IF(AT78=1,30,IF(AT78=2,20,IF(AT78=3,10,0))) -> 0 | AY78: =IF(AT78="","",AV78+AW78+AX78) | BB78: =CEILING(100*BA78/$BA$2,1) -> 0 | BC78: =IF(AZ78="",0,20) -> 0 | BD78: =IF(AZ78=1,30,IF(AZ78=2,20,IF(AZ78=3,10,0))) -> 0 | BE78: =IF(AZ78="","",BB78+BC78+BD78) | BH78: =CEILING(100*BG78/$BG$2,1) -> 0 | BI78: =IF(BF78="",0,20) -> 0 | BJ78: =IF(BF78=1,30,IF(BF78=2,20,IF(BF78=3,10,0))) -> 0 | BK78: =IF(BF78="","",BH78+BI78+BJ78)
A79: 77 | E79: =(R79+X79+AQ79+AD79+AK79+BC79+AW79+BI79)/20 -> 0 | F79: =T79 | G79: =Z79 | H79: =AF79 | I79: =AM79 | J79: =AS79 | K79: =AY79 | L79: =BE79 | M79: =BK79 | N79: =IF(E79<4,SUM(F79:M79),SUMPRODUCT(LARGE(F79:M79,{1;2;3;4}))) -> 0 | Q79: =CEILING(100*P79/$P$2,1) -> 0 | R79: =IF(O79="",0,20) -> 0 | S79: =IF(O79=1,30,IF(O79=2,20,IF(O79=3,10,0))) -> 0 | T79: =IF(O79="","",Q79+R79+S79) | W79: =CEILING(100*V79/$V$2,1) -> 0 | X79: =IF(U79="",0,20) -> 0 | Y79: =IF(U79=1,30,IF(U79=2,20,IF(U79=3,10,0))) -> 0 | Z79: =IF(U79="","",W79+X79+Y79) | AC79: =CEILING(100*AB79/$AB$2,1) -> 0 | AD79: =IF(AA79="",0,20) -> 0 | AE79: =IF(AA79=1,30,IF(AA79=2,20,IF(AA79=3,10,0))) -> 0 | AF79: =IF(AA79="","",AC79+AD79+AE79) | AJ79: =IF(AI79=0,"",CEILING(100*AH79/AI79,1)) | AK79: =IF(AG79="",0,20) -> 0 | AL79: =IF(AG79=1,30,IF(AG79=2,20,IF(AG79=3,10,0))) -> 0 | AM79: =IF(AG79="","",AJ79+AK79+AL79) | AP79: =CEILING(100*AO79/$AO$2,1) -> 0 | AQ79: =IF(AN79="",0,20) -> 0 | AR79: =IF(AN79=1,30,IF(AN79=2,20,IF(AN79=3,10,0))) -> 0 | AS79: =IF(AN79="","",AP79+AQ79+AR79) | AV79: =CEILING(100*AU79/$AU$2,1) -> 0 | AW79: =IF(AT79="",0,20) -> 0 | AX79: =IF(AT79=1,30,IF(AT79=2,20,IF(AT79=3,10,0))) -> 0 | AY79: =IF(AT79="","",AV79+AW79+AX79) | BB79: =CEILING(100*BA79/$BA$2,1) -> 0 | BC79: =IF(AZ79="",0,20) -> 0 | BD79: =IF(AZ79=1,30,IF(AZ79=2,20,IF(AZ79=3,10,0))) -> 0 | BE79: =IF(AZ79="","",BB79+BC79+BD79) | BH79: =CEILING(100*BG79/$BG$2,1) -> 0 | BI79: =IF(BF79="",0,20) -> 0 | BJ79: =IF(BF79=1,30,IF(BF79=2,20,IF(BF79=3,10,0))) -> 0 | BK79: =IF(BF79="","",BH79+BI79+BJ79)
A80: 78 | E80: =(R80+X80+AQ80+AD80+AK80+BC80+AW80+BI80)/20 -> 0 | F80: =T80 | G80: =Z80 | H80: =AF80 | I80: =AM80 | J80: =AS80 | K80: =AY80 | L80: =BE80 | M80: =BK80 | N80: =IF(E80<4,SUM(F80:M80),SUMPRODUCT(LARGE(F80:M80,{1;2;3;4}))) -> 0 | Q80: =CEILING(100*P80/$P$2,1) -> 0 | R80: =IF(O80="",0,20) -> 0 | S80: =IF(O80=1,30,IF(O80=2,20,IF(O80=3,10,0))) -> 0 | T80: =IF(O80="","",Q80+R80+S80) | W80: =CEILING(100*V80/$V$2,1) -> 0 | X80: =IF(U80="",0,20) -> 0 | Y80: =IF(U80=1,30,IF(U80=2,20,IF(U80=3,10,0))) -> 0 | Z80: =IF(U80="","",W80+X80+Y80) | AC80: =CEILING(100*AB80/$AB$2,1) -> 0 | AD80: =IF(AA80="",0,20) -> 0 | AE80: =IF(AA80=1,30,IF(AA80=2,20,IF(AA80=3,10,0))) -> 0 | AF80: =IF(AA80="","",AC80+AD80+AE80) | AJ80: =IF(AI80=0,"",CEILING(100*AH80/AI80,1)) | AK80: =IF(AG80="",0,20) -> 0 | AL80: =IF(AG80=1,30,IF(AG80=2,20,IF(AG80=3,10,0))) -> 0 | AM80: =IF(AG80="","",AJ80+AK80+AL80) | AP80: =CEILING(100*AO80/$AO$2,1) -> 0 | AQ80: =IF(AN80="",0,20) -> 0 | AR80: =IF(AN80=1,30,IF(AN80=2,20,IF(AN80=3,10,0))) -> 0 | AS80: =IF(AN80="","",AP80+AQ80+AR80) | AV80: =CEILING(100*AU80/$AU$2,1) -> 0 | AW80: =IF(AT80="",0,20) -> 0 | AX80: =IF(AT80=1,30,IF(AT80=2,20,IF(AT80=3,10,0))) -> 0 | AY80: =IF(AT80="","",AV80+AW80+AX80) | BB80: =CEILING(100*BA80/$BA$2,1) -> 0 | BC80: =IF(AZ80="",0,20) -> 0 | BD80: =IF(AZ80=1,30,IF(AZ80=2,20,IF(AZ80=3,10,0))) -> 0 | BE80: =IF(AZ80="","",BB80+BC80+BD80) | BH80: =CEILING(100*BG80/$BG$2,1) -> 0 | BI80: =IF(BF80="",0,20) -> 0 | BJ80: =IF(BF80=1,30,IF(BF80=2,20,IF(BF80=3,10,0))) -> 0 | BK80: =IF(BF80="","",BH80+BI80+BJ80)
A81: 79 | E81: =(R81+X81+AQ81+AD81+AK81+BC81+AW81+BI81)/20 -> 0 | F81: =T81 | G81: =Z81 | H81: =AF81 | I81: =AM81 | J81: =AS81 | K81: =AY81 | L81: =BE81 | M81: =BK81 | N81: =IF(E81<4,SUM(F81:M81),SUMPRODUCT(LARGE(F81:M81,{1;2;3;4}))) -> 0 | Q81: =CEILING(100*P81/$P$2,1) -> 0 | R81: =IF(O81="",0,20) -> 0 | S81: =IF(O81=1,30,IF(O81=2,20,IF(O81=3,10,0))) -> 0 | T81: =IF(O81="","",Q81+R81+S81) | W81: =CEILING(100*V81/$V$2,1) -> 0 | X81: =IF(U81="",0,20) -> 0 | Y81: =IF(U81=1,30,IF(U81=2,20,IF(U81=3,10,0))) -> 0 | Z81: =IF(U81="","",W81+X81+Y81) | AC81: =CEILING(100*AB81/$AB$2,1) -> 0 | AD81: =IF(AA81="",0,20) -> 0 | AE81: =IF(AA81=1,30,IF(AA81=2,20,IF(AA81=3,10,0))) -> 0 | AF81: =IF(AA81="","",AC81+AD81+AE81) | AJ81: =IF(AI81=0,"",CEILING(100*AH81/AI81,1)) | AK81: =IF(AG81="",0,20) -> 0 | AL81: =IF(AG81=1,30,IF(AG81=2,20,IF(AG81=3,10,0))) -> 0 | AM81: =IF(AG81="","",AJ81+AK81+AL81) | AP81: =CEILING(100*AO81/$AO$2,1) -> 0 | AQ81: =IF(AN81="",0,20) -> 0 | AR81: =IF(AN81=1,30,IF(AN81=2,20,IF(AN81=3,10,0))) -> 0 | AS81: =IF(AN81="","",AP81+AQ81+AR81) | AV81: =CEILING(100*AU81/$AU$2,1) -> 0 | AW81: =IF(AT81="",0,20) -> 0 | AX81: =IF(AT81=1,30,IF(AT81=2,20,IF(AT81=3,10,0))) -> 0 | AY81: =IF(AT81="","",AV81+AW81+AX81) | BB81: =CEILING(100*BA81/$BA$2,1) -> 0 | BC81: =IF(AZ81="",0,20) -> 0 | BD81: =IF(AZ81=1,30,IF(AZ81=2,20,IF(AZ81=3,10,0))) -> 0 | BE81: =IF(AZ81="","",BB81+BC81+BD81) | BH81: =CEILING(100*BG81/$BG$2,1) -> 0 | BI81: =IF(BF81="",0,20) -> 0 | BJ81: =IF(BF81=1,30,IF(BF81=2,20,IF(BF81=3,10,0))) -> 0 | BK81: =IF(BF81="","",BH81+BI81+BJ81)
A82: 80

Sheet GPfinalKnattar
C4: Plac | D4: Namn | E4: Klubb | F4: Född | G4: Ingångspoäng | H4: plac | I4: 6 | J4: procp | K4: dp | L4: placp | M4: Gpfinalpoäng | N4: Slutpoäng
C5: 1 | D5: ='GP-res 26-27 Kl Knattar'!B3 -> Amos Lidé | E5: ='GP-res 26-27 Kl Knattar'!C3 -> SK Sandlöparen | F5: ='GP-res 26-27 Kl Knattar'!D3 -> 2017 | G5: ='GP-res 26-27 Kl Knattar'!N3 -> 188 | J5: =CEILING(100*I5/$I$4,1)*2 -> 0 | K5: =(IF(H5="",0,40)) -> 0 | L5: =IF(H5=1,60,IF(H5=2,40,IF(H5=3,20,0))) -> 0 | M5: =J5+K5+L5 -> 0 | N5: =M5+G5 -> 188
C6: 2 | D6: ='GP-res 26-27 Kl Knattar'!B4 -> Linnea Hongbei Liu | E6: ='GP-res 26-27 Kl Knattar'!C4 -> SK Sandlöparen | F6: ='GP-res 26-27 Kl Knattar'!D4 -> 2016 | G6: ='GP-res 26-27 Kl Knattar'!N4 -> 177 | J6: =CEILING(100*I6/$I$4,1)*2 -> 0 | K6: =(IF(H6="",0,40)) -> 0 | L6: =IF(H6=1,60,IF(H6=2,40,IF(H6=3,20,0))) -> 0 | M6: =J6+K6+L6 -> 0 | N6: =M6+G6 -> 177
C7: 3 | D7: ='GP-res 26-27 Kl Knattar'!B5 -> Ethan Preman | E7: ='GP-res 26-27 Kl Knattar'!C5 -> Lunds ASK | F7: ='GP-res 26-27 Kl Knattar'!D5 -> 2019 | G7: ='GP-res 26-27 Kl Knattar'!N5 -> 174 | J7: =CEILING(100*I7/$I$4,1)*2 -> 0 | K7: =(IF(H7="",0,40)) -> 0 | L7: =IF(H7=1,60,IF(H7=2,40,IF(H7=3,20,0))) -> 0 | M7: =J7+K7+L7 -> 0 | N7: =M7+G7 -> 174
C8: 4 | D8: ='GP-res 26-27 Kl Knattar'!B6 -> Aranya Das | E8: ='GP-res 26-27 Kl Knattar'!C6 -> Limhamns SK | F8: ='GP-res 26-27 Kl Knattar'!D6 -> 2017 | G8: ='GP-res 26-27 Kl Knattar'!N6 -> 167 | J8: =CEILING(100*I8/$I$4,1)*2 -> 0 | K8: =(IF(H8="",0,40)) -> 0 | L8: =IF(H8=1,60,IF(H8=2,40,IF(H8=3,20,0))) -> 0 | M8: =J8+K8+L8 -> 0 | N8: =M8+G8 -> 167
C9: 5 | D9: ='GP-res 26-27 Kl Knattar'!B7 -> Georg Olivemark | E9: ='GP-res 26-27 Kl Knattar'!C7 -> Malmö AS | F9: ='GP-res 26-27 Kl Knattar'!D7 -> 2016 | G9: ='GP-res 26-27 Kl Knattar'!N7 -> 154 | J9: =CEILING(100*I9/$I$4,1)*2 -> 0 | K9: =(IF(H9="",0,40)) -> 0 | L9: =IF(H9=1,60,IF(H9=2,40,IF(H9=3,20,0))) -> 0 | M9: =J9+K9+L9 -> 0 | N9: =M9+G9 -> 154
C10: 6 | D10: ='GP-res 26-27 Kl Knattar'!B8 -> Linghao Zeng | E10: ='GP-res 26-27 Kl Knattar'!C8 -> Lunds ASK | F10: ='GP-res 26-27 Kl Knattar'!D8 -> 2017 | G10: ='GP-res 26-27 Kl Knattar'!N8 -> 150 | J10: =CEILING(100*I10/$I$4,1)*2 -> 0 | K10: =(IF(H10="",0,40)) -> 0 | L10: =IF(H10=1,60,IF(H10=2,40,IF(H10=3,20,0))) -> 0 | M10: =J10+K10+L10 -> 0 | N10: =M10+G10 -> 150
C11: 7 | D11: ='GP-res 26-27 Kl Knattar'!B9 -> Minh Thuc Le Doan | E11: ='GP-res 26-27 Kl Knattar'!C9 -> Lunds ASK | F11: ='GP-res 26-27 Kl Knattar'!D9 -> 2017 | G11: ='GP-res 26-27 Kl Knattar'!N9 -> 150 | J11: =CEILING(100*I11/$I$4,1)*2 -> 0 | K11: =(IF(H11="",0,40)) -> 0 | L11: =IF(H11=1,60,IF(H11=2,40,IF(H11=3,20,0))) -> 0 | M11: =J11+K11+L11 -> 0 | N11: =M11+G11 -> 150
C12: 8 | D12: ='GP-res 26-27 Kl Knattar'!B10 -> August Faxén | E12: ='GP-res 26-27 Kl Knattar'!C10 -> Limhamns SK | F12: ='GP-res 26-27 Kl Knattar'!D10 -> 2016 | G12: ='GP-res 26-27 Kl Knattar'!N10 -> 127 | J12: =CEILING(100*I12/$I$4,1)*2 -> 0 | K12: =(IF(H12="",0,40)) -> 0 | L12: =IF(H12=1,60,IF(H12=2,40,IF(H12=3,20,0))) -> 0 | M12: =J12+K12+L12 -> 0 | N12: =M12+G12 -> 127
C13: 9 | D13: ='GP-res 26-27 Kl Knattar'!B11 -> Erik Kvalvik | E13: ='GP-res 26-27 Kl Knattar'!C11 -> Ystads SS | F13: ='GP-res 26-27 Kl Knattar'!D11 -> 2019 | G13: ='GP-res 26-27 Kl Knattar'!N11 -> 126 | J13: =CEILING(100*I13/$I$4,1)*2 -> 0 | K13: =(IF(H13="",0,40)) -> 0 | L13: =IF(H13=1,60,IF(H13=2,40,IF(H13=3,20,0))) -> 0 | M13: =J13+K13+L13 -> 0 | N13: =M13+G13 -> 126
C14: 10 | D14: ='GP-res 26-27 Kl Knattar'!B12 -> Henry Backman | E14: ='GP-res 26-27 Kl Knattar'!C12 -> Limhamns SK | F14: ='GP-res 26-27 Kl Knattar'!D12 -> 2016 | G14: ='GP-res 26-27 Kl Knattar'!N12 -> 92 | J14: =CEILING(100*I14/$I$4,1)*2 -> 0 | K14: =(IF(H14="",0,40)) -> 0 | L14: =IF(H14=1,60,IF(H14=2,40,IF(H14=3,20,0))) -> 0 | M14: =J14+K14+L14 -> 0 | N14: =M14+G14 -> 92
C15: 11 | D15: ='GP-res 26-27 Kl Knattar'!B13 -> Henrik Wen | E15: ='GP-res 26-27 Kl Knattar'!C13 -> SK Sandlöparen | F15: ='GP-res 26-27 Kl Knattar'!D13 -> 2018 | G15: ='GP-res 26-27 Kl Knattar'!N13 -> 92 | J15: =CEILING(100*I15/$I$4,1)*2 -> 0 | K15: =(IF(H15="",0,40)) -> 0 | L15: =IF(H15=1,60,IF(H15=2,40,IF(H15=3,20,0))) -> 0 | M15: =J15+K15+L15 -> 0 | N15: =M15+G15 -> 92
C16: 12 | D16: ='GP-res 26-27 Kl Knattar'!B14 -> Okko Pajunen | E16: ='GP-res 26-27 Kl Knattar'!C14 -> Limhamns SK | F16: ='GP-res 26-27 Kl Knattar'!D14 -> 2016 | G16: ='GP-res 26-27 Kl Knattar'!N14 -> 92 | J16: =CEILING(100*I16/$I$4,1)*2 -> 0 | K16: =(IF(H16="",0,40)) -> 0 | L16: =IF(H16=1,60,IF(H16=2,40,IF(H16=3,20,0))) -> 0 | M16: =J16+K16+L16 -> 0 | N16: =M16+G16 -> 92
... C24: 20 | D24: ='GP-res 26-27 Kl Knattar'!B22 -> Bhavik Sai Setikam | E24: ='GP-res 26-27 Kl Knattar'!C22 -> Helsingborgs ASK | F24: ='GP-res 26-27 Kl Knattar'!D22 -> 2018 | G24: ='GP-res 26-27 Kl Knattar'!N22 -> 78 | J24: =CEILING(100*I24/$I$4,1)*2 -> 0 | K24: =(IF(H24="",0,40)) -> 0 | L24: =IF(H24=1,60,IF(H24=2,40,IF(H24=3,20,0))) -> 0 | M24: =J24+K24+L24 -> 0 | N24: =M24+G24 -> 78

Sheet GP-res 26-27 kl M
B1: Miniorer 2014 - 2015 | P1: Skånska Skolmästerskapet | V1: Skol-SM | AC1: Malmö/MSF Open | AI1: Flick-SM | AO1: MASKen | AU1: Snabbschacks-SM | BA1: Skåne Open (DM) | BG1: Skåneblixten | BM1: Öppna Malmömästerskapen
A2: Plac | B2: Namn | C2: Klubb | D2: Född | E2: Antal | F2: GP1 | G2: GP2 | H2: GP3 | I2: GP4 | J2: GP5 | K2: GP6 | L2: GP7 | M2: GP8 | N2: GP9 | O2: GPtot | P2: plac | Q2: 6 | R2: procp | S2: dp | T2: placp | U2: GP | V2: plac | W2: resultat | X2: ronder | Y2: procp | Z2: dp | AA2: placp | AB2: GP | AC2: plac | AD2: 8 | AE2: procp | AF2: dp | AG2: placp | AH2: GP | AI2: plac | AJ2: 8 | AK2: procp | AL2: dp | AM2: placp | AN2: GP | AO2: plac | AP2: 7 | AQ2: procp | AR2: dp | AS2: placp | AT2: GP | AU2: plac | AV2: 8 | AW2: procp | AX2: dp | AY2: placp | AZ2: GP | BA2: plac | BB2: 7 | BC2: procp | BD2: dp | BE2: placp | BF2: GP | BG2: plac | BH2: 11 | BI2: procp | BJ2: dp | BK2: placp | BL2: GP | BM2: plac | BN2: 7 | BO2: procp | BP2: dp | BQ2: placp | BR2: GP
A3: 1 | B3: Fanan Jiang | C3: Lunds ASK | D3: 2014 | E3: =(+S3+Z3+AR3+AF3+AL3+BD3+AX3+BJ3+BP3)/20 -> 2 | F3: =U3 -> 114 | G3: =AB3 -> 83 | H3: =AH3 | I3: =AN3 | J3: =AT3 | K3: =AZ3 | L3: =BF3 | M3: =BL3 | N3: =BR3 | O3: =IF(E3<4,SUM(F3:N3),SUMPRODUCT(LARGE(F3:N3,{1;2;3;4}))) -> 197 | P3: 3 | Q3: 5 | R3: =CEILING(100*Q3/$Q$2,1) -> 84 | S3: =IF(P3="",0,20) -> 20 | T3: =IF(P3=1,30,IF(P3=2,20,IF(P3=3,10,0))) -> 10 | U3: =IF(P3="","",R3+S3+T3) -> 114 | V3: 11 | W3: 5 | X3: 8 | Y3: =IF(X3=0,"",CEILING(100*W3/X3,1)) -> 63 | Z3: =IF(V3="",0,20) -> 20 | AA3: =IF(V3=1,30,IF(V3=2,20,IF(V3=3,10,0))) -> 0 | AB3: =IF(V3="","",Y3+Z3+AA3) -> 83 | AE3: =CEILING(100*AD3/$AD$2,1) -> 0 | AF3: =IF(AC3="",0,20) -> 0 | AG3: =IF(AC3=1,30,IF(AC3=2,20,IF(AC3=3,10,0))) -> 0 | AH3: =IF(AC3="","",AE3+AF3+AG3) | AK3: =CEILING(100*AJ3/$AJ$2,1) -> 0 | AL3: =IF(AI3="",0,20) -> 0 | AM3: =IF(AI3=1,30,IF(AI3=2,20,IF(AI3=3,10,0))) -> 0 | AN3: =IF(AI3="","",AK3+AL3+AM3) | AQ3: =CEILING(100*AP3/$AP$2,1) -> 0 | AR3: =IF(AO3="",0,20) -> 0 | AS3: =IF(AO3=1,30,IF(AO3=2,20,IF(AO3=3,10,0))) -> 0 | AT3: =IF(AO3="","",AQ3+AR3+AS3) | AW3: =CEILING(100*AV3/$AV$2,1) -> 0 | AX3: =IF(AU3="",0,20) -> 0 | AY3: =IF(AU3=1,30,IF(AU3=2,20,IF(AU3=3,10,0))) -> 0 | AZ3: =IF(AU3="","",AW3+AX3+AY3) | BC3: =CEILING(100*BB3/$BB$2,1) -> 0 | BD3: =IF(BA3="",0,20) -> 0 | BE3: =IF(BA3=1,30,IF(BA3=2,20,IF(BA3=3,10,0))) -> 0 | BF3: =IF(BA3="","",BC3+BD3+BE3) | BI3: =CEILING(100*BH3/$BH$2,1) -> 0 | BJ3: =IF(BG3="",0,20) -> 0 | BK3: =IF(BG3=1,30,IF(BG3=2,20,IF(BG3=3,10,0))) -> 0 | BL3: =IF(BG3="","",BI3+BJ3+BK3) | BO3: =CEILING(100*BN3/$BN$2,1) -> 0 | BP3: =IF(BM3="",0,20) -> 0 | BQ3: =IF(BM3=1,30,IF(BM3=2,20,IF(BM3=3,10,0))) -> 0 | BR3: =IF(BM3="","",BO3+BP3+BQ3)
A4: 2 | B4: Michael Gurevich | C4: Limhamns SK | D4: 2014 | E4: =(+S4+Z4+AR4+AF4+AL4+BD4+AX4+BJ4+BP4)/20 -> 2 | F4: =U4 -> 95 | G4: =AB4 -> 89 | H4: =AH4 | I4: =AN4 | J4: =AT4 | K4: =AZ4 | L4: =BF4 | M4: =BL4 | N4: =BR4 | O4: =IF(E4<4,SUM(F4:N4),SUMPRODUCT(LARGE(F4:N4,{1;2;3;4}))) -> 184 | P4: 4 | Q4: 4.5 | R4: =CEILING(100*Q4/$Q$2,1) -> 75 | S4: =IF(P4="",0,20) -> 20 | T4: =IF(P4=1,30,IF(P4=2,20,IF(P4=3,10,0))) -> 0 | U4: =IF(P4="","",R4+S4+T4) -> 95 | V4: 9 | W4: 5.5 | X4: 8 | Y4: =IF(X4=0,"",CEILING(100*W4/X4,1)) -> 69 | Z4: =IF(V4="",0,20) -> 20 | AA4: =IF(V4=1,30,IF(V4=2,20,IF(V4=3,10,0))) -> 0 | AB4: =IF(V4="","",Y4+Z4+AA4) -> 89 | AE4: =CEILING(100*AD4/$AD$2,1) -> 0 | AF4: =IF(AC4="",0,20) -> 0 | AG4: =IF(AC4=1,30,IF(AC4=2,20,IF(AC4=3,10,0))) -> 0 | AH4: =IF(AC4="","",AE4+AF4+AG4) | AK4: =CEILING(100*AJ4/$AJ$2,1) -> 0 | AL4: =IF(AI4="",0,20) -> 0 | AM4: =IF(AI4=1,30,IF(AI4=2,20,IF(AI4=3,10,0))) -> 0 | AN4: =IF(AI4="","",AK4+AL4+AM4) | AQ4: =CEILING(100*AP4/$AP$2,1) -> 0 | AR4: =IF(AO4="",0,20) -> 0 | AS4: =IF(AO4=1,30,IF(AO4=2,20,IF(AO4=3,10,0))) -> 0 | AT4: =IF(AO4="","",AQ4+AR4+AS4) | AW4: =CEILING(100*AV4/$AV$2,1) -> 0 | AX4: =IF(AU4="",0,20) -> 0 | AY4: =IF(AU4=1,30,IF(AU4=2,20,IF(AU4=3,10,0))) -> 0 | AZ4: =IF(AU4="","",AW4+AX4+AY4) | BC4: =CEILING(100*BB4/$BB$2,1) -> 0 | BD4: =IF(BA4="",0,20) -> 0 | BE4: =IF(BA4=1,30,IF(BA4=2,20,IF(BA4=3,10,0))) -> 0 | BF4: =IF(BA4="","",BC4+BD4+BE4) | BI4: =CEILING(100*BH4/$BH$2,1) -> 0 | BJ4: =IF(BG4="",0,20) -> 0 | BK4: =IF(BG4=1,30,IF(BG4=2,20,IF(BG4=3,10,0))) -> 0 | BL4: =IF(BG4="","",BI4+BJ4+BK4) | BO4: =CEILING(100*BN4/$BN$2,1) -> 0 | BP4: =IF(BM4="",0,20) -> 0 | BQ4: =IF(BM4=1,30,IF(BM4=2,20,IF(BM4=3,10,0))) -> 0 | BR4: =IF(BM4="","",BO4+BP4+BQ4)
A5: 3 | B5: Hannes Bergh | C5: SK Bara Bönder | D5: 2015 | E5: =(+S5+Z5+AR5+AF5+AL5+BD5+AX5+BJ5+BP5)/20 -> 2 | F5: =U5 -> 95 | G5: =AB5 -> 75 | H5: =AH5 | I5: =AN5 | J5: =AT5 | K5: =AZ5 | L5: =BF5 | M5: =BL5 | N5: =BR5 | O5: =IF(E5<4,SUM(F5:N5),SUMPRODUCT(LARGE(F5:N5,{1;2;3;4}))) -> 170 | P5: 5 | Q5: 4.5 | R5: =CEILING(100*Q5/$Q$2,1) -> 75 | S5: =IF(P5="",0,20) -> 20 | T5: =IF(P5=1,30,IF(P5=2,20,IF(P5=3,10,0))) -> 0 | U5: =IF(P5="","",R5+S5+T5) -> 95 | V5: 15 | W5: 6 | X5: 11 | Y5: =IF(X5=0,"",CEILING(100*W5/X5,1)) -> 55 | Z5: =IF(V5="",0,20) -> 20 | AA5: =IF(V5=1,30,IF(V5=2,20,IF(V5=3,10,0))) -> 0 | AB5: =IF(V5="","",Y5+Z5+AA5) -> 75 | AE5: =CEILING(100*AD5/$AD$2,1) -> 0 | AF5: =IF(AC5="",0,20) -> 0 | AG5: =IF(AC5=1,30,IF(AC5=2,20,IF(AC5=3,10,0))) -> 0 | AH5: =IF(AC5="","",AE5+AF5+AG5) | AK5: =CEILING(100*AJ5/$AJ$2,1) -> 0 | AL5: =IF(AI5="",0,20) -> 0 | AM5: =IF(AI5=1,30,IF(AI5=2,20,IF(AI5=3,10,0))) -> 0 | AN5: =IF(AI5="","",AK5+AL5+AM5) | AQ5: =CEILING(100*AP5/$AP$2,1) -> 0 | AR5: =IF(AO5="",0,20) -> 0 | AS5: =IF(AO5=1,30,IF(AO5=2,20,IF(AO5=3,10,0))) -> 0 | AT5: =IF(AO5="","",AQ5+AR5+AS5) | AW5: =CEILING(100*AV5/$AV$2,1) -> 0 | AX5: =IF(AU5="",0,20) -> 0 | AY5: =IF(AU5=1,30,IF(AU5=2,20,IF(AU5=3,10,0))) -> 0 | AZ5: =IF(AU5="","",AW5+AX5+AY5) | BC5: =CEILING(100*BB5/$BB$2,1) -> 0 | BD5: =IF(BA5="",0,20) -> 0 | BE5: =IF(BA5=1,30,IF(BA5=2,20,IF(BA5=3,10,0))) -> 0 | BF5: =IF(BA5="","",BC5+BD5+BE5) | BI5: =CEILING(100*BH5/$BH$2,1) -> 0 | BJ5: =IF(BG5="",0,20) -> 0 | BK5: =IF(BG5=1,30,IF(BG5=2,20,IF(BG5=3,10,0))) -> 0 | BL5: =IF(BG5="","",BI5+BJ5+BK5) | BO5: =CEILING(100*BN5/$BN$2,1) -> 0 | BP5: =IF(BM5="",0,20) -> 0 | BQ5: =IF(BM5=1,30,IF(BM5=2,20,IF(BM5=3,10,0))) -> 0 | BR5: =IF(BM5="","",BO5+BP5+BQ5)
A6: 4 | B6: Leo Andersson | C6: Lunds ASK | D6: 2015 | E6: =(+S6+Z6+AR6+AF6+AL6+BD6+AX6+BJ6+BP6)/20 -> 2 | F6: =U6 -> 95 | G6: =AB6 -> 75 | H6: =AH6 | I6: =AN6 | J6: =AT6 | K6: =AZ6 | L6: =BF6 | M6: =BL6 | N6: =BR6 | O6: =IF(E6<4,SUM(F6:N6),SUMPRODUCT(LARGE(F6:N6,{1;2;3;4}))) -> 170 | P6: 6 | Q6: 4.5 | R6: =CEILING(100*Q6/$Q$2,1) -> 75 | S6: =IF(P6="",0,20) -> 20 | T6: =IF(P6=1,30,IF(P6=2,20,IF(P6=3,10,0))) -> 0 | U6: =IF(P6="","",R6+S6+T6) -> 95 | V6: 16 | W6: 6 | X6: 11 | Y6: =IF(X6=0,"",CEILING(100*W6/X6,1)) -> 55 | Z6: =IF(V6="",0,20) -> 20 | AA6: =IF(V6=1,30,IF(V6=2,20,IF(V6=3,10,0))) -> 0 | AB6: =IF(V6="","",Y6+Z6+AA6) -> 75 | AE6: =CEILING(100*AD6/$AD$2,1) -> 0 | AF6: =IF(AC6="",0,20) -> 0 | AG6: =IF(AC6=1,30,IF(AC6=2,20,IF(AC6=3,10,0))) -> 0 | AH6: =IF(AC6="","",AE6+AF6+AG6) | AK6: =CEILING(100*AJ6/$AJ$2,1) -> 0 | AL6: =IF(AI6="",0,20) -> 0 | AM6: =IF(AI6=1,30,IF(AI6=2,20,IF(AI6=3,10,0))) -> 0 | AN6: =IF(AI6="","",AK6+AL6+AM6) | AQ6: =CEILING(100*AP6/$AP$2,1) -> 0 | AR6: =IF(AO6="",0,20) -> 0 | AS6: =IF(AO6=1,30,IF(AO6=2,20,IF(AO6=3,10,0))) -> 0 | AT6: =IF(AO6="","",AQ6+AR6+AS6) | AW6: =CEILING(100*AV6/$AV$2,1) -> 0 | AX6: =IF(AU6="",0,20) -> 0 | AY6: =IF(AU6=1,30,IF(AU6=2,20,IF(AU6=3,10,0))) -> 0 | AZ6: =IF(AU6="","",AW6+AX6+AY6) | BC6: =CEILING(100*BB6/$BB$2,1) -> 0 | BD6: =IF(BA6="",0,20) -> 0 | BE6: =IF(BA6=1,30,IF(BA6=2,20,IF(BA6=3,10,0))) -> 0 | BF6: =IF(BA6="","",BC6+BD6+BE6) | BI6: =CEILING(100*BH6/$BH$2,1) -> 0 | BJ6: =IF(BG6="",0,20) -> 0 | BK6: =IF(BG6=1,30,IF(BG6=2,20,IF(BG6=3,10,0))) -> 0 | BL6: =IF(BG6="","",BI6+BJ6+BK6) | BO6: =CEILING(100*BN6/$BN$2,1) -> 0 | BP6: =IF(BM6="",0,20) -> 0 | BQ6: =IF(BM6=1,30,IF(BM6=2,20,IF(BM6=3,10,0))) -> 0 | BR6: =IF(BM6="","",BO6+BP6+BQ6)
A7: 5 | B7: Vincent Johnsson Ahlkvist | C7: En Passant | D7: 2014 | E7: =(+S7+Z7+AR7+AF7+AL7+BD7+AX7+BJ7+BP7)/20 -> 2 | F7: =U7 -> 87 | G7: =AB7 -> 77 | H7: =AH7 | I7: =AN7 | J7: =AT7 | K7: =AZ7 | L7: =BF7 | M7: =BL7 | N7: =BR7 | O7: =IF(E7<4,SUM(F7:N7),SUMPRODUCT(LARGE(F7:N7,{1;2;3;4}))) -> 164 | P7: 7 | Q7: 4 | R7: =CEILING(100*Q7/$Q$2,1) -> 67 | S7: =IF(P7="",0,20) -> 20 | T7: =IF(P7=1,30,IF(P7=2,20,IF(P7=3,10,0))) -> 0 | U7: =IF(P7="","",R7+S7+T7) -> 87 | V7: 18 | W7: 4.5 | X7: 8 | Y7: =IF(X7=0,"",CEILING(100*W7/X7,1)) -> 57 | Z7: =IF(V7="",0,20) -> 20 | AA7: =IF(V7=1,30,IF(V7=2,20,IF(V7=3,10,0))) -> 0 | AB7: =IF(V7="","",Y7+Z7+AA7) -> 77 | AE7: =CEILING(100*AD7/$AD$2,1) -> 0 | AF7: =IF(AC7="",0,20) -> 0 | AG7: =IF(AC7=1,30,IF(AC7=2,20,IF(AC7=3,10,0))) -> 0 | AH7: =IF(AC7="","",AE7+AF7+AG7) | AK7: =CEILING(100*AJ7/$AJ$2,1) -> 0 | AL7: =IF(AI7="",0,20) -> 0 | AM7: =IF(AI7=1,30,IF(AI7=2,20,IF(AI7=3,10,0))) -> 0 | AN7: =IF(AI7="","",AK7+AL7+AM7) | AQ7: =CEILING(100*AP7/$AP$2,1) -> 0 | AR7: =IF(AO7="",0,20) -> 0 | AS7: =IF(AO7=1,30,IF(AO7=2,20,IF(AO7=3,10,0))) -> 0 | AT7: =IF(AO7="","",AQ7+AR7+AS7) | AW7: =CEILING(100*AV7/$AV$2,1) -> 0 | AX7: =IF(AU7="",0,20) -> 0 | AY7: =IF(AU7=1,30,IF(AU7=2,20,IF(AU7=3,10,0))) -> 0 | AZ7: =IF(AU7="","",AW7+AX7+AY7) | BC7: =CEILING(100*BB7/$BB$2,1) -> 0 | BD7: =IF(BA7="",0,20) -> 0 | BE7: =IF(BA7=1,30,IF(BA7=2,20,IF(BA7=3,10,0))) -> 0 | BF7: =IF(BA7="","",BC7+BD7+BE7) | BI7: =CEILING(100*BH7/$BH$2,1) -> 0 | BJ7: =IF(BG7="",0,20) -> 0 | BK7: =IF(BG7=1,30,IF(BG7=2,20,IF(BG7=3,10,0))) -> 0 | BL7: =IF(BG7="","",BI7+BJ7+BK7) | BO7: =CEILING(100*BN7/$BN$2,1) -> 0 | BP7: =IF(BM7="",0,20) -> 0 | BQ7: =IF(BM7=1,30,IF(BM7=2,20,IF(BM7=3,10,0))) -> 0 | BR7: =IF(BM7="","",BO7+BP7+BQ7)
A8: 6 | B8: Myrah A. Maheshwari | C8: Limhamns SK | D8: 2014 | E8: =(+S8+Z8+AR8+AF8+AL8+BD8+AX8+BJ8+BP8)/20 -> 2 | F8: =U8 -> 87 | G8: =AB8 -> 77 | H8: =AH8 | I8: =AN8 | J8: =AT8 | K8: =AZ8 | L8: =BF8 | M8: =BL8 | N8: =BR8 | O8: =IF(E8<4,SUM(F8:N8),SUMPRODUCT(LARGE(F8:N8,{1;2;3;4}))) -> 164 | P8: 10 | Q8: 4 | R8: =CEILING(100*Q8/$Q$2,1) -> 67 | S8: =IF(P8="",0,20) -> 20 | T8: =IF(P8=1,30,IF(P8=2,20,IF(P8=3,10,0))) -> 0 | U8: =IF(P8="","",R8+S8+T8) -> 87 | V8: 21 | W8: 4.5 | X8: 8 | Y8: =IF(X8=0,"",CEILING(100*W8/X8,1)) -> 57 | Z8: =IF(V8="",0,20) -> 20 | AA8: =IF(V8=1,30,IF(V8=2,20,IF(V8=3,10,0))) -> 0 | AB8: =IF(V8="","",Y8+Z8+AA8) -> 77 | AE8: =CEILING(100*AD8/$AD$2,1) -> 0 | AF8: =IF(AC8="",0,20) -> 0 | AG8: =IF(AC8=1,30,IF(AC8=2,20,IF(AC8=3,10,0))) -> 0 | AH8: =IF(AC8="","",AE8+AF8+AG8) | AK8: =CEILING(100*AJ8/$AJ$2,1) -> 0 | AL8: =IF(AI8="",0,20) -> 0 | AM8: =IF(AI8=1,30,IF(AI8=2,20,IF(AI8=3,10,0))) -> 0 | AN8: =IF(AI8="","",AK8+AL8+AM8) | AQ8: =CEILING(100*AP8/$AP$2,1) -> 0 | AR8: =IF(AO8="",0,20) -> 0 | AS8: =IF(AO8=1,30,IF(AO8=2,20,IF(AO8=3,10,0))) -> 0 | AT8: =IF(AO8="","",AQ8+AR8+AS8) | AW8: =CEILING(100*AV8/$AV$2,1) -> 0 | AX8: =IF(AU8="",0,20) -> 0 | AY8: =IF(AU8=1,30,IF(AU8=2,20,IF(AU8=3,10,0))) -> 0 | AZ8: =IF(AU8="","",AW8+AX8+AY8) | BC8: =CEILING(100*BB8/$BB$2,1) -> 0 | BD8: =IF(BA8="",0,20) -> 0 | BE8: =IF(BA8=1,30,IF(BA8=2,20,IF(BA8=3,10,0))) -> 0 | BF8: =IF(BA8="","",BC8+BD8+BE8) | BI8: =CEILING(100*BH8/$BH$2,1) -> 0 | BJ8: =IF(BG8="",0,20) -> 0 | BK8: =IF(BG8=1,30,IF(BG8=2,20,IF(BG8=3,10,0))) -> 0 | BL8: =IF(BG8="","",BI8+BJ8+BK8) | BO8: =CEILING(100*BN8/$BN$2,1) -> 0 | BP8: =IF(BM8="",0,20) -> 0 | BQ8: =IF(BM8=1,30,IF(BM8=2,20,IF(BM8=3,10,0))) -> 0 | BR8: =IF(BM8="","",BO8+BP8+BQ8)
A9: 7 | B9: Darsh Singh | C9: Limhamns SK | D9: 2014 | E9: =(+S9+Z9+AR9+AF9+AL9+BD9+AX9+BJ9+BP9)/20 -> 2 | F9: =U9 -> 87 | G9: =AB9 -> 70 | H9: =AH9 | I9: =AN9 | J9: =AT9 | K9: =AZ9 | L9: =BF9 | M9: =BL9 | N9: =BR9 | O9: =IF(E9<4,SUM(F9:N9),SUMPRODUCT(LARGE(F9:N9,{1;2;3;4}))) -> 157 | P9: 13 | Q9: 4 | R9: =CEILING(100*Q9/$Q$2,1) -> 67 | S9: =IF(P9="",0,20) -> 20 | T9: =IF(P9=1,30,IF(P9=2,20,IF(P9=3,10,0))) -> 0 | U9: =IF(P9="","",R9+S9+T9) -> 87 | V9: 28 | W9: 4 | X9: 8 | Y9: =IF(X9=0,"",CEILING(100*W9/X9,1)) -> 50 | Z9: =IF(V9="",0,20) -> 20 | AA9: =IF(V9=1,30,IF(V9=2,20,IF(V9=3,10,0))) -> 0 | AB9: =IF(V9="","",Y9+Z9+AA9) -> 70 | AE9: =CEILING(100*AD9/$AD$2,1) -> 0 | AF9: =IF(AC9="",0,20) -> 0 | AG9: =IF(AC9=1,30,IF(AC9=2,20,IF(AC9=3,10,0))) -> 0 | AH9: =IF(AC9="","",AE9+AF9+AG9) | AK9: =CEILING(100*AJ9/$AJ$2,1) -> 0 | AL9: =IF(AI9="",0,20) -> 0 | AM9: =IF(AI9=1,30,IF(AI9=2,20,IF(AI9=3,10,0))) -> 0 | AN9: =IF(AI9="","",AK9+AL9+AM9) | AQ9: =CEILING(100*AP9/$AP$2,1) -> 0 | AR9: =IF(AO9="",0,20) -> 0 | AS9: =IF(AO9=1,30,IF(AO9=2,20,IF(AO9=3,10,0))) -> 0 | AT9: =IF(AO9="","",AQ9+AR9+AS9) | AW9: =CEILING(100*AV9/$AV$2,1) -> 0 | AX9: =IF(AU9="",0,20) -> 0 | AY9: =IF(AU9=1,30,IF(AU9=2,20,IF(AU9=3,10,0))) -> 0 | AZ9: =IF(AU9="","",AW9+AX9+AY9) | BC9: =CEILING(100*BB9/$BB$2,1) -> 0 | BD9: =IF(BA9="",0,20) -> 0 | BE9: =IF(BA9=1,30,IF(BA9=2,20,IF(BA9=3,10,0))) -> 0 | BF9: =IF(BA9="","",BC9+BD9+BE9) | BI9: =CEILING(100*BH9/$BH$2,1) -> 0 | BJ9: =IF(BG9="",0,20) -> 0 | BK9: =IF(BG9=1,30,IF(BG9=2,20,IF(BG9=3,10,0))) -> 0 | BL9: =IF(BG9="","",BI9+BJ9+BK9) | BO9: =CEILING(100*BN9/$BN$2,1) -> 0 | BP9: =IF(BM9="",0,20) -> 0 | BQ9: =IF(BM9=1,30,IF(BM9=2,20,IF(BM9=3,10,0))) -> 0 | BR9: =IF(BM9="","",BO9+BP9+BQ9)
A10: 8 | B10: Kaleb Lide | C10: SK Sandlöparen | D10: 2015 | E10: =(+S10+Z10+AR10+AF10+AL10+BD10+AX10+BJ10+BP10)/20 -> 2 | F10: =U10 -> 79 | G10: =AB10 -> 75 | H10: =AH10 | I10: =AN10 | J10: =AT10 | K10: =AZ10 | L10: =BF10 | M10: =BL10 | N10: =BR10 | O10: =IF(E10<4,SUM(F10:N10),SUMPRODUCT(LARGE(F10:N10,{1;2;3;4}))) -> 154 | P10: 14 | Q10: 3.5 | R10: =CEILING(100*Q10/$Q$2,1) -> 59 | S10: =IF(P10="",0,20) -> 20 | T10: =IF(P10=1,30,IF(P10=2,20,IF(P10=3,10,0))) -> 0 | U10: =IF(P10="","",R10+S10+T10) -> 79 | V10: 18 | W10: 6 | X10: 11 | Y10: =IF(X10=0,"",CEILING(100*W10/X10,1)) -> 55 | Z10: =IF(V10="",0,20) -> 20 | AA10: =IF(V10=1,30,IF(V10=2,20,IF(V10=3,10,0))) -> 0 | AB10: =IF(V10="","",Y10+Z10+AA10) -> 75 | AE10: =CEILING(100*AD10/$AD$2,1) -> 0 | AF10: =IF(AC10="",0,20) -> 0 | AG10: =IF(AC10=1,30,IF(AC10=2,20,IF(AC10=3,10,0))) -> 0 | AH10: =IF(AC10="","",AE10+AF10+AG10) | AK10: =CEILING(100*AJ10/$AJ$2,1) -> 0 | AL10: =IF(AI10="",0,20) -> 0 | AM10: =IF(AI10=1,30,IF(AI10=2,20,IF(AI10=3,10,0))) -> 0 | AN10: =IF(AI10="","",AK10+AL10+AM10) | AQ10: =CEILING(100*AP10/$AP$2,1) -> 0 | AR10: =IF(AO10="",0,20) -> 0 | AS10: =IF(AO10=1,30,IF(AO10=2,20,IF(AO10=3,10,0))) -> 0 | AT10: =IF(AO10="","",AQ10+AR10+AS10) | AW10: =CEILING(100*AV10/$AV$2,1) -> 0 | AX10: =IF(AU10="",0,20) -> 0 | AY10: =IF(AU10=1,30,IF(AU10=2,20,IF(AU10=3,10,0))) -> 0 | AZ10: =IF(AU10="","",AW10+AX10+AY10) | BC10: =CEILING(100*BB10/$BB$2,1) -> 0 | BD10: =IF(BA10="",0,20) -> 0 | BE10: =IF(BA10=1,30,IF(BA10=2,20,IF(BA10=3,10,0))) -> 0 | BF10: =IF(BA10="","",BC10+BD10+BE10) | BI10: =CEILING(100*BH10/$BH$2,1) -> 0 | BJ10: =IF(BG10="",0,20) -> 0 | BK10: =IF(BG10=1,30,IF(BG10=2,20,IF(BG10=3,10,0))) -> 0 | BL10: =IF(BG10="","",BI10+BJ10+BK10) | BO10: =CEILING(100*BN10/$BN$2,1) -> 0 | BP10: =IF(BM10="",0,20) -> 0 | BQ10: =IF(BM10=1,30,IF(BM10=2,20,IF(BM10=3,10,0))) -> 0 | BR10: =IF(BM10="","",BO10+BP10+BQ10)
A11: 9 | B11: Emil Mamadov | C11: Limhamns SK | D11: 2015 | E11: =(+S11+Z11+AR11+AF11+AL11+BD11+AX11+BJ11+BP11)/20 -> 2 | F11: =U11 -> 70 | G11: =AB11 -> 75 | H11: =AH11 | I11: =AN11 | J11: =AT11 | K11: =AZ11 | L11: =BF11 | M11: =BL11 | O11: =IF(E11<4,SUM(F11:N11),SUMPRODUCT(LARGE(F11:N11,{1;2;3;4}))) -> 145 | P11: 23 | Q11: 3 | R11: =CEILING(100*Q11/$Q$2,1) -> 50 | S11: =IF(P11="",0,20) -> 20 | T11: =IF(P11=1,30,IF(P11=2,20,IF(P11=3,10,0))) -> 0 | U11: =IF(P11="","",R11+S11+T11) -> 70 | V11: 19 | W11: 6 | X11: 11 | Y11: =IF(X11=0,"",CEILING(100*W11/X11,1)) -> 55 | Z11: =IF(V11="",0,20) -> 20 | AA11: =IF(V11=1,30,IF(V11=2,20,IF(V11=3,10,0))) -> 0 | AB11: =IF(V11="","",Y11+Z11+AA11) -> 75 | AE11: =CEILING(100*AD11/$AD$2,1) -> 0 | AF11: =IF(AC11="",0,20) -> 0 | AG11: =IF(AC11=1,30,IF(AC11=2,20,IF(AC11=3,10,0))) -> 0 | AH11: =IF(AC11="","",AE11+AF11+AG11) | AK11: =CEILING(100*AJ11/$AJ$2,1) -> 0 | AL11: =IF(AI11="",0,20) -> 0 | AM11: =IF(AI11=1,30,IF(AI11=2,20,IF(AI11=3,10,0))) -> 0 | AN11: =IF(AI11="","",AK11+AL11+AM11) | AQ11: =CEILING(100*AP11/$AP$2,1) -> 0 | AR11: =IF(AO11="",0,20) -> 0 | AS11: =IF(AO11=1,30,IF(AO11=2,20,IF(AO11=3,10,0))) -> 0 | AT11: =IF(AO11="","",AQ11+AR11+AS11) | AW11: =CEILING(100*AV11/$AV$2,1) -> 0 | AX11: =IF(AU11="",0,20) -> 0 | AY11: =IF(AU11=1,30,IF(AU11=2,20,IF(AU11=3,10,0))) -> 0 | AZ11: =IF(AU11="","",AW11+AX11+AY11) | BC11: =CEILING(100*BB11/$BB$2,1) -> 0 | BD11: =IF(BA11="",0,20) -> 0 | BE11: =IF(BA11=1,30,IF(BA11=2,20,IF(BA11=3,10,0))) -> 0 | BF11: =IF(BA11="","",BC11+BD11+BE11) | BI11: =CEILING(100*BH11/$BH$2,1) -> 0 | BJ11: =IF(BG11="",0,20) -> 0 | BK11: =IF(BG11=1,30,IF(BG11=2,20,IF(BG11=3,10,0))) -> 0 | BL11: =IF(BG11="","",BI11+BJ11+BK11) | BO11: =CEILING(100*BN11/$BN$2,1) -> 0 | BP11: =IF(BM11="",0,20) -> 0 | BQ11: =IF(BM11=1,30,IF(BM11=2,20,IF(BM11=3,10,0))) -> 0 | BR11: =IF(BM11="","",BO11+BP11+BQ11)
A12: 10 | B12: William Tran | C12: Lunds ASK | D12: 2015 | E12: =(+S12+Z12+AR12+AF12+AL12+BD12+AX12+BJ12+BP12)/20 -> 1 | F12: =U12 -> 142 | G12: =AB12 | H12: =AH12 | I12: =AN12 | J12: =AT12 | K12: =AZ12 | L12: =BF12 | M12: =BL12 | N12: =BR12 | O12: =IF(E12<4,SUM(F12:N12),SUMPRODUCT(LARGE(F12:N12,{1;2;3;4}))) -> 142 | P12: 1 | Q12: 5.5 | R12: =CEILING(100*Q12/$Q$2,1) -> 92 | S12: =IF(P12="",0,20) -> 20 | T12: =IF(P12=1,30,IF(P12=2,20,IF(P12=3,10,0))) -> 30 | U12: =IF(P12="","",R12+S12+T12) -> 142 | Y12: =IF(X12=0,"",CEILING(100*W12/X12,1)) | Z12: =IF(V12="",0,20) -> 0 | AA12: =IF(V12=1,30,IF(V12=2,20,IF(V12=3,10,0))) -> 0 | AB12: =IF(V12="","",Y12+Z12+AA12) | AE12: =CEILING(100*AD12/$AD$2,1) -> 0 | AF12: =IF(AC12="",0,20) -> 0 | AG12: =IF(AC12=1,30,IF(AC12=2,20,IF(AC12=3,10,0))) -> 0 | AH12: =IF(AC12="","",AE12+AF12+AG12) | AK12: =CEILING(100*AJ12/$AJ$2,1) -> 0 | AL12: =IF(AI12="",0,20) -> 0 | AM12: =IF(AI12=1,30,IF(AI12=2,20,IF(AI12=3,10,0))) -> 0 | AN12: =IF(AI12="","",AK12+AL12+AM12) | AQ12: =CEILING(100*AP12/$AP$2,1) -> 0 | AR12: =IF(AO12="",0,20) -> 0 | AS12: =IF(AO12=1,30,IF(AO12=2,20,IF(AO12=3,10,0))) -> 0 | AT12: =IF(AO12="","",AQ12+AR12+AS12) | AW12: =CEILING(100*AV12/$AV$2,1) -> 0 | AX12: =IF(AU12="",0,20) -> 0 | AY12: =IF(AU12=1,30,IF(AU12=2,20,IF(AU12=3,10,0))) -> 0 | AZ12: =IF(AU12="","",AW12+AX12+AY12) | BC12: =CEILING(100*BB12/$BB$2,1) -> 0 | BD12: =IF(BA12="",0,20) -> 0 | BE12: =IF(BA12=1,30,IF(BA12=2,20,IF(BA12=3,10,0))) -> 0 | BF12: =IF(BA12="","",BC12+BD12+BE12) | BI12: =CEILING(100*BH12/$BH$2,1) -> 0 | BJ12: =IF(BG12="",0,20) -> 0 | BK12: =IF(BG12=1,30,IF(BG12=2,20,IF(BG12=3,10,0))) -> 0 | BL12: =IF(BG12="","",BI12+BJ12+BK12) | BO12: =CEILING(100*BN12/$BN$2,1) -> 0 | BP12: =IF(BM12="",0,20) -> 0 | BQ12: =IF(BM12=1,30,IF(BM12=2,20,IF(BM12=3,10,0))) -> 0 | BR12: =IF(BM12="","",BO12+BP12+BQ12)
A13: 11 | B13: Leo Andras | C13: Helsingborgs ASK | D13: 2014 | E13: =(+S13+Z13+AR13+AF13+AL13+BD13+AX13+BJ13+BP13)/20 -> 1 | F13: =U13 -> 124 | G13: =AB13 | H13: =AH13 | I13: =AN13 | J13: =AT13 | K13: =AZ13 | L13: =BF13 | M13: =BL13 | N13: =BR13 | O13: =IF(E13<4,SUM(F13:N13),SUMPRODUCT(LARGE(F13:N13,{1;2;3;4}))) -> 124 | P13: 2 | Q13: 5 | R13: =CEILING(100*Q13/$Q$2,1) -> 84 | S13: =IF(P13="",0,20) -> 20 | T13: =IF(P13=1,30,IF(P13=2,20,IF(P13=3,10,0))) -> 20 | U13: =IF(P13="","",R13+S13+T13) -> 124 | Y13: =IF(X13=0,"",CEILING(100*W13/X13,1)) | Z13: =IF(V13="",0,20) -> 0 | AA13: =IF(V13=1,30,IF(V13=2,20,IF(V13=3,10,0))) -> 0 | AB13: =IF(V13="","",Y13+Z13+AA13) | AE13: =CEILING(100*AD13/$AD$2,1) -> 0 | AF13: =IF(AC13="",0,20) -> 0 | AG13: =IF(AC13=1,30,IF(AC13=2,20,IF(AC13=3,10,0))) -> 0 | AH13: =IF(AC13="","",AE13+AF13+AG13) | AK13: =CEILING(100*AJ13/$AJ$2,1) -> 0 | AL13: =IF(AI13="",0,20) -> 0 | AM13: =IF(AI13=1,30,IF(AI13=2,20,IF(AI13=3,10,0))) -> 0 | AN13: =IF(AI13="","",AK13+AL13+AM13) | AQ13: =CEILING(100*AP13/$AP$2,1) -> 0 | AR13: =IF(AO13="",0,20) -> 0 | AS13: =IF(AO13=1,30,IF(AO13=2,20,IF(AO13=3,10,0))) -> 0 | AT13: =IF(AO13="","",AQ13+AR13+AS13) | AW13: =CEILING(100*AV13/$AV$2,1) -> 0 | AX13: =IF(AU13="",0,20) -> 0 | AY13: =IF(AU13=1,30,IF(AU13=2,20,IF(AU13=3,10,0))) -> 0 | AZ13: =IF(AU13="","",AW13+AX13+AY13) | BC13: =CEILING(100*BB13/$BB$2,1) -> 0 | BD13: =IF(BA13="",0,20) -> 0 | BE13: =IF(BA13=1,30,IF(BA13=2,20,IF(BA13=3,10,0))) -> 0 | BF13: =IF(BA13="","",BC13+BD13+BE13) | BI13: =CEILING(100*BH13/$BH$2,1) -> 0 | BJ13: =IF(BG13="",0,20) -> 0 | BK13: =IF(BG13=1,30,IF(BG13=2,20,IF(BG13=3,10,0))) -> 0 | BL13: =IF(BG13="","",BI13+BJ13+BK13) | BO13: =CEILING(100*BN13/$BN$2,1) -> 0 | BP13: =IF(BM13="",0,20) -> 0 | BQ13: =IF(BM13=1,30,IF(BM13=2,20,IF(BM13=3,10,0))) -> 0 | BR13: =IF(BM13="","",BO13+BP13+BQ13)
A14: 12 | B14: Adweeka Phavade | C14: Limhamns SK | D14: 2014 | E14: =(+S14+Z14+AR14+AF14+AL14+BD14+AX14+BJ14+BP14)/20 -> 2 | F14: =U14 -> 54 | G14: =AB14 -> 70 | H14: =AH14 | I14: =AN14 | J14: =AT14 | K14: =AZ14 | L14: =BF14 | M14: =BL14 | N14: =BR14 | O14: =IF(E14<4,SUM(F14:N14),SUMPRODUCT(LARGE(F14:N14,{1;2;3;4}))) -> 124 | P14: 28 | Q14: 2 | R14: =CEILING(100*Q14/$Q$2,1) -> 34 | S14: =IF(P14="",0,20) -> 20 | T14: =IF(P14=1,30,IF(P14=2,20,IF(P14=3,10,0))) -> 0 | U14: =IF(P14="","",R14+S14+T14) -> 54 | V14: 34 | W14: 4 | X14: 8 | Y14: =IF(X14=0,"",CEILING(100*W14/X14,1)) -> 50 | Z14: =IF(V14="",0,20) -> 20 | AA14: =IF(V14=1,30,IF(V14=2,20,IF(V14=3,10,0))) -> 0 | AB14: =IF(V14="","",Y14+Z14+AA14) -> 70 | AE14: =CEILING(100*AD14/$AD$2,1) -> 0 | AF14: =IF(AC14="",0,20) -> 0 | AG14: =IF(AC14=1,30,IF(AC14=2,20,IF(AC14=3,10,0))) -> 0 | AH14: =IF(AC14="","",AE14+AF14+AG14) | AK14: =CEILING(100*AJ14/$AJ$2,1) -> 0 | AL14: =IF(AI14="",0,20) -> 0 | AM14: =IF(AI14=1,30,IF(AI14=2,20,IF(AI14=3,10,0))) -> 0 | AN14: =IF(AI14="","",AK14+AL14+AM14) | AQ14: =CEILING(100*AP14/$AP$2,1) -> 0 | AR14: =IF(AO14="",0,20) -> 0 | AS14: =IF(AO14=1,30,IF(AO14=2,20,IF(AO14=3,10,0))) -> 0 | AT14: =IF(AO14="","",AQ14+AR14+AS14) | AW14: =CEILING(100*AV14/$AV$2,1) -> 0 | AX14: =IF(AU14="",0,20) -> 0 | AY14: =IF(AU14=1,30,IF(AU14=2,20,IF(AU14=3,10,0))) -> 0 | AZ14: =IF(AU14="","",AW14+AX14+AY14) | BC14: =CEILING(100*BB14/$BB$2,1) -> 0 | BD14: =IF(BA14="",0,20) -> 0 | BE14: =IF(BA14=1,30,IF(BA14=2,20,IF(BA14=3,10,0))) -> 0 | BF14: =IF(BA14="","",BC14+BD14+BE14) | BI14: =CEILING(100*BH14/$BH$2,1) -> 0 | BJ14: =IF(BG14="",0,20) -> 0 | BK14: =IF(BG14=1,30,IF(BG14=2,20,IF(BG14=3,10,0))) -> 0 | BL14: =IF(BG14="","",BI14+BJ14+BK14) | BO14: =CEILING(100*BN14/$BN$2,1) -> 0 | BP14: =IF(BM14="",0,20) -> 0 | BQ14: =IF(BM14=1,30,IF(BM14=2,20,IF(BM14=3,10,0))) -> 0 | BR14: =IF(BM14="","",BO14+BP14+BQ14)
A15: 13 | B15: Arshika Raj | C15: Limhamns SK | D15: 2015 | E15: =(+S15+Z15+AR15+AF15+AL15+BD15+AX15+BJ15+BP15)/20 -> 2 | F15: =U15 -> 54 | G15: =AB15 -> 61 | H15: =AH15 | I15: =AN15 | J15: =AT15 | K15: =AZ15 | L15: =BF15 | M15: =BL15 | O15: =IF(E15<4,SUM(F15:N15),SUMPRODUCT(LARGE(F15:N15,{1;2;3;4}))) -> 115 | P15: 33 | Q15: 2 | R15: =CEILING(100*Q15/$Q$2,1) -> 34 | S15: =IF(P15="",0,20) -> 20 | T15: =IF(P15=1,30,IF(P15=2,20,IF(P15=3,10,0))) -> 0 | U15: =IF(P15="","",R15+S15+T15) -> 54 | V15: 34 | W15: 4.5 | X15: 11 | Y15: =IF(X15=0,"",CEILING(100*W15/X15,1)) -> 41 | Z15: =IF(V15="",0,20) -> 20 | AA15: =IF(V15=1,30,IF(V15=2,20,IF(V15=3,10,0))) -> 0 | AB15: =IF(V15="","",Y15+Z15+AA15) -> 61 | AE15: =CEILING(100*AD15/$AD$2,1) -> 0 | AF15: =IF(AC15="",0,20) -> 0 | AG15: =IF(AC15=1,30,IF(AC15=2,20,IF(AC15=3,10,0))) -> 0 | AH15: =IF(AC15="","",AE15+AF15+AG15) | AK15: =CEILING(100*AJ15/$AJ$2,1) -> 0 | AL15: =IF(AI15="",0,20) -> 0 | AM15: =IF(AI15=1,30,IF(AI15=2,20,IF(AI15=3,10,0))) -> 0 | AN15: =IF(AI15="","",AK15+AL15+AM15) | AQ15: =CEILING(100*AP15/$AP$2,1) -> 0 | AR15: =IF(AO15="",0,20) -> 0 | AS15: =IF(AO15=1,30,IF(AO15=2,20,IF(AO15=3,10,0))) -> 0 | AT15: =IF(AO15="","",AQ15+AR15+AS15) | AW15: =CEILING(100*AV15/$AV$2,1) -> 0 | AX15: =IF(AU15="",0,20) -> 0 | AY15: =IF(AU15=1,30,IF(AU15=2,20,IF(AU15=3,10,0))) -> 0 | AZ15: =IF(AU15="","",AW15+AX15+AY15) | BC15: =CEILING(100*BB15/$BB$2,1) -> 0 | BD15: =IF(BA15="",0,20) -> 0 | BE15: =IF(BA15=1,30,IF(BA15=2,20,IF(BA15=3,10,0))) -> 0 | BF15: =IF(BA15="","",BC15+BD15+BE15) | BI15: =CEILING(100*BH15/$BH$2,1) -> 0 | BJ15: =IF(BG15="",0,20) -> 0 | BK15: =IF(BG15=1,30,IF(BG15=2,20,IF(BG15=3,10,0))) -> 0 | BL15: =IF(BG15="","",BI15+BJ15+BK15) | BO15: =CEILING(100*BN15/$BN$2,1) -> 0 | BP15: =IF(BM15="",0,20) -> 0 | BQ15: =IF(BM15=1,30,IF(BM15=2,20,IF(BM15=3,10,0))) -> 0 | BR15: =IF(BM15="","",BO15+BP15+BQ15)
A16: 14 | B16: Jerry Wen | C16: SK Sandlöparen | D16: 2015 | E16: =(+S16+Z16+AR16+AF16+AL16+BD16+AX16+BJ16+BP16)/20 -> 1 | F16: =U16 -> 87 | G16: =AB16 | H16: =AH16 | I16: =AN16 | J16: =AT16 | K16: =AZ16 | L16: =BF16 | M16: =BL16 | N16: =BR16 | O16: =IF(E16<4,SUM(F16:N16),SUMPRODUCT(LARGE(F16:N16,{1;2;3;4}))) -> 87 | P16: 8 | Q16: 4 | R16: =CEILING(100*Q16/$Q$2,1) -> 67 | S16: =IF(P16="",0,20) -> 20 | T16: =IF(P16=1,30,IF(P16=2,20,IF(P16=3,10,0))) -> 0 | U16: =IF(P16="","",R16+S16+T16) -> 87 | Y16: =IF(X16=0,"",CEILING(100*W16/X16,1)) | Z16: =IF(V16="",0,20) -> 0 | AA16: =IF(V16=1,30,IF(V16=2,20,IF(V16=3,10,0))) -> 0 | AB16: =IF(V16="","",Y16+Z16+AA16) | AE16: =CEILING(100*AD16/$AD$2,1) -> 0 | AF16: =IF(AC16="",0,20) -> 0 | AG16: =IF(AC16=1,30,IF(AC16=2,20,IF(AC16=3,10,0))) -> 0 | AH16: =IF(AC16="","",AE16+AF16+AG16) | AK16: =CEILING(100*AJ16/$AJ$2,1) -> 0 | AL16: =IF(AI16="",0,20) -> 0 | AM16: =IF(AI16=1,30,IF(AI16=2,20,IF(AI16=3,10,0))) -> 0 | AN16: =IF(AI16="","",AK16+AL16+AM16) | AQ16: =CEILING(100*AP16/$AP$2,1) -> 0 | AR16: =IF(AO16="",0,20) -> 0 | AS16: =IF(AO16=1,30,IF(AO16=2,20,IF(AO16=3,10,0))) -> 0 | AT16: =IF(AO16="","",AQ16+AR16+AS16) | AW16: =CEILING(100*AV16/$AV$2,1) -> 0 | AX16: =IF(AU16="",0,20) -> 0 | AY16: =IF(AU16=1,30,IF(AU16=2,20,IF(AU16=3,10,0))) -> 0 | AZ16: =IF(AU16="","",AW16+AX16+AY16) | BC16: =CEILING(100*BB16/$BB$2,1) -> 0 | BD16: =IF(BA16="",0,20) -> 0 | BE16: =IF(BA16=1,30,IF(BA16=2,20,IF(BA16=3,10,0))) -> 0 | BF16: =IF(BA16="","",BC16+BD16+BE16) | BI16: =CEILING(100*BH16/$BH$2,1) -> 0 | BJ16: =IF(BG16="",0,20) -> 0 | BK16: =IF(BG16=1,30,IF(BG16=2,20,IF(BG16=3,10,0))) -> 0 | BL16: =IF(BG16="","",BI16+BJ16+BK16) | BO16: =CEILING(100*BN16/$BN$2,1) -> 0 | BP16: =IF(BM16="",0,20) -> 0 | BQ16: =IF(BM16=1,30,IF(BM16=2,20,IF(BM16=3,10,0))) -> 0 | BR16: =IF(BM16="","",BO16+BP16+BQ16)
A17: 15 | B17: Jagrav Agarwal | C17: Helsingborgs ASK | D17: 2015 | E17: =(+S17+Z17+AR17+AF17+AL17+BD17+AX17+BJ17+BP17)/20 -> 1 | F17: =U17 -> 87 | G17: =AB17 | H17: =AH17 | I17: =AN17 | J17: =AT17 | K17: =AZ17 | L17: =BF17 | M17: =BL17 | N17: =BR17 | O17: =IF(E17<4,SUM(F17:N17),SUMPRODUCT(LARGE(F17:N17,{1;2;3;4}))) -> 87 | P17: 9 | Q17: 4 | R17: =CEILING(100*Q17/$Q$2,1) -> 67 | S17: =IF(P17="",0,20) -> 20 | T17: =IF(P17=1,30,IF(P17=2,20,IF(P17=3,10,0))) -> 0 | U17: =IF(P17="","",R17+S17+T17) -> 87 | Y17: =IF(X17=0,"",CEILING(100*W17/X17,1)) | Z17: =IF(V17="",0,20) -> 0 | AA17: =IF(V17=1,30,IF(V17=2,20,IF(V17=3,10,0))) -> 0 | AB17: =IF(V17="","",Y17+Z17+AA17) | AE17: =CEILING(100*AD17/$AD$2,1) -> 0 | AF17: =IF(AC17="",0,20) -> 0 | AG17: =IF(AC17=1,30,IF(AC17=2,20,IF(AC17=3,10,0))) -> 0 | AH17: =IF(AC17="","",AE17+AF17+AG17) | AK17: =CEILING(100*AJ17/$AJ$2,1) -> 0 | AL17: =IF(AI17="",0,20) -> 0 | AM17: =IF(AI17=1,30,IF(AI17=2,20,IF(AI17=3,10,0))) -> 0 | AN17: =IF(AI17="","",AK17+AL17+AM17) | AQ17: =CEILING(100*AP17/$AP$2,1) -> 0 | AR17: =IF(AO17="",0,20) -> 0 | AS17: =IF(AO17=1,30,IF(AO17=2,20,IF(AO17=3,10,0))) -> 0 | AT17: =IF(AO17="","",AQ17+AR17+AS17) | AW17: =CEILING(100*AV17/$AV$2,1) -> 0 | AX17: =IF(AU17="",0,20) -> 0 | AY17: =IF(AU17=1,30,IF(AU17=2,20,IF(AU17=3,10,0))) -> 0 | AZ17: =IF(AU17="","",AW17+AX17+AY17) | BC17: =CEILING(100*BB17/$BB$2,1) -> 0 | BD17: =IF(BA17="",0,20) -> 0 | BE17: =IF(BA17=1,30,IF(BA17=2,20,IF(BA17=3,10,0))) -> 0 | BF17: =IF(BA17="","",BC17+BD17+BE17) | BI17: =CEILING(100*BH17/$BH$2,1) -> 0 | BJ17: =IF(BG17="",0,20) -> 0 | BK17: =IF(BG17=1,30,IF(BG17=2,20,IF(BG17=3,10,0))) -> 0 | BL17: =IF(BG17="","",BI17+BJ17+BK17) | BO17: =CEILING(100*BN17/$BN$2,1) -> 0 | BP17: =IF(BM17="",0,20) -> 0 | BQ17: =IF(BM17=1,30,IF(BM17=2,20,IF(BM17=3,10,0))) -> 0 | BR17: =IF(BM17="","",BO17+BP17+BQ17)
A18: 16 | B18: Ossian Häll | C18: Limhamns SK | D18: 2014 | E18: =(+S18+Z18+AR18+AF18+AL18+BD18+AX18+BJ18+BP18)/20 -> 1 | F18: =U18 -> 87 | G18: =AB18 | H18: =AH18 | I18: =AN18 | J18: =AT18 | K18: =AZ18 | L18: =BF18 | M18: =BL18 | N18: =BR18 | O18: =IF(E18<4,SUM(F18:N18),SUMPRODUCT(LARGE(F18:N18,{1;2;3;4}))) -> 87 | P18: 11 | Q18: 4 | R18: =CEILING(100*Q18/$Q$2,1) -> 67 | S18: =IF(P18="",0,20) -> 20 | T18: =IF(P18=1,30,IF(P18=2,20,IF(P18=3,10,0))) -> 0 | U18: =IF(P18="","",R18+S18+T18) -> 87 | Y18: =IF(X18=0,"",CEILING(100*W18/X18,1)) | Z18: =IF(V18="",0,20) -> 0 | AA18: =IF(V18=1,30,IF(V18=2,20,IF(V18=3,10,0))) -> 0 | AB18: =IF(V18="","",Y18+Z18+AA18) | AE18: =CEILING(100*AD18/$AD$2,1) -> 0 | AF18: =IF(AC18="",0,20) -> 0 | AG18: =IF(AC18=1,30,IF(AC18=2,20,IF(AC18=3,10,0))) -> 0 | AH18: =IF(AC18="","",AE18+AF18+AG18) | AK18: =CEILING(100*AJ18/$AJ$2,1) -> 0 | AL18: =IF(AI18="",0,20) -> 0 | AM18: =IF(AI18=1,30,IF(AI18=2,20,IF(AI18=3,10,0))) -> 0 | AN18: =IF(AI18="","",AK18+AL18+AM18) | AQ18: =CEILING(100*AP18/$AP$2,1) -> 0 | AR18: =IF(AO18="",0,20) -> 0 | AS18: =IF(AO18=1,30,IF(AO18=2,20,IF(AO18=3,10,0))) -> 0 | AT18: =IF(AO18="","",AQ18+AR18+AS18) | AW18: =CEILING(100*AV18/$AV$2,1) -> 0 | AX18: =IF(AU18="",0,20) -> 0 | AY18: =IF(AU18=1,30,IF(AU18=2,20,IF(AU18=3,10,0))) -> 0 | AZ18: =IF(AU18="","",AW18+AX18+AY18) | BC18: =CEILING(100*BB18/$BB$2,1) -> 0 | BD18: =IF(BA18="",0,20) -> 0 | BE18: =IF(BA18=1,30,IF(BA18=2,20,IF(BA18=3,10,0))) -> 0 | BF18: =IF(BA18="","",BC18+BD18+BE18) | BI18: =CEILING(100*BH18/$BH$2,1) -> 0 | BJ18: =IF(BG18="",0,20) -> 0 | BK18: =IF(BG18=1,30,IF(BG18=2,20,IF(BG18=3,10,0))) -> 0 | BL18: =IF(BG18="","",BI18+BJ18+BK18) | BO18: =CEILING(100*BN18/$BN$2,1) -> 0 | BP18: =IF(BM18="",0,20) -> 0 | BQ18: =IF(BM18=1,30,IF(BM18=2,20,IF(BM18=3,10,0))) -> 0 | BR18: =IF(BM18="","",BO18+BP18+BQ18)
A19: 17 | B19: Srihas Santhosh Kumar | C19: Limhamns SK | D19: 2014 | E19: =(+S19+Z19+AR19+AF19+AL19+BD19+AX19+BJ19+BP19)/20 -> 1 | F19: =U19 -> 87 | G19: =AB19 | H19: =AH19 | I19: =AN19 | J19: =AT19 | K19: =AZ19 | L19: =BF19 | M19: =BL19 | O19: =IF(E19<4,SUM(F19:N19),SUMPRODUCT(LARGE(F19:N19,{1;2;3;4}))) -> 87 | P19: 12 | Q19: 4 | R19: =CEILING(100*Q19/$Q$2,1) -> 67 | S19: =IF(P19="",0,20) -> 20 | T19: =IF(P19=1,30,IF(P19=2,20,IF(P19=3,10,0))) -> 0 | U19: =IF(P19="","",R19+S19+T19) -> 87 | Y19: =IF(X19=0,"",CEILING(100*W19/X19,1)) | Z19: =IF(V19="",0,20) -> 0 | AA19: =IF(V19=1,30,IF(V19=2,20,IF(V19=3,10,0))) -> 0 | AB19: =IF(V19="","",Y19+Z19+AA19) | AE19: =CEILING(100*AD19/$AD$2,1) -> 0 | AF19: =IF(AC19="",0,20) -> 0 | AG19: =IF(AC19=1,30,IF(AC19=2,20,IF(AC19=3,10,0))) -> 0 | AH19: =IF(AC19="","",AE19+AF19+AG19) | AK19: =CEILING(100*AJ19/$AJ$2,1) -> 0 | AL19: =IF(AI19="",0,20) -> 0 | AM19: =IF(AI19=1,30,IF(AI19=2,20,IF(AI19=3,10,0))) -> 0 | AN19: =IF(AI19="","",AK19+AL19+AM19) | AQ19: =CEILING(100*AP19/$AP$2,1) -> 0 | AR19: =IF(AO19="",0,20) -> 0 | AS19: =IF(AO19=1,30,IF(AO19=2,20,IF(AO19=3,10,0))) -> 0 | AT19: =IF(AO19="","",AQ19+AR19+AS19) | AW19: =CEILING(100*AV19/$AV$2,1) -> 0 | AX19: =IF(AU19="",0,20) -> 0 | AY19: =IF(AU19=1,30,IF(AU19=2,20,IF(AU19=3,10,0))) -> 0 | AZ19: =IF(AU19="","",AW19+AX19+AY19) | BC19: =CEILING(100*BB19/$BB$2,1) -> 0 | BD19: =IF(BA19="",0,20) -> 0 | BE19: =IF(BA19=1,30,IF(BA19=2,20,IF(BA19=3,10,0))) -> 0 | BF19: =IF(BA19="","",BC19+BD19+BE19) | BI19: =CEILING(100*BH19/$BH$2,1) -> 0 | BJ19: =IF(BG19="",0,20) -> 0 | BK19: =IF(BG19=1,30,IF(BG19=2,20,IF(BG19=3,10,0))) -> 0 | BL19: =IF(BG19="","",BI19+BJ19+BK19) | BO19: =CEILING(100*BN19/$BN$2,1) -> 0 | BP19: =IF(BM19="",0,20) -> 0 | BQ19: =IF(BM19=1,30,IF(BM19=2,20,IF(BM19=3,10,0))) -> 0 | BR19: =IF(BM19="","",BO19+BP19+BQ19)
A20: 18 | B20: Sion Nivstrand Wikdahl | C20: Lunds ASK | D20: 2014 | E20: =(+S20+Z20+AR20+AF20+AL20+BD20+AX20+BJ20+BP20)/20 -> 1 | F20: =U20 -> 87 | G20: =AB20 | H20: =AH20 | I20: =AN20 | J20: =AT20 | K20: =AZ20 | L20: =BF20 | M20: =BL20 | N20: =BR20 | O20: =IF(E20<4,SUM(F20:N20),SUMPRODUCT(LARGE(F20:N20,{1;2;3;4}))) -> 87 | P20: 7 | Q20: 4 | R20: =CEILING(100*Q20/$Q$2,1) -> 67 | S20: =IF(P20="",0,20) -> 20 | T20: =IF(P20=1,30,IF(P20=2,20,IF(P20=3,10,0))) -> 0 | U20: =IF(P20="","",R20+S20+T20) -> 87 | Y20: =IF(X20=0,"",CEILING(100*W20/X20,1)) | Z20: =IF(V20="",0,20) -> 0 | AA20: =IF(V20=1,30,IF(V20=2,20,IF(V20=3,10,0))) -> 0 | AB20: =IF(V20="","",Y20+Z20+AA20) | AE20: =CEILING(100*AD20/$AD$2,1) -> 0 | AF20: =IF(AC20="",0,20) -> 0 | AG20: =IF(AC20=1,30,IF(AC20=2,20,IF(AC20=3,10,0))) -> 0 | AH20: =IF(AC20="","",AE20+AF20+AG20) | AK20: =CEILING(100*AJ20/$AJ$2,1) -> 0 | AL20: =IF(AI20="",0,20) -> 0 | AM20: =IF(AI20=1,30,IF(AI20=2,20,IF(AI20=3,10,0))) -> 0 | AN20: =IF(AI20="","",AK20+AL20+AM20) | AQ20: =CEILING(100*AP20/$AP$2,1) -> 0 | AR20: =IF(AO20="",0,20) -> 0 | AS20: =IF(AO20=1,30,IF(AO20=2,20,IF(AO20=3,10,0))) -> 0 | AT20: =IF(AO20="","",AQ20+AR20+AS20) | AW20: =CEILING(100*AV20/$AV$2,1) -> 0 | AX20: =IF(AU20="",0,20) -> 0 | AY20: =IF(AU20=1,30,IF(AU20=2,20,IF(AU20=3,10,0))) -> 0 | AZ20: =IF(AU20="","",AW20+AX20+AY20) | BC20: =CEILING(100*BB20/$BB$2,1) -> 0 | BD20: =IF(BA20="",0,20) -> 0 | BE20: =IF(BA20=1,30,IF(BA20=2,20,IF(BA20=3,10,0))) -> 0 | BF20: =IF(BA20="","",BC20+BD20+BE20) | BI20: =CEILING(100*BH20/$BH$2,1) -> 0 | BJ20: =IF(BG20="",0,20) -> 0 | BK20: =IF(BG20=1,30,IF(BG20=2,20,IF(BG20=3,10,0))) -> 0 | BL20: =IF(BG20="","",BI20+BJ20+BK20) | BO20: =CEILING(100*BN20/$BN$2,1) -> 0 | BP20: =IF(BM20="",0,20) -> 0 | BQ20: =IF(BM20=1,30,IF(BM20=2,20,IF(BM20=3,10,0))) -> 0 | BR20: =IF(BM20="","",BO20+BP20+BQ20)
A21: 19 | B21: Duy Thuc Le Doan | C21: Lunds ASK | D21: 2015 | E21: =(+S21+Z21+AR21+AF21+AL21+BD21+AX21+BJ21+BP21)/20 -> 1 | F21: =U21 | G21: =AB21 -> 84 | H21: =AH21 | I21: =AN21 | J21: =AT21 | K21: =AZ21 | L21: =BF21 | M21: =BL21 | N21: =BR21 | O21: =IF(E21<4,SUM(F21:N21),SUMPRODUCT(LARGE(F21:N21,{1;2;3;4}))) -> 84 | R21: =CEILING(100*Q21/$Q$2,1) -> 0 | S21: =IF(P21="",0,20) -> 0 | T21: =IF(P21=1,30,IF(P21=2,20,IF(P21=3,10,0))) -> 0 | U21: =IF(P21="","",R21+S21+T21) | V21: 5 | W21: 7 | X21: 11 | Y21: =IF(X21=0,"",CEILING(100*W21/X21,1)) -> 64 | Z21: =IF(V21="",0,20) -> 20 | AA21: =IF(V21=1,30,IF(V21=2,20,IF(V21=3,10,0))) -> 0 | AB21: =IF(V21="","",Y21+Z21+AA21) -> 84 | AE21: =CEILING(100*AD21/$AD$2,1) -> 0 | AF21: =IF(AC21="",0,20) -> 0 | AG21: =IF(AC21=1,30,IF(AC21=2,20,IF(AC21=3,10,0))) -> 0 | AH21: =IF(AC21="","",AE21+AF21+AG21) | AK21: =CEILING(100*AJ21/$AJ$2,1) -> 0 | AL21: =IF(AI21="",0,20) -> 0 | AM21: =IF(AI21=1,30,IF(AI21=2,20,IF(AI21=3,10,0))) -> 0 | AN21: =IF(AI21="","",AK21+AL21+AM21) | AQ21: =CEILING(100*AP21/$AP$2,1) -> 0 | AR21: =IF(AO21="",0,20) -> 0 | AS21: =IF(AO21=1,30,IF(AO21=2,20,IF(AO21=3,10,0))) -> 0 | AT21: =IF(AO21="","",AQ21+AR21+AS21) | AW21: =CEILING(100*AV21/$AV$2,1) -> 0 | AX21: =IF(AU21="",0,20) -> 0 | AY21: =IF(AU21=1,30,IF(AU21=2,20,IF(AU21=3,10,0))) -> 0 | AZ21: =IF(AU21="","",AW21+AX21+AY21) | BC21: =CEILING(100*BB21/$BB$2,1) -> 0 | BD21: =IF(BA21="",0,20) -> 0 | BE21: =IF(BA21=1,30,IF(BA21=2,20,IF(BA21=3,10,0))) -> 0 | BF21: =IF(BA21="","",BC21+BD21+BE21) | BI21: =CEILING(100*BH21/$BH$2,1) -> 0 | BJ21: =IF(BG21="",0,20) -> 0 | BK21: =IF(BG21=1,30,IF(BG21=2,20,IF(BG21=3,10,0))) -> 0 | BL21: =IF(BG21="","",BI21+BJ21+BK21) | BO21: =CEILING(100*BN21/$BN$2,1) -> 0 | BP21: =IF(BM21="",0,20) -> 0 | BQ21: =IF(BM21=1,30,IF(BM21=2,20,IF(BM21=3,10,0))) -> 0 | BR21: =IF(BM21="","",BO21+BP21+BQ21)
A22: 20 | B22: Kuzma Synelnykov | C22: Helsingborgs ASK | D22: 2014 | E22: =(+S22+Z22+AR22+AF22+AL22+BD22+AX22+BJ22+BP22)/20 -> 1 | F22: =U22 -> 79 | G22: =AB22 | H22: =AH22 | I22: =AN22 | J22: =AT22 | K22: =AZ22 | L22: =BF22 | M22: =BL22 | N22: =BR22 | O22: =IF(E22<4,SUM(F22:N22),SUMPRODUCT(LARGE(F22:N22,{1;2;3;4}))) -> 79 | P22: 15 | Q22: 3.5 | R22: =CEILING(100*Q22/$Q$2,1) -> 59 | S22: =IF(P22="",0,20) -> 20 | T22: =IF(P22=1,30,IF(P22=2,20,IF(P22=3,10,0))) -> 0 | U22: =IF(P22="","",R22+S22+T22) -> 79 | Y22: =IF(X22=0,"",CEILING(100*W22/X22,1)) | Z22: =IF(V22="",0,20) -> 0 | AA22: =IF(V22=1,30,IF(V22=2,20,IF(V22=3,10,0))) -> 0 | AB22: =IF(V22="","",Y22+Z22+AA22) | AE22: =CEILING(100*AD22/$AD$2,1) -> 0 | AF22: =IF(AC22="",0,20) -> 0 | AG22: =IF(AC22=1,30,IF(AC22=2,20,IF(AC22=3,10,0))) -> 0 | AH22: =IF(AC22="","",AE22+AF22+AG22) | AK22: =CEILING(100*AJ22/$AJ$2,1) -> 0 | AL22: =IF(AI22="",0,20) -> 0 | AM22: =IF(AI22=1,30,IF(AI22=2,20,IF(AI22=3,10,0))) -> 0 | AN22: =IF(AI22="","",AK22+AL22+AM22) | AQ22: =CEILING(100*AP22/$AP$2,1) -> 0 | AR22: =IF(AO22="",0,20) -> 0 | AS22: =IF(AO22=1,30,IF(AO22=2,20,IF(AO22=3,10,0))) -> 0 | AT22: =IF(AO22="","",AQ22+AR22+AS22) | AW22: =CEILING(100*AV22/$AV$2,1) -> 0 | AX22: =IF(AU22="",0,20) -> 0 | AY22: =IF(AU22=1,30,IF(AU22=2,20,IF(AU22=3,10,0))) -> 0 | AZ22: =IF(AU22="","",AW22+AX22+AY22) | BC22: =CEILING(100*BB22/$BB$2,1) -> 0 | BD22: =IF(BA22="",0,20) -> 0 | BE22: =IF(BA22=1,30,IF(BA22=2,20,IF(BA22=3,10,0))) -> 0 | BF22: =IF(BA22="","",BC22+BD22+BE22) | BI22: =CEILING(100*BH22/$BH$2,1) -> 0 | BJ22: =IF(BG22="",0,20) -> 0 | BK22: =IF(BG22=1,30,IF(BG22=2,20,IF(BG22=3,10,0))) -> 0 | BL22: =IF(BG22="","",BI22+BJ22+BK22) | BO22: =CEILING(100*BN22/$BN$2,1) -> 0 | BP22: =IF(BM22="",0,20) -> 0 | BQ22: =IF(BM22=1,30,IF(BM22=2,20,IF(BM22=3,10,0))) -> 0 | BR22: =IF(BM22="","",BO22+BP22+BQ22)
A23: 21 | B23: Aydin Kurt | C23: Malmö AS | D23: 2014 | E23: =(+S23+Z23+AR23+AF23+AL23+BD23+AX23+BJ23+BP23)/20 -> 1 | F23: =U23 | G23: =AB23 -> 77 | H23: =AH23 | I23: =AN23 | J23: =AT23 | K23: =AZ23 | L23: =BF23 | M23: =BL23 | O23: =IF(E23<4,SUM(F23:N23),SUMPRODUCT(LARGE(F23:N23,{1;2;3;4}))) -> 77 | R23: =CEILING(100*Q23/$Q$2,1) -> 0 | S23: =IF(P23="",0,20) -> 0 | T23: =IF(P23=1,30,IF(P23=2,20,IF(P23=3,10,0))) -> 0 | U23: =IF(P23="","",R23+S23+T23) | V23: 20 | W23: 4.5 | X23: 8 | Y23: =IF(X23=0,"",CEILING(100*W23/X23,1)) -> 57 | Z23: =IF(V23="",0,20) -> 20 | AA23: =IF(V23=1,30,IF(V23=2,20,IF(V23=3,10,0))) -> 0 | AB23: =IF(V23="","",Y23+Z23+AA23) -> 77 | AE23: =CEILING(100*AD23/$AD$2,1) -> 0 | AF23: =IF(AC23="",0,20) -> 0 | AG23: =IF(AC23=1,30,IF(AC23=2,20,IF(AC23=3,10,0))) -> 0 | AH23: =IF(AC23="","",AE23+AF23+AG23) | AK23: =CEILING(100*AJ23/$AJ$2,1) -> 0 | AL23: =IF(AI23="",0,20) -> 0 | AM23: =IF(AI23=1,30,IF(AI23=2,20,IF(AI23=3,10,0))) -> 0 | AN23: =IF(AI23="","",AK23+AL23+AM23) | AQ23: =CEILING(100*AP23/$AP$2,1) -> 0 | AR23: =IF(AO23="",0,20) -> 0 | AS23: =IF(AO23=1,30,IF(AO23=2,20,IF(AO23=3,10,0))) -> 0 | AT23: =IF(AO23="","",AQ23+AR23+AS23) | AW23: =CEILING(100*AV23/$AV$2,1) -> 0 | AX23: =IF(AU23="",0,20) -> 0 | AY23: =IF(AU23=1,30,IF(AU23=2,20,IF(AU23=3,10,0))) -> 0 | AZ23: =IF(AU23="","",AW23+AX23+AY23) | BC23: =CEILING(100*BB23/$BB$2,1) -> 0 | BD23: =IF(BA23="",0,20) -> 0 | BE23: =IF(BA23=1,30,IF(BA23=2,20,IF(BA23=3,10,0))) -> 0 | BF23: =IF(BA23="","",BC23+BD23+BE23) | BI23: =CEILING(100*BH23/$BH$2,1) -> 0 | BJ23: =IF(BG23="",0,20) -> 0 | BK23: =IF(BG23=1,30,IF(BG23=2,20,IF(BG23=3,10,0))) -> 0 | BL23: =IF(BG23="","",BI23+BJ23+BK23) | BO23: =CEILING(100*BN23/$BN$2,1) -> 0 | BP23: =IF(BM23="",0,20) -> 0 | BQ23: =IF(BM23=1,30,IF(BM23=2,20,IF(BM23=3,10,0))) -> 0 | BR23: =IF(BM23="","",BO23+BP23+BQ23)
A24: 22 | B24: Allen Guan | C24: SK Bara Bönder | D24: 2015 | E24: =(+S24+Z24+AR24+AF24+AL24+BD24+AX24+BJ24+BP24)/20 -> 1 | F24: =U24 -> 70 | G24: =AB24 | H24: =AH24 | I24: =AN24 | J24: =AT24 | K24: =AZ24 | L24: =BF24 | M24: =BL24 | O24: =IF(E24<4,SUM(F24:N24),SUMPRODUCT(LARGE(F24:N24,{1;2;3;4}))) -> 70 | P24: 16 | Q24: 3 | R24: =CEILING(100*Q24/$Q$2,1) -> 50 | S24: =IF(P24="",0,20) -> 20 | T24: =IF(P24=1,30,IF(P24=2,20,IF(P24=3,10,0))) -> 0 | U24: =IF(P24="","",R24+S24+T24) -> 70 | Y24: =IF(X24=0,"",CEILING(100*W24/X24,1)) | Z24: =IF(V24="",0,20) -> 0 | AA24: =IF(V24=1,30,IF(V24=2,20,IF(V24=3,10,0))) -> 0 | AB24: =IF(V24="","",Y24+Z24+AA24) | AE24: =CEILING(100*AD24/$AD$2,1) -> 0 | AF24: =IF(AC24="",0,20) -> 0 | AG24: =IF(AC24=1,30,IF(AC24=2,20,IF(AC24=3,10,0))) -> 0 | AH24: =IF(AC24="","",AE24+AF24+AG24) | AK24: =CEILING(100*AJ24/$AJ$2,1) -> 0 | AL24: =IF(AI24="",0,20) -> 0 | AM24: =IF(AI24=1,30,IF(AI24=2,20,IF(AI24=3,10,0))) -> 0 | AN24: =IF(AI24="","",AK24+AL24+AM24) | AQ24: =CEILING(100*AP24/$AP$2,1) -> 0 | AR24: =IF(AO24="",0,20) -> 0 | AS24: =IF(AO24=1,30,IF(AO24=2,20,IF(AO24=3,10,0))) -> 0 | AT24: =IF(AO24="","",AQ24+AR24+AS24) | AW24: =CEILING(100*AV24/$AV$2,1) -> 0 | AX24: =IF(AU24="",0,20) -> 0 | AY24: =IF(AU24=1,30,IF(AU24=2,20,IF(AU24=3,10,0))) -> 0 | AZ24: =IF(AU24="","",AW24+AX24+AY24) | BC24: =CEILING(100*BB24/$BB$2,1) -> 0 | BD24: =IF(BA24="",0,20) -> 0 | BE24: =IF(BA24=1,30,IF(BA24=2,20,IF(BA24=3,10,0))) -> 0 | BF24: =IF(BA24="","",BC24+BD24+BE24) | BI24: =CEILING(100*BH24/$BH$2,1) -> 0 | BJ24: =IF(BG24="",0,20) -> 0 | BK24: =IF(BG24=1,30,IF(BG24=2,20,IF(BG24=3,10,0))) -> 0 | BL24: =IF(BG24="","",BI24+BJ24+BK24) | BO24: =CEILING(100*BN24/$BN$2,1) -> 0 | BP24: =IF(BM24="",0,20) -> 0 | BQ24: =IF(BM24=1,30,IF(BM24=2,20,IF(BM24=3,10,0))) -> 0 | BR24: =IF(BM24="","",BO24+BP24+BQ24)
A25: 23 | B25: Reynash Gupta | C25: Malmö AS | D25: 2015 | E25: =(+S25+Z25+AR25+AF25+AL25+BD25+AX25+BJ25+BP25)/20 -> 1 | F25: =U25 -> 70 | G25: =AB25 | H25: =AH25 | I25: =AN25 | J25: =AT25 | K25: =AZ25 | L25: =BF25 | M25: =BL25 | N25: =BR25 | O25: =IF(E25<4,SUM(F25:N25),SUMPRODUCT(LARGE(F25:N25,{1;2;3;4}))) -> 70 | P25: 17 | Q25: 3 | R25: =CEILING(100*Q25/$Q$2,1) -> 50 | S25: =IF(P25="",0,20) -> 20 | T25: =IF(P25=1,30,IF(P25=2,20,IF(P25=3,10,0))) -> 0 | U25: =IF(P25="","",R25+S25+T25) -> 70 | Y25: =IF(X25=0,"",CEILING(100*W25/X25,1)) | Z25: =IF(V25="",0,20) -> 0 | AA25: =IF(V25=1,30,IF(V25=2,20,IF(V25=3,10,0))) -> 0 | AB25: =IF(V25="","",Y25+Z25+AA25) | AE25: =CEILING(100*AD25/$AD$2,1) -> 0 | AF25: =IF(AC25="",0,20) -> 0 | AG25: =IF(AC25=1,30,IF(AC25=2,20,IF(AC25=3,10,0))) -> 0 | AH25: =IF(AC25="","",AE25+AF25+AG25) | AK25: =CEILING(100*AJ25/$AJ$2,1) -> 0 | AL25: =IF(AI25="",0,20) -> 0 | AM25: =IF(AI25=1,30,IF(AI25=2,20,IF(AI25=3,10,0))) -> 0 | AN25: =IF(AI25="","",AK25+AL25+AM25) | AQ25: =CEILING(100*AP25/$AP$2,1) -> 0 | AR25: =IF(AO25="",0,20) -> 0 | AS25: =IF(AO25=1,30,IF(AO25=2,20,IF(AO25=3,10,0))) -> 0 | AT25: =IF(AO25="","",AQ25+AR25+AS25) | AW25: =CEILING(100*AV25/$AV$2,1) -> 0 | AX25: =IF(AU25="",0,20) -> 0 | AY25: =IF(AU25=1,30,IF(AU25=2,20,IF(AU25=3,10,0))) -> 0 | AZ25: =IF(AU25="","",AW25+AX25+AY25) | BC25: =CEILING(100*BB25/$BB$2,1) -> 0 | BD25: =IF(BA25="",0,20) -> 0 | BE25: =IF(BA25=1,30,IF(BA25=2,20,IF(BA25=3,10,0))) -> 0 | BF25: =IF(BA25="","",BC25+BD25+BE25) | BI25: =CEILING(100*BH25/$BH$2,1) -> 0 | BJ25: =IF(BG25="",0,20) -> 0 | BK25: =IF(BG25=1,30,IF(BG25=2,20,IF(BG25=3,10,0))) -> 0 | BL25: =IF(BG25="","",BI25+BJ25+BK25) | BO25: =CEILING(100*BN25/$BN$2,1) -> 0 | BP25: =IF(BM25="",0,20) -> 0 | BQ25: =IF(BM25=1,30,IF(BM25=2,20,IF(BM25=3,10,0))) -> 0 | BR25: =IF(BM25="","",BO25+BP25+BQ25)
A26: 24 | B26: Edwin Lövgren | C26: Limhamns SK | D26: 2014 | E26: =(+S26+Z26+AR26+AF26+AL26+BD26+AX26+BJ26+BP26)/20 -> 1 | F26: =U26 -> 70 | G26: =AB26 | H26: =AH26 | I26: =AN26 | J26: =AT26 | K26: =AZ26 | L26: =BF26 | M26: =BL26 | N26: =BR26 | O26: =IF(E26<4,SUM(F26:N26),SUMPRODUCT(LARGE(F26:N26,{1;2;3;4}))) -> 70 | P26: 18 | Q26: 3 | R26: =CEILING(100*Q26/$Q$2,1) -> 50 | S26: =IF(P26="",0,20) -> 20 | T26: =IF(P26=1,30,IF(P26=2,20,IF(P26=3,10,0))) -> 0 | U26: =IF(P26="","",R26+S26+T26) -> 70 | Y26: =IF(X26=0,"",CEILING(100*W26/X26,1)) | Z26: =IF(V26="",0,20) -> 0 | AA26: =IF(V26=1,30,IF(V26=2,20,IF(V26=3,10,0))) -> 0 | AB26: =IF(V26="","",Y26+Z26+AA26) | AE26: =CEILING(100*AD26/$AD$2,1) -> 0 | AF26: =IF(AC26="",0,20) -> 0 | AG26: =IF(AC26=1,30,IF(AC26=2,20,IF(AC26=3,10,0))) -> 0 | AH26: =IF(AC26="","",AE26+AF26+AG26) | AK26: =CEILING(100*AJ26/$AJ$2,1) -> 0 | AL26: =IF(AI26="",0,20) -> 0 | AM26: =IF(AI26=1,30,IF(AI26=2,20,IF(AI26=3,10,0))) -> 0 | AN26: =IF(AI26="","",AK26+AL26+AM26) | AQ26: =CEILING(100*AP26/$AP$2,1) -> 0 | AR26: =IF(AO26="",0,20) -> 0 | AS26: =IF(AO26=1,30,IF(AO26=2,20,IF(AO26=3,10,0))) -> 0 | AT26: =IF(AO26="","",AQ26+AR26+AS26) | AW26: =CEILING(100*AV26/$AV$2,1) -> 0 | AX26: =IF(AU26="",0,20) -> 0 | AY26: =IF(AU26=1,30,IF(AU26=2,20,IF(AU26=3,10,0))) -> 0 | AZ26: =IF(AU26="","",AW26+AX26+AY26) | BC26: =CEILING(100*BB26/$BB$2,1) -> 0 | BD26: =IF(BA26="",0,20) -> 0 | BE26: =IF(BA26=1,30,IF(BA26=2,20,IF(BA26=3,10,0))) -> 0 | BF26: =IF(BA26="","",BC26+BD26+BE26) | BI26: =CEILING(100*BH26/$BH$2,1) -> 0 | BJ26: =IF(BG26="",0,20) -> 0 | BK26: =IF(BG26=1,30,IF(BG26=2,20,IF(BG26=3,10,0))) -> 0 | BL26: =IF(BG26="","",BI26+BJ26+BK26) | BO26: =CEILING(100*BN26/$BN$2,1) -> 0 | BP26: =IF(BM26="",0,20) -> 0 | BQ26: =IF(BM26=1,30,IF(BM26=2,20,IF(BM26=3,10,0))) -> 0 | BR26: =IF(BM26="","",BO26+BP26+BQ26)
A27: 25 | B27: Leonard Bober | C27: Helsingborgs SS | D27: 2015 | E27: =(+S27+Z27+AR27+AF27+AL27+BD27+AX27+BJ27+BP27)/20 -> 1 | F27: =U27 -> 70 | G27: =AB27 | H27: =AH27 | I27: =AN27 | J27: =AT27 | K27: =AZ27 | L27: =BF27 | M27: =BL27 | O27: =IF(E27<4,SUM(F27:N27),SUMPRODUCT(LARGE(F27:N27,{1;2;3;4}))) -> 70 | P27: 19 | Q27: 3 | R27: =CEILING(100*Q27/$Q$2,1) -> 50 | S27: =IF(P27="",0,20) -> 20 | T27: =IF(P27=1,30,IF(P27=2,20,IF(P27=3,10,0))) -> 0 | U27: =IF(P27="","",R27+S27+T27) -> 70 | Y27: =IF(X27=0,"",CEILING(100*W27/X27,1)) | Z27: =IF(V27="",0,20) -> 0 | AA27: =IF(V27=1,30,IF(V27=2,20,IF(V27=3,10,0))) -> 0 | AB27: =IF(V27="","",Y27+Z27+AA27) | AE27: =CEILING(100*AD27/$AD$2,1) -> 0 | AF27: =IF(AC27="",0,20) -> 0 | AG27: =IF(AC27=1,30,IF(AC27=2,20,IF(AC27=3,10,0))) -> 0 | AH27: =IF(AC27="","",AE27+AF27+AG27) | AK27: =CEILING(100*AJ27/$AJ$2,1) -> 0 | AL27: =IF(AI27="",0,20) -> 0 | AM27: =IF(AI27=1,30,IF(AI27=2,20,IF(AI27=3,10,0))) -> 0 | AN27: =IF(AI27="","",AK27+AL27+AM27) | AQ27: =CEILING(100*AP27/$AP$2,1) -> 0 | AR27: =IF(AO27="",0,20) -> 0 | AS27: =IF(AO27=1,30,IF(AO27=2,20,IF(AO27=3,10,0))) -> 0 | AT27: =IF(AO27="","",AQ27+AR27+AS27) | AW27: =CEILING(100*AV27/$AV$2,1) -> 0 | AX27: =IF(AU27="",0,20) -> 0 | AY27: =IF(AU27=1,30,IF(AU27=2,20,IF(AU27=3,10,0))) -> 0 | AZ27: =IF(AU27="","",AW27+AX27+AY27) | BC27: =CEILING(100*BB27/$BB$2,1) -> 0 | BD27: =IF(BA27="",0,20) -> 0 | BE27: =IF(BA27=1,30,IF(BA27=2,20,IF(BA27=3,10,0))) -> 0 | BF27: =IF(BA27="","",BC27+BD27+BE27) | BI27: =CEILING(100*BH27/$BH$2,1) -> 0 | BJ27: =IF(BG27="",0,20) -> 0 | BK27: =IF(BG27=1,30,IF(BG27=2,20,IF(BG27=3,10,0))) -> 0 | BL27: =IF(BG27="","",BI27+BJ27+BK27) | BO27: =CEILING(100*BN27/$BN$2,1) -> 0 | BP27: =IF(BM27="",0,20) -> 0 | BQ27: =IF(BM27=1,30,IF(BM27=2,20,IF(BM27=3,10,0))) -> 0 | BR27: =IF(BM27="","",BO27+BP27+BQ27)
A28: 26 | B28: Anton Koval | C28: Limhamns SK | D28: 2015 | E28: =(+S28+Z28+AR28+AF28+AL28+BD28+AX28+BJ28+BP28)/20 -> 1 | F28: =U28 -> 70 | G28: =AB28 | H28: =AH28 | I28: =AN28 | J28: =AT28 | K28: =AZ28 | L28: =BF28 | M28: =BL28 | N28: =BR28 | O28: =IF(E28<4,SUM(F28:N28),SUMPRODUCT(LARGE(F28:N28,{1;2;3;4}))) -> 70 | P28: 20 | Q28: 3 | R28: =CEILING(100*Q28/$Q$2,1) -> 50 | S28: =IF(P28="",0,20) -> 20 | T28: =IF(P28=1,30,IF(P28=2,20,IF(P28=3,10,0))) -> 0 | U28: =IF(P28="","",R28+S28+T28) -> 70 | Y28: =IF(X28=0,"",CEILING(100*W28/X28,1)) | Z28: =IF(V28="",0,20) -> 0 | AA28: =IF(V28=1,30,IF(V28=2,20,IF(V28=3,10,0))) -> 0 | AB28: =IF(V28="","",Y28+Z28+AA28) | AE28: =CEILING(100*AD28/$AD$2,1) -> 0 | AF28: =IF(AC28="",0,20) -> 0 | AG28: =IF(AC28=1,30,IF(AC28=2,20,IF(AC28=3,10,0))) -> 0 | AH28: =IF(AC28="","",AE28+AF28+AG28) | AK28: =CEILING(100*AJ28/$AJ$2,1) -> 0 | AL28: =IF(AI28="",0,20) -> 0 | AM28: =IF(AI28=1,30,IF(AI28=2,20,IF(AI28=3,10,0))) -> 0 | AN28: =IF(AI28="","",AK28+AL28+AM28) | AQ28: =CEILING(100*AP28/$AP$2,1) -> 0 | AR28: =IF(AO28="",0,20) -> 0 | AS28: =IF(AO28=1,30,IF(AO28=2,20,IF(AO28=3,10,0))) -> 0 | AT28: =IF(AO28="","",AQ28+AR28+AS28) | AW28: =CEILING(100*AV28/$AV$2,1) -> 0 | AX28: =IF(AU28="",0,20) -> 0 | AY28: =IF(AU28=1,30,IF(AU28=2,20,IF(AU28=3,10,0))) -> 0 | AZ28: =IF(AU28="","",AW28+AX28+AY28) | BC28: =CEILING(100*BB28/$BB$2,1) -> 0 | BD28: =IF(BA28="",0,20) -> 0 | BE28: =IF(BA28=1,30,IF(BA28=2,20,IF(BA28=3,10,0))) -> 0 | BF28: =IF(BA28="","",BC28+BD28+BE28) | BI28: =CEILING(100*BH28/$BH$2,1) -> 0 | BJ28: =IF(BG28="",0,20) -> 0 | BK28: =IF(BG28=1,30,IF(BG28=2,20,IF(BG28=3,10,0))) -> 0 | BL28: =IF(BG28="","",BI28+BJ28+BK28) | BO28: =CEILING(100*BN28/$BN$2,1) -> 0 | BP28: =IF(BM28="",0,20) -> 0 | BQ28: =IF(BM28=1,30,IF(BM28=2,20,IF(BM28=3,10,0))) -> 0 | BR28: =IF(BM28="","",BO28+BP28+BQ28)
A29: 27 | B29: Einar Gamberg | C29: Limhamns SK | D29: 2014 | E29: =(+S29+Z29+AR29+AF29+AL29+BD29+AX29+BJ29+BP29)/20 -> 1 | F29: =U29 -> 70 | G29: =AB29 | H29: =AH29 | I29: =AN29 | J29: =AT29 | K29: =AZ29 | L29: =BF29 | M29: =BL29 | O29: =IF(E29<4,SUM(F29:N29),SUMPRODUCT(LARGE(F29:N29,{1;2;3;4}))) -> 70 | P29: 21 | Q29: 3 | R29: =CEILING(100*Q29/$Q$2,1) -> 50 | S29: =IF(P29="",0,20) -> 20 | T29: =IF(P29=1,30,IF(P29=2,20,IF(P29=3,10,0))) -> 0 | U29: =IF(P29="","",R29+S29+T29) -> 70 | Y29: =IF(X29=0,"",CEILING(100*W29/X29,1)) | Z29: =IF(V29="",0,20) -> 0 | AA29: =IF(V29=1,30,IF(V29=2,20,IF(V29=3,10,0))) -> 0 | AB29: =IF(V29="","",Y29+Z29+AA29) | AE29: =CEILING(100*AD29/$AD$2,1) -> 0 | AF29: =IF(AC29="",0,20) -> 0 | AG29: =IF(AC29=1,30,IF(AC29=2,20,IF(AC29=3,10,0))) -> 0 | AH29: =IF(AC29="","",AE29+AF29+AG29) | AK29: =CEILING(100*AJ29/$AJ$2,1) -> 0 | AL29: =IF(AI29="",0,20) -> 0 | AM29: =IF(AI29=1,30,IF(AI29=2,20,IF(AI29=3,10,0))) -> 0 | AN29: =IF(AI29="","",AK29+AL29+AM29) | AQ29: =CEILING(100*AP29/$AP$2,1) -> 0 | AR29: =IF(AO29="",0,20) -> 0 | AS29: =IF(AO29=1,30,IF(AO29=2,20,IF(AO29=3,10,0))) -> 0 | AT29: =IF(AO29="","",AQ29+AR29+AS29) | AW29: =CEILING(100*AV29/$AV$2,1) -> 0 | AX29: =IF(AU29="",0,20) -> 0 | AY29: =IF(AU29=1,30,IF(AU29=2,20,IF(AU29=3,10,0))) -> 0 | AZ29: =IF(AU29="","",AW29+AX29+AY29) | BC29: =CEILING(100*BB29/$BB$2,1) -> 0 | BD29: =IF(BA29="",0,20) -> 0 | BE29: =IF(BA29=1,30,IF(BA29=2,20,IF(BA29=3,10,0))) -> 0 | BF29: =IF(BA29="","",BC29+BD29+BE29) | BI29: =CEILING(100*BH29/$BH$2,1) -> 0 | BJ29: =IF(BG29="",0,20) -> 0 | BK29: =IF(BG29=1,30,IF(BG29=2,20,IF(BG29=3,10,0))) -> 0 | BL29: =IF(BG29="","",BI29+BJ29+BK29) | BO29: =CEILING(100*BN29/$BN$2,1) -> 0 | BP29: =IF(BM29="",0,20) -> 0 | BQ29: =IF(BM29=1,30,IF(BM29=2,20,IF(BM29=3,10,0))) -> 0 | BR29: =IF(BM29="","",BO29+BP29+BQ29)
A30: 28 | B30: Svante Palomäki | C30: Limhamns SK | D30: 2014 | E30: =(+S30+Z30+AR30+AF30+AL30+BD30+AX30+BJ30+BP30)/20 -> 1 | F30: =U30 -> 70 | G30: =AB30 | H30: =AH30 | I30: =AN30 | J30: =AT30 | K30: =AZ30 | L30: =BF30 | M30: =BL30 | N30: =BR30 | O30: =IF(E30<4,SUM(F30:N30),SUMPRODUCT(LARGE(F30:N30,{1;2;3;4}))) -> 70 | P30: 22 | Q30: 3 | R30: =CEILING(100*Q30/$Q$2,1) -> 50 | S30: =IF(P30="",0,20) -> 20 | T30: =IF(P30=1,30,IF(P30=2,20,IF(P30=3,10,0))) -> 0 | U30: =IF(P30="","",R30+S30+T30) -> 70 | Y30: =IF(X30=0,"",CEILING(100*W30/X30,1)) | Z30: =IF(V30="",0,20) -> 0 | AA30: =IF(V30=1,30,IF(V30=2,20,IF(V30=3,10,0))) -> 0 | AB30: =IF(V30="","",Y30+Z30+AA30) | AE30: =CEILING(100*AD30/$AD$2,1) -> 0 | AF30: =IF(AC30="",0,20) -> 0 | AG30: =IF(AC30=1,30,IF(AC30=2,20,IF(AC30=3,10,0))) -> 0 | AH30: =IF(AC30="","",AE30+AF30+AG30) | AK30: =CEILING(100*AJ30/$AJ$2,1) -> 0 | AL30: =IF(AI30="",0,20) -> 0 | AM30: =IF(AI30=1,30,IF(AI30=2,20,IF(AI30=3,10,0))) -> 0 | AN30: =IF(AI30="","",AK30+AL30+AM30) | AQ30: =CEILING(100*AP30/$AP$2,1) -> 0 | AR30: =IF(AO30="",0,20) -> 0 | AS30: =IF(AO30=1,30,IF(AO30=2,20,IF(AO30=3,10,0))) -> 0 | AT30: =IF(AO30="","",AQ30+AR30+AS30) | AW30: =CEILING(100*AV30/$AV$2,1) -> 0 | AX30: =IF(AU30="",0,20) -> 0 | AY30: =IF(AU30=1,30,IF(AU30=2,20,IF(AU30=3,10,0))) -> 0 | AZ30: =IF(AU30="","",AW30+AX30+AY30) | BC30: =CEILING(100*BB30/$BB$2,1) -> 0 | BD30: =IF(BA30="",0,20) -> 0 | BE30: =IF(BA30=1,30,IF(BA30=2,20,IF(BA30=3,10,0))) -> 0 | BF30: =IF(BA30="","",BC30+BD30+BE30) | BI30: =CEILING(100*BH30/$BH$2,1) -> 0 | BJ30: =IF(BG30="",0,20) -> 0 | BK30: =IF(BG30=1,30,IF(BG30=2,20,IF(BG30=3,10,0))) -> 0 | BL30: =IF(BG30="","",BI30+BJ30+BK30) | BO30: =CEILING(100*BN30/$BN$2,1) -> 0 | BP30: =IF(BM30="",0,20) -> 0 | BQ30: =IF(BM30=1,30,IF(BM30=2,20,IF(BM30=3,10,0))) -> 0 | BR30: =IF(BM30="","",BO30+BP30+BQ30)
A31: 29 | B31: Shayan Nordström | C31: Limhamns SK | D31: 2015 | E31: =(+S31+Z31+AR31+AF31+AL31+BD31+AX31+BJ31+BP31)/20 -> 1 | F31: =U31 -> 70 | G31: =AB31 | H31: =AH31 | I31: =AN31 | J31: =AT31 | K31: =AZ31 | L31: =BF31 | M31: =BL31 | O31: =IF(E31<4,SUM(F31:N31),SUMPRODUCT(LARGE(F31:N31,{1;2;3;4}))) -> 70 | P31: 24 | Q31: 3 | R31: =CEILING(100*Q31/$Q$2,1) -> 50 | S31: =IF(P31="",0,20) -> 20 | T31: =IF(P31=1,30,IF(P31=2,20,IF(P31=3,10,0))) -> 0 | U31: =IF(P31="","",R31+S31+T31) -> 70 | Y31: =IF(X31=0,"",CEILING(100*W31/X31,1)) | Z31: =IF(V31="",0,20) -> 0 | AA31: =IF(V31=1,30,IF(V31=2,20,IF(V31=3,10,0))) -> 0 | AB31: =IF(V31="","",Y31+Z31+AA31) | AE31: =CEILING(100*AD31/$AD$2,1) -> 0 | AF31: =IF(AC31="",0,20) -> 0 | AG31: =IF(AC31=1,30,IF(AC31=2,20,IF(AC31=3,10,0))) -> 0 | AH31: =IF(AC31="","",AE31+AF31+AG31) | AK31: =CEILING(100*AJ31/$AJ$2,1) -> 0 | AL31: =IF(AI31="",0,20) -> 0 | AM31: =IF(AI31=1,30,IF(AI31=2,20,IF(AI31=3,10,0))) -> 0 | AN31: =IF(AI31="","",AK31+AL31+AM31) | AQ31: =CEILING(100*AP31/$AP$2,1) -> 0 | AR31: =IF(AO31="",0,20) -> 0 | AS31: =IF(AO31=1,30,IF(AO31=2,20,IF(AO31=3,10,0))) -> 0 | AT31: =IF(AO31="","",AQ31+AR31+AS31) | AW31: =CEILING(100*AV31/$AV$2,1) -> 0 | AX31: =IF(AU31="",0,20) -> 0 | AY31: =IF(AU31=1,30,IF(AU31=2,20,IF(AU31=3,10,0))) -> 0 | AZ31: =IF(AU31="","",AW31+AX31+AY31) | BC31: =CEILING(100*BB31/$BB$2,1) -> 0 | BD31: =IF(BA31="",0,20) -> 0 | BE31: =IF(BA31=1,30,IF(BA31=2,20,IF(BA31=3,10,0))) -> 0 | BF31: =IF(BA31="","",BC31+BD31+BE31) | BI31: =CEILING(100*BH31/$BH$2,1) -> 0 | BJ31: =IF(BG31="",0,20) -> 0 | BK31: =IF(BG31=1,30,IF(BG31=2,20,IF(BG31=3,10,0))) -> 0 | BL31: =IF(BG31="","",BI31+BJ31+BK31) | BO31: =CEILING(100*BN31/$BN$2,1) -> 0 | BP31: =IF(BM31="",0,20) -> 0 | BQ31: =IF(BM31=1,30,IF(BM31=2,20,IF(BM31=3,10,0))) -> 0 | BR31: =IF(BM31="","",BO31+BP31+BQ31)
A32: 30 | B32: Erik Andersson | C32: Trollkarlarna från Riga | D32: 2014 | E32: =(+S32+Z32+AR32+AF32+AL32+BD32+AX32+BJ32+BP32)/20 -> 1 | F32: =U32 -> 62 | G32: =AB32 | H32: =AH32 | I32: =AN32 | J32: =AT32 | K32: =AZ32 | L32: =BF32 | M32: =BL32 | N32: =BR32 | O32: =IF(E32<4,SUM(F32:N32),SUMPRODUCT(LARGE(F32:N32,{1;2;3;4}))) -> 62 | P32: 25 | Q32: 2.5 | R32: =CEILING(100*Q32/$Q$2,1) -> 42 | S32: =IF(P32="",0,20) -> 20 | T32: =IF(P32=1,30,IF(P32=2,20,IF(P32=3,10,0))) -> 0 | U32: =IF(P32="","",R32+S32+T32) -> 62 | Y32: =IF(X32=0,"",CEILING(100*W32/X32,1)) | Z32: =IF(V32="",0,20) -> 0 | AA32: =IF(V32=1,30,IF(V32=2,20,IF(V32=3,10,0))) -> 0 | AB32: =IF(V32="","",Y32+Z32+AA32) | AE32: =CEILING(100*AD32/$AD$2,1) -> 0 | AF32: =IF(AC32="",0,20) -> 0 | AG32: =IF(AC32=1,30,IF(AC32=2,20,IF(AC32=3,10,0))) -> 0 | AH32: =IF(AC32="","",AE32+AF32+AG32) | AK32: =CEILING(100*AJ32/$AJ$2,1) -> 0 | AL32: =IF(AI32="",0,20) -> 0 | AM32: =IF(AI32=1,30,IF(AI32=2,20,IF(AI32=3,10,0))) -> 0 | AN32: =IF(AI32="","",AK32+AL32+AM32) | AQ32: =CEILING(100*AP32/$AP$2,1) -> 0 | AR32: =IF(AO32="",0,20) -> 0 | AS32: =IF(AO32=1,30,IF(AO32=2,20,IF(AO32=3,10,0))) -> 0 | AT32: =IF(AO32="","",AQ32+AR32+AS32) | AW32: =CEILING(100*AV32/$AV$2,1) -> 0 | AX32: =IF(AU32="",0,20) -> 0 | AY32: =IF(AU32=1,30,IF(AU32=2,20,IF(AU32=3,10,0))) -> 0 | AZ32: =IF(AU32="","",AW32+AX32+AY32) | BC32: =CEILING(100*BB32/$BB$2,1) -> 0 | BD32: =IF(BA32="",0,20) -> 0 | BE32: =IF(BA32=1,30,IF(BA32=2,20,IF(BA32=3,10,0))) -> 0 | BF32: =IF(BA32="","",BC32+BD32+BE32) | BI32: =CEILING(100*BH32/$BH$2,1) -> 0 | BJ32: =IF(BG32="",0,20) -> 0 | BK32: =IF(BG32=1,30,IF(BG32=2,20,IF(BG32=3,10,0))) -> 0 | BL32: =IF(BG32="","",BI32+BJ32+BK32) | BO32: =CEILING(100*BN32/$BN$2,1) -> 0 | BP32: =IF(BM32="",0,20) -> 0 | BQ32: =IF(BM32=1,30,IF(BM32=2,20,IF(BM32=3,10,0))) -> 0 | BR32: =IF(BM32="","",BO32+BP32+BQ32)
A33: 31 | B33: Felix Jon | C33: Limhamns SK | D33: 2015 | E33: =(+S33+Z33+AR33+AF33+AL33+BD33+AX33+BJ33+BP33)/20 -> 1 | F33: =U33 | G33: =AB33 -> 57 | H33: =AH33 | I33: =AN33 | J33: =AT33 | K33: =AZ33 | L33: =BF33 | M33: =BL33 | O33: =IF(E33<4,SUM(F33:N33),SUMPRODUCT(LARGE(F33:N33,{1;2;3;4}))) -> 57 | R33: =CEILING(100*Q33/$Q$2,1) -> 0 | S33: =IF(P33="",0,20) -> 0 | T33: =IF(P33=1,30,IF(P33=2,20,IF(P33=3,10,0))) -> 0 | U33: =IF(P33="","",R33+S33+T33) | V33: 36 | W33: 4 | X33: 11 | Y33: =IF(X33=0,"",CEILING(100*W33/X33,1)) -> 37 | Z33: =IF(V33="",0,20) -> 20 | AA33: =IF(V33=1,30,IF(V33=2,20,IF(V33=3,10,0))) -> 0 | AB33: =IF(V33="","",Y33+Z33+AA33) -> 57 | AE33: =CEILING(100*AD33/$AD$2,1) -> 0 | AF33: =IF(AC33="",0,20) -> 0 | AG33: =IF(AC33=1,30,IF(AC33=2,20,IF(AC33=3,10,0))) -> 0 | AH33: =IF(AC33="","",AE33+AF33+AG33) | AK33: =CEILING(100*AJ33/$AJ$2,1) -> 0 | AL33: =IF(AI33="",0,20) -> 0 | AM33: =IF(AI33=1,30,IF(AI33=2,20,IF(AI33=3,10,0))) -> 0 | AN33: =IF(AI33="","",AK33+AL33+AM33) | AQ33: =CEILING(100*AP33/$AP$2,1) -> 0 | AR33: =IF(AO33="",0,20) -> 0 | AS33: =IF(AO33=1,30,IF(AO33=2,20,IF(AO33=3,10,0))) -> 0 | AT33: =IF(AO33="","",AQ33+AR33+AS33) | AW33: =CEILING(100*AV33/$AV$2,1) -> 0 | AX33: =IF(AU33="",0,20) -> 0 | AY33: =IF(AU33=1,30,IF(AU33=2,20,IF(AU33=3,10,0))) -> 0 | AZ33: =IF(AU33="","",AW33+AX33+AY33) | BC33: =CEILING(100*BB33/$BB$2,1) -> 0 | BD33: =IF(BA33="",0,20) -> 0 | BE33: =IF(BA33=1,30,IF(BA33=2,20,IF(BA33=3,10,0))) -> 0 | BF33: =IF(BA33="","",BC33+BD33+BE33) | BI33: =CEILING(100*BH33/$BH$2,1) -> 0 | BJ33: =IF(BG33="",0,20) -> 0 | BK33: =IF(BG33=1,30,IF(BG33=2,20,IF(BG33=3,10,0))) -> 0 | BL33: =IF(BG33="","",BI33+BJ33+BK33) | BO33: =CEILING(100*BN33/$BN$2,1) -> 0 | BP33: =IF(BM33="",0,20) -> 0 | BQ33: =IF(BM33=1,30,IF(BM33=2,20,IF(BM33=3,10,0))) -> 0 | BR33: =IF(BM33="","",BO33+BP33+BQ33)
A34: 32 | B34: Violette Persson de Innocentis | C34: Helsigborgs SS | D34: 2015 | E34: =(+S34+Z34+AR34+AF34+AL34+BD34+AX34+BJ34+BP34)/20 -> 1 | F34: =U34 | G34: =AB34 -> 57 | H34: =AH34 | I34: =AN34 | J34: =AT34 | K34: =AZ34 | L34: =BF34 | M34: =BL34 | N34: =BR34 | O34: =IF(E34<4,SUM(F34:N34),SUMPRODUCT(LARGE(F34:N34,{1;2;3;4}))) -> 57 | R34: =CEILING(100*Q34/$Q$2,1) -> 0 | S34: =IF(P34="",0,20) -> 0 | T34: =IF(P34=1,30,IF(P34=2,20,IF(P34=3,10,0))) -> 0 | U34: =IF(P34="","",R34+S34+T34) | V34: 38 | W34: 4 | X34: 11 | Y34: =IF(X34=0,"",CEILING(100*W34/X34,1)) -> 37 | Z34: =IF(V34="",0,20) -> 20 | AA34: =IF(V34=1,30,IF(V34=2,20,IF(V34=3,10,0))) -> 0 | AB34: =IF(V34="","",Y34+Z34+AA34) -> 57 | AE34: =CEILING(100*AD34/$AD$2,1) -> 0 | AF34: =IF(AC34="",0,20) -> 0 | AG34: =IF(AC34=1,30,IF(AC34=2,20,IF(AC34=3,10,0))) -> 0 | AH34: =IF(AC34="","",AE34+AF34+AG34) | AK34: =CEILING(100*AJ34/$AJ$2,1) -> 0 | AL34: =IF(AI34="",0,20) -> 0 | AM34: =IF(AI34=1,30,IF(AI34=2,20,IF(AI34=3,10,0))) -> 0 | AN34: =IF(AI34="","",AK34+AL34+AM34) | AQ34: =CEILING(100*AP34/$AP$2,1) -> 0 | AR34: =IF(AO34="",0,20) -> 0 | AS34: =IF(AO34=1,30,IF(AO34=2,20,IF(AO34=3,10,0))) -> 0 | AT34: =IF(AO34="","",AQ34+AR34+AS34) | AW34: =CEILING(100*AV34/$AV$2,1) -> 0 | AX34: =IF(AU34="",0,20) -> 0 | AY34: =IF(AU34=1,30,IF(AU34=2,20,IF(AU34=3,10,0))) -> 0 | AZ34: =IF(AU34="","",AW34+AX34+AY34) | BC34: =CEILING(100*BB34/$BB$2,1) -> 0 | BD34: =IF(BA34="",0,20) -> 0 | BE34: =IF(BA34=1,30,IF(BA34=2,20,IF(BA34=3,10,0))) -> 0 | BF34: =IF(BA34="","",BC34+BD34+BE34) | BI34: =CEILING(100*BH34/$BH$2,1) -> 0 | BJ34: =IF(BG34="",0,20) -> 0 | BK34: =IF(BG34=1,30,IF(BG34=2,20,IF(BG34=3,10,0))) -> 0 | BL34: =IF(BG34="","",BI34+BJ34+BK34) | BO34: =CEILING(100*BN34/$BN$2,1) -> 0 | BP34: =IF(BM34="",0,20) -> 0 | BQ34: =IF(BM34=1,30,IF(BM34=2,20,IF(BM34=3,10,0))) -> 0 | BR34: =IF(BM34="","",BO34+BP34+BQ34)
A35: 33 | B35: Jhanvi Arun Kolkar | C35: Limhamns SK | D35: 2014 | E35: =(+S35+Z35+AR35+AF35+AL35+BD35+AX35+BJ35+BP35)/20 -> 1 | F35: =U35 -> 54 | G35: =AB35 | H35: =AH35 | I35: =AN35 | J35: =AT35 | K35: =AZ35 | L35: =BF35 | M35: =BL35 | N35: =BR35 | O35: =IF(E35<4,SUM(F35:N35),SUMPRODUCT(LARGE(F35:N35,{1;2;3;4}))) -> 54 | P35: 26 | Q35: 2 | R35: =CEILING(100*Q35/$Q$2,1) -> 34 | S35: =IF(P35="",0,20) -> 20 | T35: =IF(P35=1,30,IF(P35=2,20,IF(P35=3,10,0))) -> 0 | U35: =IF(P35="","",R35+S35+T35) -> 54 | Y35: =IF(X35=0,"",CEILING(100*W35/X35,1)) | Z35: =IF(V35="",0,20) -> 0 | AA35: =IF(V35=1,30,IF(V35=2,20,IF(V35=3,10,0))) -> 0 | AB35: =IF(V35="","",Y35+Z35+AA35) | AE35: =CEILING(100*AD35/$AD$2,1) -> 0 | AF35: =IF(AC35="",0,20) -> 0 | AG35: =IF(AC35=1,30,IF(AC35=2,20,IF(AC35=3,10,0))) -> 0 | AH35: =IF(AC35="","",AE35+AF35+AG35) | AK35: =CEILING(100*AJ35/$AJ$2,1) -> 0 | AL35: =IF(AI35="",0,20) -> 0 | AM35: =IF(AI35=1,30,IF(AI35=2,20,IF(AI35=3,10,0))) -> 0 | AN35: =IF(AI35="","",AK35+AL35+AM35) | AQ35: =CEILING(100*AP35/$AP$2,1) -> 0 | AR35: =IF(AO35="",0,20) -> 0 | AS35: =IF(AO35=1,30,IF(AO35=2,20,IF(AO35=3,10,0))) -> 0 | AT35: =IF(AO35="","",AQ35+AR35+AS35) | AW35: =CEILING(100*AV35/$AV$2,1) -> 0 | AX35: =IF(AU35="",0,20) -> 0 | AY35: =IF(AU35=1,30,IF(AU35=2,20,IF(AU35=3,10,0))) -> 0 | AZ35: =IF(AU35="","",AW35+AX35+AY35) | BC35: =CEILING(100*BB35/$BB$2,1) -> 0 | BD35: =IF(BA35="",0,20) -> 0 | BE35: =IF(BA35=1,30,IF(BA35=2,20,IF(BA35=3,10,0))) -> 0 | BF35: =IF(BA35="","",BC35+BD35+BE35) | BI35: =CEILING(100*BH35/$BH$2,1) -> 0 | BJ35: =IF(BG35="",0,20) -> 0 | BK35: =IF(BG35=1,30,IF(BG35=2,20,IF(BG35=3,10,0))) -> 0 | BL35: =IF(BG35="","",BI35+BJ35+BK35) | BO35: =CEILING(100*BN35/$BN$2,1) -> 0 | BP35: =IF(BM35="",0,20) -> 0 | BQ35: =IF(BM35=1,30,IF(BM35=2,20,IF(BM35=3,10,0))) -> 0 | BR35: =IF(BM35="","",BO35+BP35+BQ35)
A36: 34 | B36: Aarav Garg | C36: Helsingborgs SS | D36: 2015 | E36: =(+S36+Z36+AR36+AF36+AL36+BD36+AX36+BJ36+BP36)/20 -> 1 | F36: =U36 -> 54 | G36: =AB36 | H36: =AH36 | I36: =AN36 | J36: =AT36 | K36: =AZ36 | L36: =BF36 | M36: =BL36 | N36: =BR36 | O36: =IF(E36<4,SUM(F36:N36),SUMPRODUCT(LARGE(F36:N36,{1;2;3;4}))) -> 54 | P36: 27 | Q36: 2 | R36: =CEILING(100*Q36/$Q$2,1) -> 34 | S36: =IF(P36="",0,20) -> 20 | T36: =IF(P36=1,30,IF(P36=2,20,IF(P36=3,10,0))) -> 0 | U36: =IF(P36="","",R36+S36+T36) -> 54 | Y36: =IF(X36=0,"",CEILING(100*W36/X36,1)) | Z36: =IF(V36="",0,20) -> 0 | AA36: =IF(V36=1,30,IF(V36=2,20,IF(V36=3,10,0))) -> 0 | AB36: =IF(V36="","",Y36+Z36+AA36) | AE36: =CEILING(100*AD36/$AD$2,1) -> 0 | AF36: =IF(AC36="",0,20) -> 0 | AG36: =IF(AC36=1,30,IF(AC36=2,20,IF(AC36=3,10,0))) -> 0 | AH36: =IF(AC36="","",AE36+AF36+AG36) | AK36: =CEILING(100*AJ36/$AJ$2,1) -> 0 | AL36: =IF(AI36="",0,20) -> 0 | AM36: =IF(AI36=1,30,IF(AI36=2,20,IF(AI36=3,10,0))) -> 0 | AN36: =IF(AI36="","",AK36+AL36+AM36) | AQ36: =CEILING(100*AP36/$AP$2,1) -> 0 | AR36: =IF(AO36="",0,20) -> 0 | AS36: =IF(AO36=1,30,IF(AO36=2,20,IF(AO36=3,10,0))) -> 0 | AT36: =IF(AO36="","",AQ36+AR36+AS36) | AW36: =CEILING(100*AV36/$AV$2,1) -> 0 | AX36: =IF(AU36="",0,20) -> 0 | AY36: =IF(AU36=1,30,IF(AU36=2,20,IF(AU36=3,10,0))) -> 0 | AZ36: =IF(AU36="","",AW36+AX36+AY36) | BC36: =CEILING(100*BB36/$BB$2,1) -> 0 | BD36: =IF(BA36="",0,20) -> 0 | BE36: =IF(BA36=1,30,IF(BA36=2,20,IF(BA36=3,10,0))) -> 0 | BF36: =IF(BA36="","",BC36+BD36+BE36) | BI36: =CEILING(100*BH36/$BH$2,1) -> 0 | BJ36: =IF(BG36="",0,20) -> 0 | BK36: =IF(BG36=1,30,IF(BG36=2,20,IF(BG36=3,10,0))) -> 0 | BL36: =IF(BG36="","",BI36+BJ36+BK36) | BO36: =CEILING(100*BN36/$BN$2,1) -> 0 | BP36: =IF(BM36="",0,20) -> 0 | BQ36: =IF(BM36=1,30,IF(BM36=2,20,IF(BM36=3,10,0))) -> 0 | BR36: =IF(BM36="","",BO36+BP36+BQ36)
A37: 35 | B37: Viktoria Heyko | C37: Malmö AS | D37: 2015 | E37: =(+S37+Z37+AR37+AF37+AL37+BD37+AX37+BJ37+BP37)/20 -> 1 | F37: =U37 -> 54 | G37: =AB37 | H37: =AH37 | I37: =AN37 | J37: =AT37 | K37: =AZ37 | L37: =BF37 | M37: =BL37 | N37: =BR37 | O37: =IF(E37<4,SUM(F37:N37),SUMPRODUCT(LARGE(F37:N37,{1;2;3;4}))) -> 54 | P37: 29 | Q37: 2 | R37: =CEILING(100*Q37/$Q$2,1) -> 34 | S37: =IF(P37="",0,20) -> 20 | T37: =IF(P37=1,30,IF(P37=2,20,IF(P37=3,10,0))) -> 0 | U37: =IF(P37="","",R37+S37+T37) -> 54 | Y37: =IF(X37=0,"",CEILING(100*W37/X37,1)) | Z37: =IF(V37="",0,20) -> 0 | AA37: =IF(V37=1,30,IF(V37=2,20,IF(V37=3,10,0))) -> 0 | AB37: =IF(V37="","",Y37+Z37+AA37) | AE37: =CEILING(100*AD37/$AD$2,1) -> 0 | AF37: =IF(AC37="",0,20) -> 0 | AG37: =IF(AC37=1,30,IF(AC37=2,20,IF(AC37=3,10,0))) -> 0 | AH37: =IF(AC37="","",AE37+AF37+AG37) | AK37: =CEILING(100*AJ37/$AJ$2,1) -> 0 | AL37: =IF(AI37="",0,20) -> 0 | AM37: =IF(AI37=1,30,IF(AI37=2,20,IF(AI37=3,10,0))) -> 0 | AN37: =IF(AI37="","",AK37+AL37+AM37) | AQ37: =CEILING(100*AP37/$AP$2,1) -> 0 | AR37: =IF(AO37="",0,20) -> 0 | AS37: =IF(AO37=1,30,IF(AO37=2,20,IF(AO37=3,10,0))) -> 0 | AT37: =IF(AO37="","",AQ37+AR37+AS37) | AW37: =CEILING(100*AV37/$AV$2,1) -> 0 | AX37: =IF(AU37="",0,20) -> 0 | AY37: =IF(AU37=1,30,IF(AU37=2,20,IF(AU37=3,10,0))) -> 0 | AZ37: =IF(AU37="","",AW37+AX37+AY37) | BC37: =CEILING(100*BB37/$BB$2,1) -> 0 | BD37: =IF(BA37="",0,20) -> 0 | BE37: =IF(BA37=1,30,IF(BA37=2,20,IF(BA37=3,10,0))) -> 0 | BF37: =IF(BA37="","",BC37+BD37+BE37) | BI37: =CEILING(100*BH37/$BH$2,1) -> 0 | BJ37: =IF(BG37="",0,20) -> 0 | BK37: =IF(BG37=1,30,IF(BG37=2,20,IF(BG37=3,10,0))) -> 0 | BL37: =IF(BG37="","",BI37+BJ37+BK37) | BO37: =CEILING(100*BN37/$BN$2,1) -> 0 | BP37: =IF(BM37="",0,20) -> 0 | BQ37: =IF(BM37=1,30,IF(BM37=2,20,IF(BM37=3,10,0))) -> 0 | BR37: =IF(BM37="","",BO37+BP37+BQ37)
A38: 36 | B38: Eric Marconi | C38: Malmö AS | D38: 2014 | E38: =(+S38+Z38+AR38+AF38+AL38+BD38+AX38+BJ38+BP38)/20 -> 1 | F38: =U38 -> 54 | G38: =AB38 | H38: =AH38 | I38: =AN38 | J38: =AT38 | K38: =AZ38 | L38: =BF38 | M38: =BL38 | N38: =BR38 | O38: =IF(E38<4,SUM(F38:N38),SUMPRODUCT(LARGE(F38:N38,{1;2;3;4}))) -> 54 | P38: 31 | Q38: 2 | R38: =CEILING(100*Q38/$Q$2,1) -> 34 | S38: =IF(P38="",0,20) -> 20 | T38: =IF(P38=1,30,IF(P38=2,20,IF(P38=3,10,0))) -> 0 | U38: =IF(P38="","",R38+S38+T38) -> 54 | Y38: =IF(X38=0,"",CEILING(100*W38/X38,1)) | Z38: =IF(V38="",0,20) -> 0 | AA38: =IF(V38=1,30,IF(V38=2,20,IF(V38=3,10,0))) -> 0 | AB38: =IF(V38="","",Y38+Z38+AA38) | AE38: =CEILING(100*AD38/$AD$2,1) -> 0 | AF38: =IF(AC38="",0,20) -> 0 | AG38: =IF(AC38=1,30,IF(AC38=2,20,IF(AC38=3,10,0))) -> 0 | AH38: =IF(AC38="","",AE38+AF38+AG38) | AK38: =CEILING(100*AJ38/$AJ$2,1) -> 0 | AL38: =IF(AI38="",0,20) -> 0 | AM38: =IF(AI38=1,30,IF(AI38=2,20,IF(AI38=3,10,0))) -> 0 | AN38: =IF(AI38="","",AK38+AL38+AM38) | AQ38: =CEILING(100*AP38/$AP$2,1) -> 0 | AR38: =IF(AO38="",0,20) -> 0 | AS38: =IF(AO38=1,30,IF(AO38=2,20,IF(AO38=3,10,0))) -> 0 | AT38: =IF(AO38="","",AQ38+AR38+AS38) | AW38: =CEILING(100*AV38/$AV$2,1) -> 0 | AX38: =IF(AU38="",0,20) -> 0 | AY38: =IF(AU38=1,30,IF(AU38=2,20,IF(AU38=3,10,0))) -> 0 | AZ38: =IF(AU38="","",AW38+AX38+AY38) | BC38: =CEILING(100*BB38/$BB$2,1) -> 0 | BD38: =IF(BA38="",0,20) -> 0 | BE38: =IF(BA38=1,30,IF(BA38=2,20,IF(BA38=3,10,0))) -> 0 | BF38: =IF(BA38="","",BC38+BD38+BE38) | BI38: =CEILING(100*BH38/$BH$2,1) -> 0 | BJ38: =IF(BG38="",0,20) -> 0 | BK38: =IF(BG38=1,30,IF(BG38=2,20,IF(BG38=3,10,0))) -> 0 | BL38: =IF(BG38="","",BI38+BJ38+BK38) | BO38: =CEILING(100*BN38/$BN$2,1) -> 0 | BP38: =IF(BM38="",0,20) -> 0 | BQ38: =IF(BM38=1,30,IF(BM38=2,20,IF(BM38=3,10,0))) -> 0 | BR38: =IF(BM38="","",BO38+BP38+BQ38)
A39: 37 | B39: Viyana Mehrsad | C39: Helsingborgs ASK ? | D39: ? | E39: =(+S39+Z39+AR39+AF39+AL39+BD39+AX39+BJ39+BP39)/20 -> 1 | F39: =U39 -> 54 | G39: =AB39 | H39: =AH39 | I39: =AN39 | J39: =AT39 | K39: =AZ39 | L39: =BF39 | M39: =BL39 | O39: =IF(E39<4,SUM(F39:N39),SUMPRODUCT(LARGE(F39:N39,{1;2;3;4}))) -> 54 | P39: 32 | Q39: 2 | R39: =CEILING(100*Q39/$Q$2,1) -> 34 | S39: =IF(P39="",0,20) -> 20 | T39: =IF(P39=1,30,IF(P39=2,20,IF(P39=3,10,0))) -> 0 | U39: =IF(P39="","",R39+S39+T39) -> 54 | Y39: =IF(X39=0,"",CEILING(100*W39/X39,1)) | Z39: =IF(V39="",0,20) -> 0 | AA39: =IF(V39=1,30,IF(V39=2,20,IF(V39=3,10,0))) -> 0 | AB39: =IF(V39="","",Y39+Z39+AA39) | AE39: =CEILING(100*AD39/$AD$2,1) -> 0 | AF39: =IF(AC39="",0,20) -> 0 | AG39: =IF(AC39=1,30,IF(AC39=2,20,IF(AC39=3,10,0))) -> 0 | AH39: =IF(AC39="","",AE39+AF39+AG39) | AK39: =CEILING(100*AJ39/$AJ$2,1) -> 0 | AL39: =IF(AI39="",0,20) -> 0 | AM39: =IF(AI39=1,30,IF(AI39=2,20,IF(AI39=3,10,0))) -> 0 | AN39: =IF(AI39="","",AK39+AL39+AM39) | AQ39: =CEILING(100*AP39/$AP$2,1) -> 0 | AR39: =IF(AO39="",0,20) -> 0 | AS39: =IF(AO39=1,30,IF(AO39=2,20,IF(AO39=3,10,0))) -> 0 | AT39: =IF(AO39="","",AQ39+AR39+AS39) | AW39: =CEILING(100*AV39/$AV$2,1) -> 0 | AX39: =IF(AU39="",0,20) -> 0 | AY39: =IF(AU39=1,30,IF(AU39=2,20,IF(AU39=3,10,0))) -> 0 | AZ39: =IF(AU39="","",AW39+AX39+AY39) | BC39: =CEILING(100*BB39/$BB$2,1) -> 0 | BD39: =IF(BA39="",0,20) -> 0 | BE39: =IF(BA39=1,30,IF(BA39=2,20,IF(BA39=3,10,0))) -> 0 | BF39: =IF(BA39="","",BC39+BD39+BE39) | BI39: =CEILING(100*BH39/$BH$2,1) -> 0 | BJ39: =IF(BG39="",0,20) -> 0 | BK39: =IF(BG39=1,30,IF(BG39=2,20,IF(BG39=3,10,0))) -> 0 | BL39: =IF(BG39="","",BI39+BJ39+BK39) | BO39: =CEILING(100*BN39/$BN$2,1) -> 0 | BP39: =IF(BM39="",0,20) -> 0 | BQ39: =IF(BM39=1,30,IF(BM39=2,20,IF(BM39=3,10,0))) -> 0 | BR39: =IF(BM39="","",BO39+BP39+BQ39)
A40: 38 | B40: Miller Liu | C40: SK Sandlöparen | D40: 2015 | E40: =(+S40+Z40+AR40+AF40+AL40+BD40+AX40+BJ40+BP40)/20 -> 1 | F40: =U40 -> 45 | G40: =AB40 | H40: =AH40 | I40: =AN40 | J40: =AT40 | K40: =AZ40 | L40: =BF40 | M40: =BL40 | O40: =IF(E40<4,SUM(F40:N40),SUMPRODUCT(LARGE(F40:N40,{1;2;3;4}))) -> 45 | P40: 34 | Q40: 1.5 | R40: =CEILING(100*Q40/$Q$2,1) -> 25 | S40: =IF(P40="",0,20) -> 20 | T40: =IF(P40=1,30,IF(P40=2,20,IF(P40=3,10,0))) -> 0 | U40: =IF(P40="","",R40+S40+T40) -> 45 | Y40: =IF(X40=0,"",CEILING(100*W40/X40,1)) | Z40: =IF(V40="",0,20) -> 0 | AA40: =IF(V40=1,30,IF(V40=2,20,IF(V40=3,10,0))) -> 0 | AB40: =IF(V40="","",Y40+Z40+AA40) | AE40: =CEILING(100*AD40/$AD$2,1) -> 0 | AF40: =IF(AC40="",0,20) -> 0 | AG40: =IF(AC40=1,30,IF(AC40=2,20,IF(AC40=3,10,0))) -> 0 | AH40: =IF(AC40="","",AE40+AF40+AG40) | AK40: =CEILING(100*AJ40/$AJ$2,1) -> 0 | AL40: =IF(AI40="",0,20) -> 0 | AM40: =IF(AI40=1,30,IF(AI40=2,20,IF(AI40=3,10,0))) -> 0 | AN40: =IF(AI40="","",AK40+AL40+AM40) | AQ40: =CEILING(100*AP40/$AP$2,1) -> 0 | AR40: =IF(AO40="",0,20) -> 0 | AS40: =IF(AO40=1,30,IF(AO40=2,20,IF(AO40=3,10,0))) -> 0 | AT40: =IF(AO40="","",AQ40+AR40+AS40) | AW40: =CEILING(100*AV40/$AV$2,1) -> 0 | AX40: =IF(AU40="",0,20) -> 0 | AY40: =IF(AU40=1,30,IF(AU40=2,20,IF(AU40=3,10,0))) -> 0 | AZ40: =IF(AU40="","",AW40+AX40+AY40) | BC40: =CEILING(100*BB40/$BB$2,1) -> 0 | BD40: =IF(BA40="",0,20) -> 0 | BE40: =IF(BA40=1,30,IF(BA40=2,20,IF(BA40=3,10,0))) -> 0 | BF40: =IF(BA40="","",BC40+BD40+BE40) | BI40: =CEILING(100*BH40/$BH$2,1) -> 0 | BJ40: =IF(BG40="",0,20) -> 0 | BK40: =IF(BG40=1,30,IF(BG40=2,20,IF(BG40=3,10,0))) -> 0 | BL40: =IF(BG40="","",BI40+BJ40+BK40) | BO40: =CEILING(100*BN40/$BN$2,1) -> 0 | BP40: =IF(BM40="",0,20) -> 0 | BQ40: =IF(BM40=1,30,IF(BM40=2,20,IF(BM40=3,10,0))) -> 0 | BR40: =IF(BM40="","",BO40+BP40+BQ40)
A41: 39 | B41: Samuel Gybrant | C41: Helsingborgs SS | D41: 2014 | E41: =(+S41+Z41+AR41+AF41+AL41+BD41+AX41+BJ41+BP41)/20 -> 1 | F41: =U41 -> 37 | G41: =AB41 | H41: =AH41 | I41: =AN41 | J41: =AT41 | K41: =AZ41 | L41: =BF41 | M41: =BL41 | O41: =IF(E41<4,SUM(F41:N41),SUMPRODUCT(LARGE(F41:N41,{1;2;3;4}))) -> 37 | P41: 35 | Q41: 1 | R41: =CEILING(100*Q41/$Q$2,1) -> 17 | S41: =IF(P41="",0,20) -> 20 | T41: =IF(P41=1,30,IF(P41=2,20,IF(P41=3,10,0))) -> 0 | U41: =IF(P41="","",R41+S41+T41) -> 37 | Y41: =IF(X41=0,"",CEILING(100*W41/X41,1)) | Z41: =IF(V41="",0,20) -> 0 | AA41: =IF(V41=1,30,IF(V41=2,20,IF(V41=3,10,0))) -> 0 | AB41: =IF(V41="","",Y41+Z41+AA41) | AE41: =CEILING(100*AD41/$AD$2,1) -> 0 | AF41: =IF(AC41="",0,20) -> 0 | AG41: =IF(AC41=1,30,IF(AC41=2,20,IF(AC41=3,10,0))) -> 0 | AH41: =IF(AC41="","",AE41+AF41+AG41) | AK41: =CEILING(100*AJ41/$AJ$2,1) -> 0 | AL41: =IF(AI41="",0,20) -> 0 | AM41: =IF(AI41=1,30,IF(AI41=2,20,IF(AI41=3,10,0))) -> 0 | AN41: =IF(AI41="","",AK41+AL41+AM41) | AQ41: =CEILING(100*AP41/$AP$2,1) -> 0 | AR41: =IF(AO41="",0,20) -> 0 | AS41: =IF(AO41=1,30,IF(AO41=2,20,IF(AO41=3,10,0))) -> 0 | AT41: =IF(AO41="","",AQ41+AR41+AS41) | AW41: =CEILING(100*AV41/$AV$2,1) -> 0 | AX41: =IF(AU41="",0,20) -> 0 | AY41: =IF(AU41=1,30,IF(AU41=2,20,IF(AU41=3,10,0))) -> 0 | AZ41: =IF(AU41="","",AW41+AX41+AY41) | BC41: =CEILING(100*BB41/$BB$2,1) -> 0 | BD41: =IF(BA41="",0,20) -> 0 | BE41: =IF(BA41=1,30,IF(BA41=2,20,IF(BA41=3,10,0))) -> 0 | BF41: =IF(BA41="","",BC41+BD41+BE41) | BI41: =CEILING(100*BH41/$BH$2,1) -> 0 | BJ41: =IF(BG41="",0,20) -> 0 | BK41: =IF(BG41=1,30,IF(BG41=2,20,IF(BG41=3,10,0))) -> 0 | BL41: =IF(BG41="","",BI41+BJ41+BK41) | BO41: =CEILING(100*BN41/$BN$2,1) -> 0 | BP41: =IF(BM41="",0,20) -> 0 | BQ41: =IF(BM41=1,30,IF(BM41=2,20,IF(BM41=3,10,0))) -> 0 | BR41: =IF(BM41="","",BO41+BP41+BQ41)
A42: 40 | B42: Adam Al Okla | C42: Landskrona SK | D42: 2015 | E42: =(+S42+Z42+AR42+AF42+AL42+BD42+AX42+BJ42+BP42)/20 -> 1 | F42: =U42 -> 37 | G42: =AB42 | H42: =AH42 | I42: =AN42 | J42: =AT42 | K42: =AZ42 | L42: =BF42 | M42: =BL42 | O42: =IF(E42<4,SUM(F42:N42),SUMPRODUCT(LARGE(F42:N42,{1;2;3;4}))) -> 37 | P42: 36 | Q42: 1 | R42: =CEILING(100*Q42/$Q$2,1) -> 17 | S42: =IF(P42="",0,20) -> 20 | T42: =IF(P42=1,30,IF(P42=2,20,IF(P42=3,10,0))) -> 0 | U42: =IF(P42="","",R42+S42+T42) -> 37 | Y42: =IF(X42=0,"",CEILING(100*W42/X42,1)) | Z42: =IF(V42="",0,20) -> 0 | AA42: =IF(V42=1,30,IF(V42=2,20,IF(V42=3,10,0))) -> 0 | AB42: =IF(V42="","",Y42+Z42+AA42) | AE42: =CEILING(100*AD42/$AD$2,1) -> 0 | AF42: =IF(AC42="",0,20) -> 0 | AG42: =IF(AC42=1,30,IF(AC42=2,20,IF(AC42=3,10,0))) -> 0 | AH42: =IF(AC42="","",AE42+AF42+AG42) | AK42: =CEILING(100*AJ42/$AJ$2,1) -> 0 | AL42: =IF(AI42="",0,20) -> 0 | AM42: =IF(AI42=1,30,IF(AI42=2,20,IF(AI42=3,10,0))) -> 0 | AN42: =IF(AI42="","",AK42+AL42+AM42) | AQ42: =CEILING(100*AP42/$AP$2,1) -> 0 | AR42: =IF(AO42="",0,20) -> 0 | AS42: =IF(AO42=1,30,IF(AO42=2,20,IF(AO42=3,10,0))) -> 0 | AT42: =IF(AO42="","",AQ42+AR42+AS42) | AW42: =CEILING(100*AV42/$AV$2,1) -> 0 | AX42: =IF(AU42="",0,20) -> 0 | AY42: =IF(AU42=1,30,IF(AU42=2,20,IF(AU42=3,10,0))) -> 0 | AZ42: =IF(AU42="","",AW42+AX42+AY42) | BC42: =CEILING(100*BB42/$BB$2,1) -> 0 | BD42: =IF(BA42="",0,20) -> 0 | BE42: =IF(BA42=1,30,IF(BA42=2,20,IF(BA42=3,10,0))) -> 0 | BF42: =IF(BA42="","",BC42+BD42+BE42) | BI42: =CEILING(100*BH42/$BH$2,1) -> 0 | BJ42: =IF(BG42="",0,20) -> 0 | BK42: =IF(BG42=1,30,IF(BG42=2,20,IF(BG42=3,10,0))) -> 0 | BL42: =IF(BG42="","",BI42+BJ42+BK42) | BO42: =CEILING(100*BN42/$BN$2,1) -> 0 | BP42: =IF(BM42="",0,20) -> 0 | BQ42: =IF(BM42=1,30,IF(BM42=2,20,IF(BM42=3,10,0))) -> 0 | BR42: =IF(BM42="","",BO42+BP42+BQ42)
A43: 41 | B43: Philip Arnold | C43: Helsingborgs SS | D43: 2015 | E43: =(+S43+Z43+AR43+AF43+AL43+BD43+AX43+BJ43+BP43)/20 -> 1 | F43: =U43 -> 37 | G43: =AB43 | H43: =AH43 | I43: =AN43 | J43: =AT43 | K43: =AZ43 | L43: =BF43 | M43: =BL43 | O43: =IF(E43<4,SUM(F43:N43),SUMPRODUCT(LARGE(F43:N43,{1;2;3;4}))) -> 37 | P43: 37 | Q43: 1 | R43: =CEILING(100*Q43/$Q$2,1) -> 17 | S43: =IF(P43="",0,20) -> 20 | T43: =IF(P43=1,30,IF(P43=2,20,IF(P43=3,10,0))) -> 0 | U43: =IF(P43="","",R43+S43+T43) -> 37 | Y43: =IF(X43=0,"",CEILING(100*W43/X43,1)) | Z43: =IF(V43="",0,20) -> 0 | AA43: =IF(V43=1,30,IF(V43=2,20,IF(V43=3,10,0))) -> 0 | AB43: =IF(V43="","",Y43+Z43+AA43) | AE43: =CEILING(100*AD43/$AD$2,1) -> 0 | AF43: =IF(AC43="",0,20) -> 0 | AG43: =IF(AC43=1,30,IF(AC43=2,20,IF(AC43=3,10,0))) -> 0 | AH43: =IF(AC43="","",AE43+AF43+AG43) | AK43: =CEILING(100*AJ43/$AJ$2,1) -> 0 | AL43: =IF(AI43="",0,20) -> 0 | AM43: =IF(AI43=1,30,IF(AI43=2,20,IF(AI43=3,10,0))) -> 0 | AN43: =IF(AI43="","",AK43+AL43+AM43) | AQ43: =CEILING(100*AP43/$AP$2,1) -> 0 | AR43: =IF(AO43="",0,20) -> 0 | AS43: =IF(AO43=1,30,IF(AO43=2,20,IF(AO43=3,10,0))) -> 0 | AT43: =IF(AO43="","",AQ43+AR43+AS43) | AW43: =CEILING(100*AV43/$AV$2,1) -> 0 | AX43: =IF(AU43="",0,20) -> 0 | AY43: =IF(AU43=1,30,IF(AU43=2,20,IF(AU43=3,10,0))) -> 0 | AZ43: =IF(AU43="","",AW43+AX43+AY43) | BC43: =CEILING(100*BB43/$BB$2,1) -> 0 | BD43: =IF(BA43="",0,20) -> 0 | BE43: =IF(BA43=1,30,IF(BA43=2,20,IF(BA43=3,10,0))) -> 0 | BF43: =IF(BA43="","",BC43+BD43+BE43) | BI43: =CEILING(100*BH43/$BH$2,1) -> 0 | BJ43: =IF(BG43="",0,20) -> 0 | BK43: =IF(BG43=1,30,IF(BG43=2,20,IF(BG43=3,10,0))) -> 0 | BL43: =IF(BG43="","",BI43+BJ43+BK43) | BO43: =CEILING(100*BN43/$BN$2,1) -> 0 | BP43: =IF(BM43="",0,20) -> 0 | BQ43: =IF(BM43=1,30,IF(BM43=2,20,IF(BM43=3,10,0))) -> 0 | BR43: =IF(BM43="","",BO43+BP43+BQ43)
A44: 42 | B44: Lena Cvetic | C44: Limhamns SK | D44: 2015 | E44: =(+S44+Z44+AR44+AF44+AL44+BD44+AX44+BJ44+BP44)/20 -> 1 | F44: =U44 | G44: =AB44 -> 30 | H44: =AH44 | I44: =AN44 | J44: =AT44 | K44: =AZ44 | L44: =BF44 | M44: =BL44 | O44: =IF(E44<4,SUM(F44:N44),SUMPRODUCT(LARGE(F44:N44,{1;2;3;4}))) -> 30 | R44: =CEILING(100*Q44/$Q$2,1) -> 0 | S44: =IF(P44="",0,20) -> 0 | T44: =IF(P44=1,30,IF(P44=2,20,IF(P44=3,10,0))) -> 0 | U44: =IF(P44="","",R44+S44+T44) | V44: 47 | W44: 1 | X44: 11 | Y44: =IF(X44=0,"",CEILING(100*W44/X44,1)) -> 10 | Z44: =IF(V44="",0,20) -> 20 | AA44: =IF(V44=1,30,IF(V44=2,20,IF(V44=3,10,0))) -> 0 | AB44: =IF(V44="","",Y44+Z44+AA44) -> 30 | AE44: =CEILING(100*AD44/$AD$2,1) -> 0 | AF44: =IF(AC44="",0,20) -> 0 | AG44: =IF(AC44=1,30,IF(AC44=2,20,IF(AC44=3,10,0))) -> 0 | AH44: =IF(AC44="","",AE44+AF44+AG44) | AK44: =CEILING(100*AJ44/$AJ$2,1) -> 0 | AL44: =IF(AI44="",0,20) -> 0 | AM44: =IF(AI44=1,30,IF(AI44=2,20,IF(AI44=3,10,0))) -> 0 | AN44: =IF(AI44="","",AK44+AL44+AM44) | AQ44: =CEILING(100*AP44/$AP$2,1) -> 0 | AR44: =IF(AO44="",0,20) -> 0 | AS44: =IF(AO44=1,30,IF(AO44=2,20,IF(AO44=3,10,0))) -> 0 | AT44: =IF(AO44="","",AQ44+AR44+AS44) | AW44: =CEILING(100*AV44/$AV$2,1) -> 0 | AX44: =IF(AU44="",0,20) -> 0 | AY44: =IF(AU44=1,30,IF(AU44=2,20,IF(AU44=3,10,0))) -> 0 | AZ44: =IF(AU44="","",AW44+AX44+AY44) | BC44: =CEILING(100*BB44/$BB$2,1) -> 0 | BD44: =IF(BA44="",0,20) -> 0 | BE44: =IF(BA44=1,30,IF(BA44=2,20,IF(BA44=3,10,0))) -> 0 | BF44: =IF(BA44="","",BC44+BD44+BE44) | BI44: =CEILING(100*BH44/$BH$2,1) -> 0 | BJ44: =IF(BG44="",0,20) -> 0 | BK44: =IF(BG44=1,30,IF(BG44=2,20,IF(BG44=3,10,0))) -> 0 | BL44: =IF(BG44="","",BI44+BJ44+BK44) | BO44: =CEILING(100*BN44/$BN$2,1) -> 0 | BP44: =IF(BM44="",0,20) -> 0 | BQ44: =IF(BM44=1,30,IF(BM44=2,20,IF(BM44=3,10,0))) -> 0 | BR44: =IF(BM44="","",BO44+BP44+BQ44)
A45: 43 | E45: =(+S45+Z45+AR45+AF45+AL45+BD45+AX45+BJ45+BP45)/20 -> 0 | F45: =U45 | G45: =AB45 | H45: =AH45 | I45: =AN45 | J45: =AT45 | K45: =AZ45 | L45: =BF45 | M45: =BL45 | O45: =IF(E45<4,SUM(F45:N45),SUMPRODUCT(LARGE(F45:N45,{1;2;3;4}))) -> 0 | R45: =CEILING(100*Q45/$Q$2,1) -> 0 | S45: =IF(P45="",0,20) -> 0 | T45: =IF(P45=1,30,IF(P45=2,20,IF(P45=3,10,0))) -> 0 | U45: =IF(P45="","",R45+S45+T45) | Y45: =IF(X45=0,"",CEILING(100*W45/X45,1)) | Z45: =IF(V45="",0,20) -> 0 | AA45: =IF(V45=1,30,IF(V45=2,20,IF(V45=3,10,0))) -> 0 | AB45: =IF(V45="","",Y45+Z45+AA45) | AE45: =CEILING(100*AD45/$AD$2,1) -> 0 | AF45: =IF(AC45="",0,20) -> 0 | AG45: =IF(AC45=1,30,IF(AC45=2,20,IF(AC45=3,10,0))) -> 0 | AH45: =IF(AC45="","",AE45+AF45+AG45) | AK45: =CEILING(100*AJ45/$AJ$2,1) -> 0 | AL45: =IF(AI45="",0,20) -> 0 | AM45: =IF(AI45=1,30,IF(AI45=2,20,IF(AI45=3,10,0))) -> 0 | AN45: =IF(AI45="","",AK45+AL45+AM45) | AQ45: =CEILING(100*AP45/$AP$2,1) -> 0 | AR45: =IF(AO45="",0,20) -> 0 | AS45: =IF(AO45=1,30,IF(AO45=2,20,IF(AO45=3,10,0))) -> 0 | AT45: =IF(AO45="","",AQ45+AR45+AS45) | AW45: =CEILING(100*AV45/$AV$2,1) -> 0 | AX45: =IF(AU45="",0,20) -> 0 | AY45: =IF(AU45=1,30,IF(AU45=2,20,IF(AU45=3,10,0))) -> 0 | AZ45: =IF(AU45="","",AW45+AX45+AY45) | BC45: =CEILING(100*BB45/$BB$2,1) -> 0 | BD45: =IF(BA45="",0,20) -> 0 | BE45: =IF(BA45=1,30,IF(BA45=2,20,IF(BA45=3,10,0))) -> 0 | BF45: =IF(BA45="","",BC45+BD45+BE45) | BI45: =CEILING(100*BH45/$BH$2,1) -> 0 | BJ45: =IF(BG45="",0,20) -> 0 | BK45: =IF(BG45=1,30,IF(BG45=2,20,IF(BG45=3,10,0))) -> 0 | BL45: =IF(BG45="","",BI45+BJ45+BK45) | BO45: =CEILING(100*BN45/$BN$2,1) -> 0 | BP45: =IF(BM45="",0,20) -> 0 | BQ45: =IF(BM45=1,30,IF(BM45=2,20,IF(BM45=3,10,0))) -> 0 | BR45: =IF(BM45="","",BO45+BP45+BQ45)
A46: 44 | E46: =(+S46+Z46+AR46+AF46+AL46+BD46+AX46+BJ46+BP46)/20 -> 0 | F46: =U46 | G46: =AB46 | H46: =AH46 | I46: =AN46 | J46: =AT46 | K46: =AZ46 | L46: =BF46 | M46: =BL46 | N46: =BR46 | O46: =IF(E46<4,SUM(F46:N46),SUMPRODUCT(LARGE(F46:N46,{1;2;3;4}))) -> 0 | R46: =CEILING(100*Q46/$Q$2,1) -> 0 | S46: =IF(P46="",0,20) -> 0 | T46: =IF(P46=1,30,IF(P46=2,20,IF(P46=3,10,0))) -> 0 | U46: =IF(P46="","",R46+S46+T46) | Y46: =IF(X46=0,"",CEILING(100*W46/X46,1)) | Z46: =IF(V46="",0,20) -> 0 | AA46: =IF(V46=1,30,IF(V46=2,20,IF(V46=3,10,0))) -> 0 | AB46: =IF(V46="","",Y46+Z46+AA46) | AE46: =CEILING(100*AD46/$AD$2,1) -> 0 | AF46: =IF(AC46="",0,20) -> 0 | AG46: =IF(AC46=1,30,IF(AC46=2,20,IF(AC46=3,10,0))) -> 0 | AH46: =IF(AC46="","",AE46+AF46+AG46) | AK46: =CEILING(100*AJ46/$AJ$2,1) -> 0 | AL46: =IF(AI46="",0,20) -> 0 | AM46: =IF(AI46=1,30,IF(AI46=2,20,IF(AI46=3,10,0))) -> 0 | AN46: =IF(AI46="","",AK46+AL46+AM46) | AQ46: =CEILING(100*AP46/$AP$2,1) -> 0 | AR46: =IF(AO46="",0,20) -> 0 | AS46: =IF(AO46=1,30,IF(AO46=2,20,IF(AO46=3,10,0))) -> 0 | AT46: =IF(AO46="","",AQ46+AR46+AS46) | AW46: =CEILING(100*AV46/$AV$2,1) -> 0 | AX46: =IF(AU46="",0,20) -> 0 | AY46: =IF(AU46=1,30,IF(AU46=2,20,IF(AU46=3,10,0))) -> 0 | AZ46: =IF(AU46="","",AW46+AX46+AY46) | BC46: =CEILING(100*BB46/$BB$2,1) -> 0 | BD46: =IF(BA46="",0,20) -> 0 | BE46: =IF(BA46=1,30,IF(BA46=2,20,IF(BA46=3,10,0))) -> 0 | BF46: =IF(BA46="","",BC46+BD46+BE46) | BI46: =CEILING(100*BH46/$BH$2,1) -> 0 | BJ46: =IF(BG46="",0,20) -> 0 | BK46: =IF(BG46=1,30,IF(BG46=2,20,IF(BG46=3,10,0))) -> 0 | BL46: =IF(BG46="","",BI46+BJ46+BK46) | BO46: =CEILING(100*BN46/$BN$2,1) -> 0 | BP46: =IF(BM46="",0,20) -> 0 | BQ46: =IF(BM46=1,30,IF(BM46=2,20,IF(BM46=3,10,0))) -> 0 | BR46: =IF(BM46="","",BO46+BP46+BQ46)
A47: 45 | E47: =(+S47+Z47+AR47+AF47+AL47+BD47+AX47+BJ47+BP47)/20 -> 0 | F47: =U47 | G47: =AB47 | H47: =AH47 | I47: =AN47 | J47: =AT47 | K47: =AZ47 | L47: =BF47 | M47: =BL47 | N47: =BR47 | O47: =IF(E47<4,SUM(F47:N47),SUMPRODUCT(LARGE(F47:N47,{1;2;3;4}))) -> 0 | R47: =CEILING(100*Q47/$Q$2,1) -> 0 | S47: =IF(P47="",0,20) -> 0 | T47: =IF(P47=1,30,IF(P47=2,20,IF(P47=3,10,0))) -> 0 | U47: =IF(P47="","",R47+S47+T47) | Y47: =IF(X47=0,"",CEILING(100*W47/X47,1)) | Z47: =IF(V47="",0,20) -> 0 | AA47: =IF(V47=1,30,IF(V47=2,20,IF(V47=3,10,0))) -> 0 | AB47: =IF(V47="","",Y47+Z47+AA47) | AE47: =CEILING(100*AD47/$AD$2,1) -> 0 | AF47: =IF(AC47="",0,20) -> 0 | AG47: =IF(AC47=1,30,IF(AC47=2,20,IF(AC47=3,10,0))) -> 0 | AH47: =IF(AC47="","",AE47+AF47+AG47) | AK47: =CEILING(100*AJ47/$AJ$2,1) -> 0 | AL47: =IF(AI47="",0,20) -> 0 | AM47: =IF(AI47=1,30,IF(AI47=2,20,IF(AI47=3,10,0))) -> 0 | AN47: =IF(AI47="","",AK47+AL47+AM47) | AQ47: =CEILING(100*AP47/$AP$2,1) -> 0 | AR47: =IF(AO47="",0,20) -> 0 | AS47: =IF(AO47=1,30,IF(AO47=2,20,IF(AO47=3,10,0))) -> 0 | AT47: =IF(AO47="","",AQ47+AR47+AS47) | AW47: =CEILING(100*AV47/$AV$2,1) -> 0 | AX47: =IF(AU47="",0,20) -> 0 | AY47: =IF(AU47=1,30,IF(AU47=2,20,IF(AU47=3,10,0))) -> 0 | AZ47: =IF(AU47="","",AW47+AX47+AY47) | BC47: =CEILING(100*BB47/$BB$2,1) -> 0 | BD47: =IF(BA47="",0,20) -> 0 | BE47: =IF(BA47=1,30,IF(BA47=2,20,IF(BA47=3,10,0))) -> 0 | BF47: =IF(BA47="","",BC47+BD47+BE47) | BI47: =CEILING(100*BH47/$BH$2,1) -> 0 | BJ47: =IF(BG47="",0,20) -> 0 | BK47: =IF(BG47=1,30,IF(BG47=2,20,IF(BG47=3,10,0))) -> 0 | BL47: =IF(BG47="","",BI47+BJ47+BK47) | BO47: =CEILING(100*BN47/$BN$2,1) -> 0 | BP47: =IF(BM47="",0,20) -> 0 | BQ47: =IF(BM47=1,30,IF(BM47=2,20,IF(BM47=3,10,0))) -> 0 | BR47: =IF(BM47="","",BO47+BP47+BQ47)
A48: 46 | E48: =(+S48+Z48+AR48+AF48+AL48+BD48+AX48+BJ48+BP48)/20 -> 0 | F48: =U48 | G48: =AB48 | H48: =AH48 | I48: =AN48 | J48: =AT48 | K48: =AZ48 | L48: =BF48 | M48: =BL48 | N48: =BR48 | O48: =IF(E48<4,SUM(F48:N48),SUMPRODUCT(LARGE(F48:N48,{1;2;3;4}))) -> 0 | R48: =CEILING(100*Q48/$Q$2,1) -> 0 | S48: =IF(P48="",0,20) -> 0 | T48: =IF(P48=1,30,IF(P48=2,20,IF(P48=3,10,0))) -> 0 | U48: =IF(P48="","",R48+S48+T48) | Y48: =IF(X48=0,"",CEILING(100*W48/X48,1)) | Z48: =IF(V48="",0,20) -> 0 | AA48: =IF(V48=1,30,IF(V48=2,20,IF(V48=3,10,0))) -> 0 | AB48: =IF(V48="","",Y48+Z48+AA48) | AE48: =CEILING(100*AD48/$AD$2,1) -> 0 | AF48: =IF(AC48="",0,20) -> 0 | AG48: =IF(AC48=1,30,IF(AC48=2,20,IF(AC48=3,10,0))) -> 0 | AH48: =IF(AC48="","",AE48+AF48+AG48) | AK48: =CEILING(100*AJ48/$AJ$2,1) -> 0 | AL48: =IF(AI48="",0,20) -> 0 | AM48: =IF(AI48=1,30,IF(AI48=2,20,IF(AI48=3,10,0))) -> 0 | AN48: =IF(AI48="","",AK48+AL48+AM48) | AQ48: =CEILING(100*AP48/$AP$2,1) -> 0 | AR48: =IF(AO48="",0,20) -> 0 | AS48: =IF(AO48=1,30,IF(AO48=2,20,IF(AO48=3,10,0))) -> 0 | AT48: =IF(AO48="","",AQ48+AR48+AS48) | AW48: =CEILING(100*AV48/$AV$2,1) -> 0 | AX48: =IF(AU48="",0,20) -> 0 | AY48: =IF(AU48=1,30,IF(AU48=2,20,IF(AU48=3,10,0))) -> 0 | AZ48: =IF(AU48="","",AW48+AX48+AY48) | BC48: =CEILING(100*BB48/$BB$2,1) -> 0 | BD48: =IF(BA48="",0,20) -> 0 | BE48: =IF(BA48=1,30,IF(BA48=2,20,IF(BA48=3,10,0))) -> 0 | BF48: =IF(BA48="","",BC48+BD48+BE48) | BI48: =CEILING(100*BH48/$BH$2,1) -> 0 | BJ48: =IF(BG48="",0,20) -> 0 | BK48: =IF(BG48=1,30,IF(BG48=2,20,IF(BG48=3,10,0))) -> 0 | BL48: =IF(BG48="","",BI48+BJ48+BK48) | BO48: =CEILING(100*BN48/$BN$2,1) -> 0 | BP48: =IF(BM48="",0,20) -> 0 | BQ48: =IF(BM48=1,30,IF(BM48=2,20,IF(BM48=3,10,0))) -> 0 | BR48: =IF(BM48="","",BO48+BP48+BQ48)
A49: 47 | E49: =(+S49+Z49+AR49+AF49+AL49+BD49+AX49+BJ49+BP49)/20 -> 0 | F49: =U49 | G49: =AB49 | H49: =AH49 | I49: =AN49 | J49: =AT49 | K49: =AZ49 | L49: =BF49 | M49: =BL49 | N49: =BR49 | O49: =IF(E49<4,SUM(F49:N49),SUMPRODUCT(LARGE(F49:N49,{1;2;3;4}))) -> 0 | R49: =CEILING(100*Q49/$Q$2,1) -> 0 | S49: =IF(P49="",0,20) -> 0 | T49: =IF(P49=1,30,IF(P49=2,20,IF(P49=3,10,0))) -> 0 | U49: =IF(P49="","",R49+S49+T49) | Y49: =IF(X49=0,"",CEILING(100*W49/X49,1)) | Z49: =IF(V49="",0,20) -> 0 | AA49: =IF(V49=1,30,IF(V49=2,20,IF(V49=3,10,0))) -> 0 | AB49: =IF(V49="","",Y49+Z49+AA49) | AE49: =CEILING(100*AD49/$AD$2,1) -> 0 | AF49: =IF(AC49="",0,20) -> 0 | AG49: =IF(AC49=1,30,IF(AC49=2,20,IF(AC49=3,10,0))) -> 0 | AH49: =IF(AC49="","",AE49+AF49+AG49) | AK49: =CEILING(100*AJ49/$AJ$2,1) -> 0 | AL49: =IF(AI49="",0,20) -> 0 | AM49: =IF(AI49=1,30,IF(AI49=2,20,IF(AI49=3,10,0))) -> 0 | AN49: =IF(AI49="","",AK49+AL49+AM49) | AQ49: =CEILING(100*AP49/$AP$2,1) -> 0 | AR49: =IF(AO49="",0,20) -> 0 | AS49: =IF(AO49=1,30,IF(AO49=2,20,IF(AO49=3,10,0))) -> 0 | AT49: =IF(AO49="","",AQ49+AR49+AS49) | AW49: =CEILING(100*AV49/$AV$2,1) -> 0 | AX49: =IF(AU49="",0,20) -> 0 | AY49: =IF(AU49=1,30,IF(AU49=2,20,IF(AU49=3,10,0))) -> 0 | AZ49: =IF(AU49="","",AW49+AX49+AY49) | BC49: =CEILING(100*BB49/$BB$2,1) -> 0 | BD49: =IF(BA49="",0,20) -> 0 | BE49: =IF(BA49=1,30,IF(BA49=2,20,IF(BA49=3,10,0))) -> 0 | BF49: =IF(BA49="","",BC49+BD49+BE49) | BI49: =CEILING(100*BH49/$BH$2,1) -> 0 | BJ49: =IF(BG49="",0,20) -> 0 | BK49: =IF(BG49=1,30,IF(BG49=2,20,IF(BG49=3,10,0))) -> 0 | BL49: =IF(BG49="","",BI49+BJ49+BK49) | BO49: =CEILING(100*BN49/$BN$2,1) -> 0 | BP49: =IF(BM49="",0,20) -> 0 | BQ49: =IF(BM49=1,30,IF(BM49=2,20,IF(BM49=3,10,0))) -> 0 | BR49: =IF(BM49="","",BO49+BP49+BQ49)
A50: 48 | E50: =(+S50+Z50+AR50+AF50+AL50+BD50+AX50+BJ50+BP50)/20 -> 0 | F50: =U50 | G50: =AB50 | H50: =AH50 | I50: =AN50 | J50: =AT50 | K50: =AZ50 | L50: =BF50 | M50: =BL50 | N50: =BR50 | O50: =IF(E50<4,SUM(F50:N50),SUMPRODUCT(LARGE(F50:N50,{1;2;3;4}))) -> 0 | R50: =CEILING(100*Q50/$Q$2,1) -> 0 | S50: =IF(P50="",0,20) -> 0 | T50: =IF(P50=1,30,IF(P50=2,20,IF(P50=3,10,0))) -> 0 | U50: =IF(P50="","",R50+S50+T50) | Y50: =IF(X50=0,"",CEILING(100*W50/X50,1)) | Z50: =IF(V50="",0,20) -> 0 | AA50: =IF(V50=1,30,IF(V50=2,20,IF(V50=3,10,0))) -> 0 | AB50: =IF(V50="","",Y50+Z50+AA50) | AE50: =CEILING(100*AD50/$AD$2,1) -> 0 | AF50: =IF(AC50="",0,20) -> 0 | AG50: =IF(AC50=1,30,IF(AC50=2,20,IF(AC50=3,10,0))) -> 0 | AH50: =IF(AC50="","",AE50+AF50+AG50) | AK50: =CEILING(100*AJ50/$AJ$2,1) -> 0 | AL50: =IF(AI50="",0,20) -> 0 | AM50: =IF(AI50=1,30,IF(AI50=2,20,IF(AI50=3,10,0))) -> 0 | AN50: =IF(AI50="","",AK50+AL50+AM50) | AQ50: =CEILING(100*AP50/$AP$2,1) -> 0 | AR50: =IF(AO50="",0,20) -> 0 | AS50: =IF(AO50=1,30,IF(AO50=2,20,IF(AO50=3,10,0))) -> 0 | AT50: =IF(AO50="","",AQ50+AR50+AS50) | AW50: =CEILING(100*AV50/$AV$2,1) -> 0 | AX50: =IF(AU50="",0,20) -> 0 | AY50: =IF(AU50=1,30,IF(AU50=2,20,IF(AU50=3,10,0))) -> 0 | AZ50: =IF(AU50="","",AW50+AX50+AY50) | BC50: =CEILING(100*BB50/$BB$2,1) -> 0 | BD50: =IF(BA50="",0,20) -> 0 | BE50: =IF(BA50=1,30,IF(BA50=2,20,IF(BA50=3,10,0))) -> 0 | BF50: =IF(BA50="","",BC50+BD50+BE50) | BI50: =CEILING(100*BH50/$BH$2,1) -> 0 | BJ50: =IF(BG50="",0,20) -> 0 | BK50: =IF(BG50=1,30,IF(BG50=2,20,IF(BG50=3,10,0))) -> 0 | BL50: =IF(BG50="","",BI50+BJ50+BK50) | BO50: =CEILING(100*BN50/$BN$2,1) -> 0 | BP50: =IF(BM50="",0,20) -> 0 | BQ50: =IF(BM50=1,30,IF(BM50=2,20,IF(BM50=3,10,0))) -> 0 | BR50: =IF(BM50="","",BO50+BP50+BQ50)
A51: 49 | E51: =(+S51+Z51+AR51+AF51+AL51+BD51+AX51+BJ51+BP51)/20 -> 0 | F51: =U51 | G51: =AB51 | H51: =AH51 | I51: =AN51 | J51: =AT51 | K51: =AZ51 | L51: =BF51 | M51: =BL51 | N51: =BR51 | O51: =IF(E51<4,SUM(F51:N51),SUMPRODUCT(LARGE(F51:N51,{1;2;3;4}))) -> 0 | R51: =CEILING(100*Q51/$Q$2,1) -> 0 | S51: =IF(P51="",0,20) -> 0 | T51: =IF(P51=1,30,IF(P51=2,20,IF(P51=3,10,0))) -> 0 | U51: =IF(P51="","",R51+S51+T51) | Y51: =IF(X51=0,"",CEILING(100*W51/X51,1)) | Z51: =IF(V51="",0,20) -> 0 | AA51: =IF(V51=1,30,IF(V51=2,20,IF(V51=3,10,0))) -> 0 | AB51: =IF(V51="","",Y51+Z51+AA51) | AE51: =CEILING(100*AD51/$AD$2,1) -> 0 | AF51: =IF(AC51="",0,20) -> 0 | AG51: =IF(AC51=1,30,IF(AC51=2,20,IF(AC51=3,10,0))) -> 0 | AH51: =IF(AC51="","",AE51+AF51+AG51) | AK51: =CEILING(100*AJ51/$AJ$2,1) -> 0 | AL51: =IF(AI51="",0,20) -> 0 | AM51: =IF(AI51=1,30,IF(AI51=2,20,IF(AI51=3,10,0))) -> 0 | AN51: =IF(AI51="","",AK51+AL51+AM51) | AQ51: =CEILING(100*AP51/$AP$2,1) -> 0 | AR51: =IF(AO51="",0,20) -> 0 | AS51: =IF(AO51=1,30,IF(AO51=2,20,IF(AO51=3,10,0))) -> 0 | AT51: =IF(AO51="","",AQ51+AR51+AS51) | AW51: =CEILING(100*AV51/$AV$2,1) -> 0 | AX51: =IF(AU51="",0,20) -> 0 | AY51: =IF(AU51=1,30,IF(AU51=2,20,IF(AU51=3,10,0))) -> 0 | AZ51: =IF(AU51="","",AW51+AX51+AY51) | BC51: =CEILING(100*BB51/$BB$2,1) -> 0 | BD51: =IF(BA51="",0,20) -> 0 | BE51: =IF(BA51=1,30,IF(BA51=2,20,IF(BA51=3,10,0))) -> 0 | BF51: =IF(BA51="","",BC51+BD51+BE51) | BI51: =CEILING(100*BH51/$BH$2,1) -> 0 | BJ51: =IF(BG51="",0,20) -> 0 | BK51: =IF(BG51=1,30,IF(BG51=2,20,IF(BG51=3,10,0))) -> 0 | BL51: =IF(BG51="","",BI51+BJ51+BK51) | BO51: =CEILING(100*BN51/$BN$2,1) -> 0 | BP51: =IF(BM51="",0,20) -> 0 | BQ51: =IF(BM51=1,30,IF(BM51=2,20,IF(BM51=3,10,0))) -> 0 | BR51: =IF(BM51="","",BO51+BP51+BQ51)
A52: 50 | E52: =(+S52+Z52+AR52+AF52+AL52+BD52+AX52+BJ52+BP52)/20 -> 0 | F52: =U52 | G52: =AB52 | H52: =AH52 | I52: =AN52 | J52: =AT52 | K52: =AZ52 | L52: =BF52 | M52: =BL52 | N52: =BR52 | O52: =IF(E52<4,SUM(F52:N52),SUMPRODUCT(LARGE(F52:N52,{1;2;3;4}))) -> 0 | R52: =CEILING(100*Q52/$Q$2,1) -> 0 | S52: =IF(P52="",0,20) -> 0 | T52: =IF(P52=1,30,IF(P52=2,20,IF(P52=3,10,0))) -> 0 | U52: =IF(P52="","",R52+S52+T52) | Y52: =IF(X52=0,"",CEILING(100*W52/X52,1)) | Z52: =IF(V52="",0,20) -> 0 | AA52: =IF(V52=1,30,IF(V52=2,20,IF(V52=3,10,0))) -> 0 | AB52: =IF(V52="","",Y52+Z52+AA52) | AE52: =CEILING(100*AD52/$AD$2,1) -> 0 | AF52: =IF(AC52="",0,20) -> 0 | AG52: =IF(AC52=1,30,IF(AC52=2,20,IF(AC52=3,10,0))) -> 0 | AH52: =IF(AC52="","",AE52+AF52+AG52) | AK52: =CEILING(100*AJ52/$AJ$2,1) -> 0 | AL52: =IF(AI52="",0,20) -> 0 | AM52: =IF(AI52=1,30,IF(AI52=2,20,IF(AI52=3,10,0))) -> 0 | AN52: =IF(AI52="","",AK52+AL52+AM52) | AQ52: =CEILING(100*AP52/$AP$2,1) -> 0 | AR52: =IF(AO52="",0,20) -> 0 | AS52: =IF(AO52=1,30,IF(AO52=2,20,IF(AO52=3,10,0))) -> 0 | AT52: =IF(AO52="","",AQ52+AR52+AS52) | AW52: =CEILING(100*AV52/$AV$2,1) -> 0 | AX52: =IF(AU52="",0,20) -> 0 | AY52: =IF(AU52=1,30,IF(AU52=2,20,IF(AU52=3,10,0))) -> 0 | AZ52: =IF(AU52="","",AW52+AX52+AY52) | BC52: =CEILING(100*BB52/$BB$2,1) -> 0 | BD52: =IF(BA52="",0,20) -> 0 | BE52: =IF(BA52=1,30,IF(BA52=2,20,IF(BA52=3,10,0))) -> 0 | BF52: =IF(BA52="","",BC52+BD52+BE52) | BI52: =CEILING(100*BH52/$BH$2,1) -> 0 | BJ52: =IF(BG52="",0,20) -> 0 | BK52: =IF(BG52=1,30,IF(BG52=2,20,IF(BG52=3,10,0))) -> 0 | BL52: =IF(BG52="","",BI52+BJ52+BK52) | BO52: =CEILING(100*BN52/$BN$2,1) -> 0 | BP52: =IF(BM52="",0,20) -> 0 | BQ52: =IF(BM52=1,30,IF(BM52=2,20,IF(BM52=3,10,0))) -> 0 | BR52: =IF(BM52="","",BO52+BP52+BQ52)
A53: 51 | E53: =(+S53+Z53+AR53+AF53+AL53+BD53+AX53+BJ53+BP53)/20 -> 0 | F53: =U53 | G53: =AB53 | H53: =AH53 | I53: =AN53 | J53: =AT53 | K53: =AZ53 | L53: =BF53 | M53: =BL53 | N53: =BR53 | O53: =IF(E53<4,SUM(F53:N53),SUMPRODUCT(LARGE(F53:N53,{1;2;3;4}))) -> 0 | R53: =CEILING(100*Q53/$Q$2,1) -> 0 | S53: =IF(P53="",0,20) -> 0 | T53: =IF(P53=1,30,IF(P53=2,20,IF(P53=3,10,0))) -> 0 | U53: =IF(P53="","",R53+S53+T53) | Y53: =IF(X53=0,"",CEILING(100*W53/X53,1)) | Z53: =IF(V53="",0,20) -> 0 | AA53: =IF(V53=1,30,IF(V53=2,20,IF(V53=3,10,0))) -> 0 | AB53: =IF(V53="","",Y53+Z53+AA53) | AE53: =CEILING(100*AD53/$AD$2,1) -> 0 | AF53: =IF(AC53="",0,20) -> 0 | AG53: =IF(AC53=1,30,IF(AC53=2,20,IF(AC53=3,10,0))) -> 0 | AH53: =IF(AC53="","",AE53+AF53+AG53) | AK53: =CEILING(100*AJ53/$AJ$2,1) -> 0 | AL53: =IF(AI53="",0,20) -> 0 | AM53: =IF(AI53=1,30,IF(AI53=2,20,IF(AI53=3,10,0))) -> 0 | AN53: =IF(AI53="","",AK53+AL53+AM53) | AQ53: =CEILING(100*AP53/$AP$2,1) -> 0 | AR53: =IF(AO53="",0,20) -> 0 | AS53: =IF(AO53=1,30,IF(AO53=2,20,IF(AO53=3,10,0))) -> 0 | AT53: =IF(AO53="","",AQ53+AR53+AS53) | AW53: =CEILING(100*AV53/$AV$2,1) -> 0 | AX53: =IF(AU53="",0,20) -> 0 | AY53: =IF(AU53=1,30,IF(AU53=2,20,IF(AU53=3,10,0))) -> 0 | AZ53: =IF(AU53="","",AW53+AX53+AY53) | BC53: =CEILING(100*BB53/$BB$2,1) -> 0 | BD53: =IF(BA53="",0,20) -> 0 | BE53: =IF(BA53=1,30,IF(BA53=2,20,IF(BA53=3,10,0))) -> 0 | BF53: =IF(BA53="","",BC53+BD53+BE53) | BI53: =CEILING(100*BH53/$BH$2,1) -> 0 | BJ53: =IF(BG53="",0,20) -> 0 | BK53: =IF(BG53=1,30,IF(BG53=2,20,IF(BG53=3,10,0))) -> 0 | BL53: =IF(BG53="","",BI53+BJ53+BK53) | BO53: =CEILING(100*BN53/$BN$2,1) -> 0 | BP53: =IF(BM53="",0,20) -> 0 | BQ53: =IF(BM53=1,30,IF(BM53=2,20,IF(BM53=3,10,0))) -> 0 | BR53: =IF(BM53="","",BO53+BP53+BQ53)
A54: 52 | E54: =(+S54+Z54+AR54+AF54+AL54+BD54+AX54+BJ54+BP54)/20 -> 0 | F54: =U54 | G54: =AB54 | H54: =AH54 | I54: =AN54 | J54: =AT54 | K54: =AZ54 | L54: =BF54 | M54: =BL54 | O54: =IF(E54<4,SUM(F54:N54),SUMPRODUCT(LARGE(F54:N54,{1;2;3;4}))) -> 0 | R54: =CEILING(100*Q54/$Q$2,1) -> 0 | S54: =IF(P54="",0,20) -> 0 | T54: =IF(P54=1,30,IF(P54=2,20,IF(P54=3,10,0))) -> 0 | U54: =IF(P54="","",R54+S54+T54) | Y54: =IF(X54=0,"",CEILING(100*W54/X54,1)) | Z54: =IF(V54="",0,20) -> 0 | AA54: =IF(V54=1,30,IF(V54=2,20,IF(V54=3,10,0))) -> 0 | AB54: =IF(V54="","",Y54+Z54+AA54) | AE54: =CEILING(100*AD54/$AD$2,1) -> 0 | AF54: =IF(AC54="",0,20) -> 0 | AG54: =IF(AC54=1,30,IF(AC54=2,20,IF(AC54=3,10,0))) -> 0 | AH54: =IF(AC54="","",AE54+AF54+AG54) | AK54: =CEILING(100*AJ54/$AJ$2,1) -> 0 | AL54: =IF(AI54="",0,20) -> 0 | AM54: =IF(AI54=1,30,IF(AI54=2,20,IF(AI54=3,10,0))) -> 0 | AN54: =IF(AI54="","",AK54+AL54+AM54) | AQ54: =CEILING(100*AP54/$AP$2,1) -> 0 | AR54: =IF(AO54="",0,20) -> 0 | AS54: =IF(AO54=1,30,IF(AO54=2,20,IF(AO54=3,10,0))) -> 0 | AT54: =IF(AO54="","",AQ54+AR54+AS54) | AW54: =CEILING(100*AV54/$AV$2,1) -> 0 | AX54: =IF(AU54="",0,20) -> 0 | AY54: =IF(AU54=1,30,IF(AU54=2,20,IF(AU54=3,10,0))) -> 0 | AZ54: =IF(AU54="","",AW54+AX54+AY54) | BC54: =CEILING(100*BB54/$BB$2,1) -> 0 | BD54: =IF(BA54="",0,20) -> 0 | BE54: =IF(BA54=1,30,IF(BA54=2,20,IF(BA54=3,10,0))) -> 0 | BF54: =IF(BA54="","",BC54+BD54+BE54) | BI54: =CEILING(100*BH54/$BH$2,1) -> 0 | BJ54: =IF(BG54="",0,20) -> 0 | BK54: =IF(BG54=1,30,IF(BG54=2,20,IF(BG54=3,10,0))) -> 0 | BL54: =IF(BG54="","",BI54+BJ54+BK54) | BO54: =CEILING(100*BN54/$BN$2,1) -> 0 | BP54: =IF(BM54="",0,20) -> 0 | BQ54: =IF(BM54=1,30,IF(BM54=2,20,IF(BM54=3,10,0))) -> 0 | BR54: =IF(BM54="","",BO54+BP54+BQ54)
A55: 53 | E55: =(+S55+Z55+AR55+AF55+AL55+BD55+AX55+BJ55+BP55)/20 -> 0 | F55: =U55 | G55: =AB55 | H55: =AH55 | I55: =AN55 | J55: =AT55 | K55: =AZ55 | L55: =BF55 | M55: =BL55 | O55: =IF(E55<4,SUM(F55:N55),SUMPRODUCT(LARGE(F55:N55,{1;2;3;4}))) -> 0 | R55: =CEILING(100*Q55/$Q$2,1) -> 0 | S55: =IF(P55="",0,20) -> 0 | T55: =IF(P55=1,30,IF(P55=2,20,IF(P55=3,10,0))) -> 0 | U55: =IF(P55="","",R55+S55+T55) | Y55: =IF(X55=0,"",CEILING(100*W55/X55,1)) | Z55: =IF(V55="",0,20) -> 0 | AA55: =IF(V55=1,30,IF(V55=2,20,IF(V55=3,10,0))) -> 0 | AB55: =IF(V55="","",Y55+Z55+AA55) | AE55: =CEILING(100*AD55/$AD$2,1) -> 0 | AF55: =IF(AC55="",0,20) -> 0 | AG55: =IF(AC55=1,30,IF(AC55=2,20,IF(AC55=3,10,0))) -> 0 | AH55: =IF(AC55="","",AE55+AF55+AG55) | AK55: =CEILING(100*AJ55/$AJ$2,1) -> 0 | AL55: =IF(AI55="",0,20) -> 0 | AM55: =IF(AI55=1,30,IF(AI55=2,20,IF(AI55=3,10,0))) -> 0 | AN55: =IF(AI55="","",AK55+AL55+AM55) | AQ55: =CEILING(100*AP55/$AP$2,1) -> 0 | AR55: =IF(AO55="",0,20) -> 0 | AS55: =IF(AO55=1,30,IF(AO55=2,20,IF(AO55=3,10,0))) -> 0 | AT55: =IF(AO55="","",AQ55+AR55+AS55) | AW55: =CEILING(100*AV55/$AV$2,1) -> 0 | AX55: =IF(AU55="",0,20) -> 0 | AY55: =IF(AU55=1,30,IF(AU55=2,20,IF(AU55=3,10,0))) -> 0 | AZ55: =IF(AU55="","",AW55+AX55+AY55) | BC55: =CEILING(100*BB55/$BB$2,1) -> 0 | BD55: =IF(BA55="",0,20) -> 0 | BE55: =IF(BA55=1,30,IF(BA55=2,20,IF(BA55=3,10,0))) -> 0 | BF55: =IF(BA55="","",BC55+BD55+BE55) | BI55: =CEILING(100*BH55/$BH$2,1) -> 0 | BJ55: =IF(BG55="",0,20) -> 0 | BK55: =IF(BG55=1,30,IF(BG55=2,20,IF(BG55=3,10,0))) -> 0 | BL55: =IF(BG55="","",BI55+BJ55+BK55) | BO55: =CEILING(100*BN55/$BN$2,1) -> 0 | BP55: =IF(BM55="",0,20) -> 0 | BQ55: =IF(BM55=1,30,IF(BM55=2,20,IF(BM55=3,10,0))) -> 0 | BR55: =IF(BM55="","",BO55+BP55+BQ55)
