Workbook

Sheet GP-res 26-27 Kl Knattar
B1: Knattar 2016- | O1: Skånska Skolmästerskapet | U1: Skol-SM | AA1: Malmö/MSF Open | AG1: Flick-SM | AN1: MASKen | AT1: Snabbschacks-SM | AZ1: Skåne Open (DM) | BF1: Skåneblixten
A2: Plac | B2: Namn | C2: Klubb | D2: Född | E2: Antal | F2: GP1 | G2: GP2 | H2: GP3 | I2: GP4 | J2: GP5 | K2: GP6 | L2: GP7 | M2: GP8 | N2: GPtot | O2: plac | P2: 7 | Q2: procp | R2: dp | S2: placp | T2: GP | U2: plac | V2: 11 | W2: procp | X2: dp | Y2: placp | Z2: GP | AA2: plac | AB2: 8 | AC2: procp | AD2: dp | AE2: placp | AF2: GP | AG2: plac | AH2: resultat | AI2: ronder | AJ2: procp | AK2: dp | AL2: placp | AM2: GP | AN2: plac | AO2: 7 | AP2: procp | AQ2: dp | AR2: placp | AS2: GP | AT2: plac | AU2: 8 | AV2: procp | AW2: dp | AX2: placp | AY2: GP | AZ2: plac | BA2: 7 | BB2: procp | BC2: dp | BD2: placp | BE2: GP | BF2: plac | BG2: 11 | BH2: procp | BI2: dp | BJ2: placp | BK2: GP
A3: 1 | B3: Amos Lidé | C3: SK Sandlöparen | D3: 2017 | E3: =(R3+X3+AQ3+AD3+AK3+BC3+AW3+BI3)/20 -> 2 | F3: =T3 -> 85 | G3: =Z3 -> 103 | H3: =AF3 | I3: =AM3 | J3: =AS3 | K3: =AY3 | L3: =BE3 | M3: =BK3 | N3: =IF(E3<4,SUM(F3:M3),SUMPRODUCT(LARGE(F3:M3,{1;2;3;4}))) -> 188 | O3: 11 | P3: 4.5 | Q3: =CEILING(100*P3/$P$2,1) -> 65 | R3: =IF(O3="",0,20) -> 20 | S3: =IF(O3=1,30,IF(O3=2,20,IF(O3=3,10,0))) -> 0 | T3: =IF(O3="","",Q3+R3+S3) -> 85 | U3: 3 | V3: 8 | W3: =CEILING(100*V3/$V$2,1) -> 73 | X3: =IF(U3="",0,20) -> 20 | Y3: =IF(U3=1,30,IF(U3=2,20,IF(U3=3,10,0))) -> 10 | Z3: =IF(U3="","",W3+X3+Y3) -> 103 | AC3: =CEILING(100*AB3/$AB$2,1) -> 0 | AD3: =IF(AA3="",0,20) -> 0 | AE3: =IF(AA3=1,30,IF(AA3=2,20,IF(AA3=3,10,0))) -> 0 | AF3: =IF(AA3="","",AC3+AD3+AE3) | AJ3: =IF(AI3=0,"",CEILING(100*AH3/AI3,1)) | AK3: =IF(AG3="",0,20) -> 0 | AL3: =IF(AG3=1,30,IF(AG3=2,20,IF(AG3=3,10,0))) -> 0 | AM3: =IF(AG3="","",AJ3+AK3+AL3) | AP3: =CEILING(100*AO3/$AO$2,1) -> 0 | AQ3: =IF(AN3="",0,20) -> 0 | AR3: =IF(AN3=1,30,IF(AN3=2,20,IF(AN3=3,10,0))) -> 0 | AS3: =IF(AN3="","",AP3+AQ3+AR3) | AV3: =CEILING(100*AU3/$AU$2,1) -> 0 | AW3: =IF(AT3="",0,20) -> 0 | AX3: =IF(AT3=1,30,IF(AT3=2,20,IF(AT3=3,10,0))) -> 0 | AY3: =IF(AT3="","",AV3+AW3+AX3) | BB3: =CEILING(100*BA3/$BA$2,1) -> 0 | BC3: =IF(AZ3="",0,20) -> 0 | BD3: =IF(AZ3=1,30,IF(AZ3=2,20,IF(AZ3=3,10,0))) -> 0 | BE3: =IF(AZ3="","",BB3+BC3+BD3) | BH3: =CEILING(100*BG3/$BG$2,1) -> 0 | BI3: =IF(BF3="",0,20) -> 0 | BJ3: =IF(BF3=1,30,IF(BF3=2,20,IF(BF3=3,10,0))) -> 0 | BK3: =IF(BF3="","",BH3+BI3+BJ3)
A4: 2 | B4: Linnea Hongbei Liu | C4: SK Sandlöparen | D4: 2016 | E4: =(R4+X4+AQ4+AD4+AK4+BC4+AW4+BI4)/20 -> 2 | F4: =T4 -> 102 | G4: =Z4 -> 75 | H4: =AF4 | I4: =AM4 | J4: =AS4 | K4: =AY4 | L4: =BE4 | M4: =BK4 | N4: =IF(E4<4,SUM(F4:M4),SUMPRODUCT(LARGE(F4:M4,{1;2;3;4}))) -> 177 | O4: 3 | P4: 5 | Q4: =CEILING(100*P4/$P$2,1) -> 72 | R4: =IF(O4="",0,20) -> 20 | S4: =IF(O4=1,30,IF(O4=2,20,IF(O4=3,10,0))) -> 10 | T4: =IF(O4="","",Q4+R4+S4) -> 102 | U4: 16 | V4: 6 | W4: =CEILING(100*V4/$V$2,1) -> 55 | X4: =IF(U4="",0,20) -> 20 | Y4: =IF(U4=1,30,IF(U4=2,20,IF(U4=3,10,0))) -> 0 | Z4: =IF(U4="","",W4+X4+Y4) -> 75 | AC4: =CEILING(100*AB4/$AB$2,1) -> 0 | AD4: =IF(AA4="",0,20) -> 0 | AE4: =IF(AA4=1,30,IF(AA4=2,20,IF(AA4=3,10,0))) -> 0 | AF4: =IF(AA4="","",AC4+AD4+AE4) | AJ4: =IF(AI4=0,"",CEILING(100*AH4/AI4,1)) | AK4: =IF(AG4="",0,20) -> 0 | AL4: =IF(AG4=1,30,IF(AG4=2,20,IF(AG4=3,10,0))) -> 0 | AM4: =IF(AG4="","",AJ4+AK4+AL4) | AP4: =CEILING(100*AO4/$AO$2,1) -> 0 | AQ4: =IF(AN4="",0,20) -> 0 | AR4: =IF(AN4=1,30,IF(AN4=2,20,IF(AN4=3,10,0))) -> 0 | AS4: =IF(AN4="","",AP4+AQ4+AR4) | AV4: =CEILING(100*AU4/$AU$2,1) -> 0 | AW4: =IF(AT4="",0,20) -> 0 | AX4: =IF(AT4=1,30,IF(AT4=2,20,IF(AT4=3,10,0))) -> 0 | AY4: =IF(AT4="","",AV4+AW4+AX4) | BB4: =CEILING(100*BA4/$BA$2,1) -> 0 | BC4: =IF(AZ4="",0,20) -> 0 | BD4: =IF(AZ4=1,30,IF(AZ4=2,20,IF(AZ4=3,10,0))) -> 0 | BE4: =IF(AZ4="","",BB4+BC4+BD4) | BH4: =CEILING(100*BG4/$BG$2,1) -> 0 | BI4: =IF(BF4="",0,20) -> 0 | BJ4: =IF(BF4=1,30,IF(BF4=2,20,IF(BF4=3,10,0))) -> 0 | BK4: =IF(BF4="","",BH4+BI4+BJ4)
A5: 3 | B5: Ethan Preman | C5: Lunds ASK | D5: 2019 | E5: =(R5+X5+AQ5+AD5+AK5+BC5+AW5+BI5)/20 -> 2 | F5: =T5 -> 85 | G5: =Z5 -> 89 | H5: =AF5 | I5: =AM5 | J5: =AS5 | K5: =AY5 | L5: =BE5 | M5: =BK5 | N5: =IF(E5<4,SUM(F5:M5),SUMPRODUCT(LARGE(F5:M5,{1;2;3;4}))) -> 174 | O5: 10 | P5: 4.5 | Q5: =CEILING(100*P5/$P$2,1) -> 65 | R5: =IF(O5="",0,20) -> 20 | S5: =IF(O5=1,30,IF(O5=2,20,IF(O5=3,10,0))) -> 0 | T5: =IF(O5="","",Q5+R5+S5) -> 85 | U5: 4 | V5: 7.5 | W5: =CEILING(100*V5/$V$2,1) -> 69 | X5: =IF(U5="",0,20) -> 20 | Y5: =IF(U5=1,30,IF(U5=2,20,IF(U5=3,10,0))) -> 0 | Z5: =IF(U5="","",W5+X5+Y5) -> 89 | AC5: =CEILING(100*AB5/$AB$2,1) -> 0 | AD5: =IF(AA5="",0,20) -> 0 | AE5: =IF(AA5=1,30,IF(AA5=2,20,IF(AA5=3,10,0))) -> 0 | AF5: =IF(AA5="","",AC5+AD5+AE5) | AJ5: =IF(AI5=0,"",CEILING(100*AH5/AI5,1)) | AK5: =IF(AG5="",0,20) -> 0 | AL5: =IF(AG5=1,30,IF(AG5=2,20,IF(AG5=3,10,0))) -> 0 | AM5: =IF(AG5="","",AJ5+AK5+AL5) | AP5: =CEILING(100*AO5/$AO$2,1) -> 0 | AQ5: =IF(AN5="",0,20) -> 0 | AR5: =IF(AN5=1,30,IF(AN5=2,20,IF(AN5=3,10,0))) -> 0 | AS5: =IF(AN5="","",AP5+AQ5+AR5) | AV5: =CEILING(100*AU5/$AU$2,1) -> 0 | AW5: =IF(AT5="",0,20) -> 0 | AX5: =IF(AT5=1,30,IF(AT5=2,20,IF(AT5=3,10,0))) -> 0 | AY5: =IF(AT5="","",AV5+AW5+AX5) | BB5: =CEILING(100*BA5/$BA$2,1) -> 0 | BC5: =IF(AZ5="",0,20) -> 0 | BD5: =IF(AZ5=1,30,IF(AZ5=2,20,IF(AZ5=3,10,0))) -> 0 | BE5: =IF(AZ5="","",BB5+BC5+BD5) | BH5: =CEILING(100*BG5/$BG$2,1) -> 0 | BI5: =IF(BF5="",0,20) -> 0 | BJ5: =IF(BF5=1,30,IF(BF5=2,20,IF(BF5=3,10,0))) -> 0 | BK5: =IF(BF5="","",BH5+BI5+BJ5)
A6: 4 | B6: Aranya Das | C6: Limhamns SK | D6: 2017 | E6: =(R6+X6+AQ6+AD6+AK6+BC6+AW6+BI6)/20 -> 2 | F6: =T6 -> 92 | G6: =Z6 -> 75 | H6: =AF6 | I6: =AM6 | J6: =AS6 | K6: =AY6 | L6: =BE6 | M6: =BK6 | N6: =IF(E6<4,SUM(F6:M6),SUMPRODUCT(LARGE(F6:M6,{1;2;3;4}))) -> 167 | O6: 5 | P6: 5 | Q6: =CEILING(100*P6/$P$2,1) -> 72 | R6: =IF(O6="",0,20) -> 20 | S6: =IF(O6=1,30,IF(O6=2,20,IF(O6=3,10,0))) -> 0 | T6: =IF(O6="","",Q6+R6+S6) -> 92 | U6: 14 | V6: 6 | W6: =CEILING(100*V6/$V$2,1) -> 55 | X6: =IF(U6="",0,20) -> 20 | Y6: =IF(U6=1,30,IF(U6=2,20,IF(U6=3,10,0))) -> 0 | Z6: =IF(U6="","",W6+X6+Y6) -> 75 | AC6: =CEILING(100*AB6/$AB$2,1) -> 0 | AD6: =IF(AA6="",0,20) -> 0 | AE6: =IF(AA6=1,30,IF(AA6=2,20,IF(AA6=3,10,0))) -> 0 | AF6: =IF(AA6="","",AC6+AD6+AE6) | AJ6: =IF(AI6=0,"",CEILING(100*AH6/AI6,1)) | AK6: =IF(AG6="",0,20) -> 0 | AL6: =IF(AG6=1,30,IF(AG6=2,20,IF(AG6=3,10,0))) -> 0 | AM6: =IF(AG6="","",AJ6+AK6+AL6) | AP6: =CEILING(100*AO6/$AO$2,1) -> 0 | AQ6: =IF(AN6="",0,20) -> 0 | AR6: =IF(AN6=1,30,IF(AN6=2,20,IF(AN6=3,10,0))) -> 0 | AS6: =IF(AN6="","",AP6+AQ6+AR6) | AV6: =CEILING(100*AU6/$AU$2,1) -> 0 | AW6: =IF(AT6="",0,20) -> 0 | AX6: =IF(AT6=1,30,IF(AT6=2,20,IF(AT6=3,10,0))) -> 0 | AY6: =IF(AT6="","",AV6+AW6+AX6) | BB6: =CEILING(100*BA6/$BA$2,1) -> 0 | BC6: =IF(AZ6="",0,20) -> 0 | BD6: =IF(AZ6=1,30,IF(AZ6=2,20,IF(AZ6=3,10,0))) -> 0 | BE6: =IF(AZ6="","",BB6+BC6+BD6) | BH6: =CEILING(100*BG6/$BG$2,1) -> 0 | BI6: =IF(BF6="",0,20) -> 0 | BJ6: =IF(BF6=1,30,IF(BF6=2,20,IF(BF6=3,10,0))) -> 0 | BK6: =IF(BF6="","",BH6+BI6+BJ6)
A7: 5 | B7: Georg Olivemark | C7: Malmö AS | D7: 2016 | E7: =(R7+X7+AQ7+AD7+AK7+BC7+AW7+BI7)/20 -> 2 | F7: =T7 -> 70 | G7: =Z7 -> 84 | H7: =AF7 | I7: =AM7 | J7: =AS7 | K7: =AY7 | L7: =BE7 | M7: =BK7 | N7: =IF(E7<4,SUM(F7:M7),SUMPRODUCT(LARGE(F7:M7,{1;2;3;4}))) -> 154 | O7: 13 | P7: 3.5 | Q7: =CEILING(100*P7/$P$2,1) -> 50 | R7: =IF(O7="",0,20) -> 20 | S7: =IF(O7=1,30,IF(O7=2,20,IF(O7=3,10,0))) -> 0 | T7: =IF(O7="","",Q7+R7+S7) -> 70 | U7: 7 | V7: 7 | W7: =CEILING(100*V7/$V$2,1) -> 64 | X7: =IF(U7="",0,20) -> 20 | Y7: =IF(U7=1,30,IF(U7=2,20,IF(U7=3,10,0))) -> 0 | Z7: =IF(U7="","",W7+X7+Y7) -> 84 | AC7: =CEILING(100*AB7/$AB$2,1) -> 0 | AD7: =IF(AA7="",0,20) -> 0 | AE7: =IF(AA7=1,30,IF(AA7=2,20,IF(AA7=3,10,0))) -> 0 | AF7: =IF(AA7="","",AC7+AD7+AE7) | AJ7: =IF(AI7=0,"",CEILING(100*AH7/AI7,1)) | AK7: =IF(AG7="",0,20) -> 0 | AL7: =IF(AG7=1,30,IF(AG7=2,20,IF(AG7=3,10,0))) -> 0 | AM7: =IF(AG7="","",AJ7+AK7+AL7) | AP7: =CEILING(100*AO7/$AO$2,1) -> 0 | AQ7: =IF(AN7="",0,20) -> 0 | AR7: =IF(AN7=1,30,IF(AN7=2,20,IF(AN7=3,10,0))) -> 0 | AS7: =IF(AN7="","",AP7+AQ7+AR7) | AV7: =CEILING(100*AU7/$AU$2,1) -> 0 | AW7: =IF(AT7="",0,20) -> 0 | AX7: =IF(AT7=1,30,IF(AT7=2,20,IF(AT7=3,10,0))) -> 0 | AY7: =IF(AT7="","",AV7+AW7+AX7) | BB7: =CEILING(100*BA7/$BA$2,1) -> 0 | BC7: =IF(AZ7="",0,20) -> 0 | BD7: =IF(AZ7=1,30,IF(AZ7=2,20,IF(AZ7=3,10,0))) -> 0 | BE7: =IF(AZ7="","",BB7+BC7+BD7) | BH7: =CEILING(100*BG7/$BG$2,1) -> 0 | BI7: =IF(BF7="",0,20) -> 0 | BJ7: =IF(BF7=1,30,IF(BF7=2,20,IF(BF7=3,10,0))) -> 0 | BK7: =IF(BF7="","",BH7+BI7+BJ7)
A8: 6 | B8: Linghao Zeng | C8: Lunds ASK | D8: 2017 | E8: =(R8+X8+AQ8+AD8+AK8+BC8+AW8+BI8)/20 -> 1 | F8: =T8 -> 150 | G8: =Z8 | H8: =AF8 | I8: =AM8 | J8: =AS8 | K8: =AY8 | L8: =BE8 | M8: =BK8 | N8: =IF(E8<4,SUM(F8:M8),SUMPRODUCT(LARGE(F8:M8,{1;2;3;4}))) -> 150 | O8: 1 | P8: 7 | Q8: =CEILING(100*P8/$P$2,1) -> 100 | R8: =IF(O8="",0,20) -> 20 | S8: =IF(O8=1,30,IF(O8=2,20,IF(O8=3,10,0))) -> 30 | T8: =IF(O8="","",Q8+R8+S8) -> 150 | W8: =CEILING(100*V8/$V$2,1) -> 0 | X8: =IF(U8="",0,20) -> 0 | Y8: =IF(U8=1,30,IF(U8=2,20,IF(U8=3,10,0))) -> 0 | Z8: =IF(U8="","",W8+X8+Y8) | AC8: =CEILING(100*AB8/$AB$2,1) -> 0 | AD8: =IF(AA8="",0,20) -> 0 | AE8: =IF(AA8=1,30,IF(AA8=2,20,IF(AA8=3,10,0))) -> 0 | AF8: =IF(AA8="","",AC8+AD8+AE8) | AJ8: =IF(AI8=0,"",CEILING(100*AH8/AI8,1)) | AK8: =IF(AG8="",0,20) -> 0 | AL8: =IF(AG8=1,30,IF(AG8=2,20,IF(AG8=3,10,0))) -> 0 | AM8: =IF(AG8="","",AJ8+AK8+AL8) | AP8: =CEILING(100*AO8/$AO$2,1) -> 0 | AQ8: =IF(AN8="",0,20) -> 0 | AR8: =IF(AN8=1,30,IF(AN8=2,20,IF(AN8=3,10,0))) -> 0 | AS8: =IF(AN8="","",AP8+AQ8+AR8) | AV8: =CEILING(100*AU8/$AU$2,1) -> 0 | AW8: =IF(AT8="",0,20) -> 0 | AX8: =IF(AT8=1,30,IF(AT8=2,20,IF(AT8=3,10,0))) -> 0 | AY8: =IF(AT8="","",AV8+AW8+AX8) | BB8: =CEILING(100*BA8/$BA$2,1) -> 0 | BC8: =IF(AZ8="",0,20) -> 0 | BD8: =IF(AZ8=1,30,IF(AZ8=2,20,IF(AZ8=3,10,0))) -> 0 | BE8: =IF(AZ8="","",BB8+BC8+BD8) | BH8: =CEILING(100*BG8/$BG$2,1) -> 0 | BI8: =IF(BF8="",0,20) -> 0 | BJ8: =IF(BF8=1,30,IF(BF8=2,20,IF(BF8=3,10,0))) -> 0 | BK8: =IF(BF8="","",BH8+BI8+BJ8)
A9: 7 | B9: Minh Thuc Le Doan | C9: Lunds ASK | D9: 2017 | E9: =(R9+X9+AQ9+AD9+AK9+BC9+AW9+BI9)/20 -> 1 | F9: =T9 | G9: =Z9 -> 150 | H9: =AF9 | I9: =AM9 | J9: =AS9 | K9: =AY9 | L9: =BE9 | M9: =BK9 | N9: =IF(E9<4,SUM(F9:M9),SUMPRODUCT(LARGE(F9:M9,{1;2;3;4}))) -> 150 | Q9: =CEILING(100*P9/$P$2,1) -> 0 | R9: =IF(O9="",0,20) -> 0 | S9: =IF(O9=1,30,IF(O9=2,20,IF(O9=3,10,0))) -> 0 | T9: =IF(O9="","",Q9+R9+S9) | U9: 1 | V9: 11 | W9: =CEILING(100*V9/$V$2,1) -> 100 | X9: =IF(U9="",0,20) -> 20 | Y9: =IF(U9=1,30,IF(U9=2,20,IF(U9=3,10,0))) -> 30 | Z9: =IF(U9="","",W9+X9+Y9) -> 150 | AC9: =CEILING(100*AB9/$AB$2,1) -> 0 | AD9: =IF(AA9="",0,20) -> 0 | AE9: =IF(AA9=1,30,IF(AA9=2,20,IF(AA9=3,10,0))) -> 0 | AF9: =IF(AA9="","",AC9+AD9+AE9) | AJ9: =IF(AI9=0,"",CEILING(100*AH9/AI9,1)) | AK9: =IF(AG9="",0,20) -> 0 | AL9: =IF(AG9=1,30,IF(AG9=2,20,IF(AG9=3,10,0))) -> 0 | AM9: =IF(AG9="","",AJ9+AK9+AL9) | AP9: =CEILING(100*AO9/$AO$2,1) -> 0 | AQ9: =IF(AN9="",0,20) -> 0 | AR9: =IF(AN9=1,30,IF(AN9=2,20,IF(AN9=3,10,0))) -> 0 | AS9: =IF(AN9="","",AP9+AQ9+AR9) | AV9: =CEILING(100*AU9/$AU$2,1) -> 0 | AW9: =IF(AT9="",0,20) -> 0 | AX9: =IF(AT9=1,30,IF(AT9=2,20,IF(AT9=3,10,0))) -> 0 | AY9: =IF(AT9="","",AV9+AW9+AX9) | BB9: =CEILING(100*BA9/$BA$2,1) -> 0 | BC9: =IF(AZ9="",0,20) -> 0 | BD9: =IF(AZ9=1,30,IF(AZ9=2,20,IF(AZ9=3,10,0))) -> 0 | BE9: =IF(AZ9="","",BB9+BC9+BD9) | BH9: =CEILING(100*BG9/$BG$2,1) -> 0 | BI9: =IF(BF9="",0,20) -> 0 | BJ9: =IF(BF9=1,30,IF(BF9=2,20,IF(BF9=3,10,0))) -> 0 | BK9: =IF(BF9="","",BH9+BI9+BJ9)
A10: 8 | B10: August Faxén | C10: Limhamns SK | D10: 2016 | E10: =(R10+X10+AQ10+AD10+AK10+BC10+AW10+BI10)/20 -> 2 | F10: =T10 -> 70 | G10: =Z10 -> 57 | H10: =AF10 | I10: =AM10 | J10: =AS10 | K10: =AY10 | L10: =BE10 | M10: =BK10 | N10: =IF(E10<4,SUM(F10:M10),SUMPRODUCT(LARGE(F10:M10,{1;2;3;4}))) -> 127 | O10: 20 | P10: 3.5 | Q10: =CEILING(100*P10/$P$2,1) -> 50 | R10: =IF(O10="",0,20) -> 20 | S10: =IF(O10=1,30,IF(O10=2,20,IF(O10=3,10,0))) -> 0 | T10: =IF(O10="","",Q10+R10+S10) -> 70 | U10: 36 | V10: 4 | W10: =CEILING(100*V10/$V$2,1) -> 37 | X10: =IF(U10="",0,20) -> 20 | Y10: =IF(U10=1,30,IF(U10=2,20,IF(U10=3,10,0))) -> 0 | Z10: =IF(U10="","",W10+X10+Y10) -> 57 | AC10: =CEILING(100*AB10/$AB$2,1) -> 0 | AD10: =IF(AA10="",0,20) -> 0 | AE10: =IF(AA10=1,30,IF(AA10=2,20,IF(AA10=3,10,0))) -> 0 | AF10: =IF(AA10="","",AC10+AD10+AE10) | AJ10: =IF(AI10=0,"",CEILING(100*AH10/AI10,1)) | AK10: =IF(AG10="",0,20) -> 0 | AL10: =IF(AG10=1,30,IF(AG10=2,20,IF(AG10=3,10,0))) -> 0 | AM10: =IF(AG10="","",AJ10+AK10+AL10) | AP10: =CEILING(100*AO10/$AO$2,1) -> 0 | AQ10: =IF(AN10="",0,20) -> 0 | AR10: =IF(AN10=1,30,IF(AN10=2,20,IF(AN10=3,10,0))) -> 0 | AS10: =IF(AN10="","",AP10+AQ10+AR10) | AV10: =CEILING(100*AU10/$AU$2,1) -> 0 | AW10: =IF(AT10="",0,20) -> 0 | AX10: =IF(AT10=1,30,IF(AT10=2,20,IF(AT10=3,10,0))) -> 0 | AY10: =IF(AT10="","",AV10+AW10+AX10) | BB10: =CEILING(100*BA10/$BA$2,1) -> 0 | BC10: =IF(AZ10="",0,20) -> 0 | BD10: =IF(AZ10=1,30,IF(AZ10=2,20,IF(AZ10=3,10,0))) -> 0 | BE10: =IF(AZ10="","",BB10+BC10+BD10) | BH10: =CEILING(100*BG10/$BG$2,1) -> 0 | BI10: =IF(BF10="",0,20) -> 0 | BJ10: =IF(BF10=1,30,IF(BF10=2,20,IF(BF10=3,10,0))) -> 0 | BK10: =IF(BF10="","",BH10+BI10+BJ10)
A11: 9 | B11: Erik Kvalvik | C11: Ystads SS | D11: 2019 | E11: =(R11+X11+AQ11+AD11+AK11+BC11+AW11+BI11)/20 -> 1 | F11: =T11 -> 126 | G11: =Z11 | H11: =AF11 | I11: =AM11 | J11: =AS11 | K11: =AY11 | L11: =BE11 | M11: =BK11 | N11: =IF(E11<4,SUM(F11:M11),SUMPRODUCT(LARGE(F11:M11,{1;2;3;4}))) -> 126 | O11: 2 | P11: 6 | Q11: =CEILING(100*P11/$P$2,1) -> 86 | R11: =IF(O11="",0,20) -> 20 | S11: =IF(O11=1,30,IF(O11=2,20,IF(O11=3,10,0))) -> 20 | T11: =IF(O11="","",Q11+R11+S11) -> 126 | W11: =CEILING(100*V11/$V$2,1) -> 0 | X11: =IF(U11="",0,20) -> 0 | Y11: =IF(U11=1,30,IF(U11=2,20,IF(U11=3,10,0))) -> 0 | Z11: =IF(U11="","",W11+X11+Y11) | AC11: =CEILING(100*AB11/$AB$2,1) -> 0 | AD11: =IF(AA11="",0,20) -> 0 | AE11: =IF(AA11=1,30,IF(AA11=2,20,IF(AA11=3,10,0))) -> 0 | AF11: =IF(AA11="","",AC11+AD11+AE11) | AJ11: =IF(AI11=0,"",CEILING(100*AH11/AI11,1)) | AK11: =IF(AG11="",0,20) -> 0 | AL11: =IF(AG11=1,30,IF(AG11=2,20,IF(AG11=3,10,0))) -> 0 | AM11: =IF(AG11="","",AJ11+AK11+AL11) | AP11: =CEILING(100*AO11/$AO$2,1) -> 0 | AQ11: =IF(AN11="",0,20) -> 0 | AR11: =IF(AN11=1,30,IF(AN11=2,20,IF(AN11=3,10,0))) -> 0 | AS11: =IF(AN11="","",AP11+AQ11+AR11) | AV11: =CEILING(100*AU11/$AU$2,1) -> 0 | AW11: =IF(AT11="",0,20) -> 0 | AX11: =IF(AT11=1,30,IF(AT11=2,20,IF(AT11=3,10,0))) -> 0 | AY11: =IF(AT11="","",AV11+AW11+AX11) | BB11: =CEILING(100*BA11/$BA$2,1) -> 0 | BC11: =IF(AZ11="",0,20) -> 0 | BD11: =IF(AZ11=1,30,IF(AZ11=2,20,IF(AZ11=3,10,0))) -> 0 | BE11: =IF(AZ11="","",BB11+BC11+BD11) | BH11: =CEILING(100*BG11/$BG$2,1) -> 0 | BI11: =IF(BF11="",0,20) -> 0 | BJ11: =IF(BF11=1,30,IF(BF11=2,20,IF(BF11=3,10,0))) -> 0 | BK11: =IF(BF11="","",BH11+BI11+BJ11)
A12: 10 | B12: Henry Backman | C12: Limhamns SK | D12: 2016 | E12: =(R12+X12+AQ12+AD12+AK12+BC12+AW12+BI12)/20 -> 1 | F12: =T12 -> 92 | G12: =Z12 | H12: =AF12 | I12: =AM12 | J12: =AS12 | K12: =AY12 | L12: =BE12 | M12: =BK12 | N12: =IF(E12<4,SUM(F12:M12),SUMPRODUCT(LARGE(F12:M12,{1;2;3;4}))) -> 92 | O12: 4 | P12: 5 | Q12: =CEILING(100*P12/$P$2,1) -> 72 | R12: =IF(O12="",0,20) -> 20 | S12: =IF(O12=1,30,IF(O12=2,20,IF(O12=3,10,0))) -> 0 | T12: =IF(O12="","",Q12+R12+S12) -> 92 | W12: =CEILING(100*V12/$V$2,1) -> 0 | X12: =IF(U12="",0,20) -> 0 | Y12: =IF(U12=1,30,IF(U12=2,20,IF(U12=3,10,0))) -> 0 | Z12: =IF(U12="","",W12+X12+Y12) | AC12: =CEILING(100*AB12/$AB$2,1) -> 0 | AD12: =IF(AA12="",0,20) -> 0 | AE12: =IF(AA12=1,30,IF(AA12=2,20,IF(AA12=3,10,0))) -> 0 | AF12: =IF(AA12="","",AC12+AD12+AE12) | AJ12: =IF(AI12=0,"",CEILING(100*AH12/AI12,1)) | AK12: =IF(AG12="",0,20) -> 0 | AL12: =IF(AG12=1,30,IF(AG12=2,20,IF(AG12=3,10,0))) -> 0 | AM12: =IF(AG12="","",AJ12+AK12+AL12) | AP12: =CEILING(100*AO12/$AO$2,1) -> 0 | AQ12: =IF(AN12="",0,20) -> 0 | AR12: =IF(AN12=1,30,IF(AN12=2,20,IF(AN12=3,10,0))) -> 0 | AS12: =IF(AN12="","",AP12+AQ12+AR12) | AV12: =CEILING(100*AU12/$AU$2,1) -> 0 | AW12: =IF(AT12="",0,20) -> 0 | AX12: =IF(AT12=1,30,IF(AT12=2,20,IF(AT12=3,10,0))) -> 0 | AY12: =IF(AT12="","",AV12+AW12+AX12) | BB12: =CEILING(100*BA12/$BA$2,1) -> 0 | BC12: =IF(AZ12="",0,20) -> 0 | BD12: =IF(AZ12=1,30,IF(AZ12=2,20,IF(AZ12=3,10,0))) -> 0 | BE12: =IF(AZ12="","",BB12+BC12+BD12) | BH12: =CEILING(100*BG12/$BG$2,1) -> 0 | BI12: =IF(BF12="",0,20) -> 0 | BJ12: =IF(BF12=1,30,IF(BF12=2,20,IF(BF12=3,10,0))) -> 0 | BK12: =IF(BF12="","",BH12+BI12+BJ12)
A13: 11 | B13: Henrik Wen | C13: SK Sandlöparen | D13: 2018 | E13: =(R13+X13+AQ13+AD13+AK13+BC13+AW13+BI13)/20 -> 1 | F13: =T13 -> 92 | G13: =Z13 | H13: =AF13 | I13: =AM13 | J13: =AS13 | K13: =AY13 | L13: =BE13 | M13: =BK13 | N13: =IF(E13<4,SUM(F13:M13),SUMPRODUCT(LARGE(F13:M13,{1;2;3;4}))) -> 92 | O13: 6 | P13: 5 | Q13: =CEILING(100*P13/$P$2,1) -> 72 | R13: =IF(O13="",0,20) -> 20 | S13: =IF(O13=1,30,IF(O13=2,20,IF(O13=3,10,0))) -> 0 | T13: =IF(O13="","",Q13+R13+S13) -> 92 | W13: =CEILING(100*V13/$V$2,1) -> 0 | X13: =IF(U13="",0,20) -> 0 | Y13: =IF(U13=1,30,IF(U13=2,20,IF(U13=3,10,0))) -> 0 | Z13: =IF(U13="","",W13+X13+Y13) | AC13: =CEILING(100*AB13/$AB$2,1) -> 0 | AD13: =IF(AA13="",0,20) -> 0 | AE13: =IF(AA13=1,30,IF(AA13=2,20,IF(AA13=3,10,0))) -> 0 | AF13: =IF(AA13="","",AC13+AD13+AE13) | AJ13: =IF(AI13=0,"",CEILING(100*AH13/AI13,1)) | AK13: =IF(AG13="",0,20) -> 0 | AL13: =IF(AG13=1,30,IF(AG13=2,20,IF(AG13=3,10,0))) -> 0 | AM13: =IF(AG13="","",AJ13+AK13+AL13) | AP13: =CEILING(100*AO13/$AO$2,1) -> 0 | AQ13: =IF(AN13="",0,20) -> 0 | AR13: =IF(AN13=1,30,IF(AN13=2,20,IF(AN13=3,10,0))) -> 0 | AS13: =IF(AN13="","",AP13+AQ13+AR13) | AV13: =CEILING(100*AU13/$AU$2,1) -> 0 | AW13: =IF(AT13="",0,20) -> 0 | AX13: =IF(AT13=1,30,IF(AT13=2,20,IF(AT13=3,10,0))) -> 0 | AY13: =IF(AT13="","",AV13+AW13+AX13) | BB13: =CEILING(100*BA13/$BA$2,1) -> 0 | BC13: =IF(AZ13="",0,20) -> 0 | BD13: =IF(AZ13=1,30,IF(AZ13=2,20,IF(AZ13=3,10,0))) -> 0 | BE13: =IF(AZ13="","",BB13+BC13+BD13) | BH13: =CEILING(100*BG13/$BG$2,1) -> 0 | BI13: =IF(BF13="",0,20) -> 0 | BJ13: =IF(BF13=1,30,IF(BF13=2,20,IF(BF13=3,10,0))) -> 0 | BK13: =IF(BF13="","",BH13+BI13+BJ13)
A14: 12 | B14: Okko Pajunen | C14: Limhamns SK | D14: 2016 | E14: =(R14+X14+AQ14+AD14+AK14+BC14+AW14+BI14)/20 -> 1 | F14: =T14 -> 92 | G14: =Z14 | H14: =AF14 | I14: =AM14 | J14: =AS14 | K14: =AY14 | L14: =BE14 | M14: =BK14 | N14: =IF(E14<4,SUM(F14:M14),SUMPRODUCT(LARGE(F14:M14,{1;2;3;4}))) -> 92 | O14: 7 | P14: 5 | Q14: =CEILING(100*P14/$P$2,1) -> 72 | R14: =IF(O14="",0,20) -> 20 | S14: =IF(O14=1,30,IF(O14=2,20,IF(O14=3,10,0))) -> 0 | T14: =IF(O14="","",Q14+R14+S14) -> 92 | W14: =CEILING(100*V14/$V$2,1) -> 0 | X14: =IF(U14="",0,20) -> 0 | Y14: =IF(U14=1,30,IF(U14=2,20,IF(U14=3,10,0))) -> 0 | Z14: =IF(U14="","",W14+X14+Y14) | AC14: =CEILING(100*AB14/$AB$2,1) -> 0 | AD14: =IF(AA14="",0,20) -> 0 | AE14: =IF(AA14=1,30,IF(AA14=2,20,IF(AA14=3,10,0))) -> 0 | AF14: =IF(AA14="","",AC14+AD14+AE14) | AJ14: =IF(AI14=0,"",CEILING(100*AH14/AI14,1)) | AK14: =IF(AG14="",0,20) -> 0 | AL14: =IF(AG14=1,30,IF(AG14=2,20,IF(AG14=3,10,0))) -> 0 | AM14: =IF(AG14="","",AJ14+AK14+AL14) | AP14: =CEILING(100*AO14/$AO$2,1) -> 0 | AQ14: =IF(AN14="",0,20) -> 0 | AR14: =IF(AN14=1,30,IF(AN14=2,20,IF(AN14=3,10,0))) -> 0 | AS14: =IF(AN14="","",AP14+AQ14+AR14) | AV14: =CEILING(100*AU14/$AU$2,1) -> 0 | AW14: =IF(AT14="",0,20) -> 0 | AX14: =IF(AT14=1,30,IF(AT14=2,20,IF(AT14=3,10,0))) -> 0 | AY14: =IF(AT14="","",AV14+AW14+AX14) | BB14: =CEILING(100*BA14/$BA$2,1) -> 0 | BC14: =IF(AZ14="",0,20) -> 0 | BD14: =IF(AZ14=1,30,IF(AZ14=2,20,IF(AZ14=3,10,0))) -> 0 | BE14: =IF(AZ14="","",BB14+BC14+BD14) | BH14: =CEILING(100*BG14/$BG$2,1) -> 0 | BI14: =IF(BF14="",0,20) -> 0 | BJ14: =IF(BF14=1,30,IF(BF14=2,20,IF(BF14=3,10,0))) -> 0 | BK14: =IF(BF14="","",BH14+BI14+BJ14)
A15: 13 | B15: Joshiv Orumpati | C15: Helsingborgs ASK | D15: 2017 | E15: =(R15+X15+AQ15+AD15+AK15+BC15+AW15+BI15)/20 -> 1 | F15: =T15 -> 92 | G15: =Z15 | H15: =AF15 | I15: =AM15 | J15: =AS15 | K15: =AY15 | L15: =BE15 | M15: =BK15 | N15: =IF(E15<4,SUM(F15:M15),SUMPRODUCT(LARGE(F15:M15,{1;2;3;4}))) -> 92 | O15: 8 | P15: 5 | Q15: =CEILING(100*P15/$P$2,1) -> 72 | R15: =IF(O15="",0,20) -> 20 | S15: =IF(O15=1,30,IF(O15=2,20,IF(O15=3,10,0))) -> 0 | T15: =IF(O15="","",Q15+R15+S15) -> 92 | W15: =CEILING(100*V15/$V$2,1) -> 0 | X15: =IF(U15="",0,20) -> 0 | Y15: =IF(U15=1,30,IF(U15=2,20,IF(U15=3,10,0))) -> 0 | Z15: =IF(U15="","",W15+X15+Y15) | AC15: =CEILING(100*AB15/$AB$2,1) -> 0 | AD15: =IF(AA15="",0,20) -> 0 | AE15: =IF(AA15=1,30,IF(AA15=2,20,IF(AA15=3,10,0))) -> 0 | AF15: =IF(AA15="","",AC15+AD15+AE15) | AJ15: =IF(AI15=0,"",CEILING(100*AH15/AI15,1)) | AK15: =IF(AG15="",0,20) -> 0 | AL15: =IF(AG15=1,30,IF(AG15=2,20,IF(AG15=3,10,0))) -> 0 | AM15: =IF(AG15="","",AJ15+AK15+AL15) | AP15: =CEILING(100*AO15/$AO$2,1) -> 0 | AQ15: =IF(AN15="",0,20) -> 0 | AR15: =IF(AN15=1,30,IF(AN15=2,20,IF(AN15=3,10,0))) -> 0 | AS15: =IF(AN15="","",AP15+AQ15+AR15) | AV15: =CEILING(100*AU15/$AU$2,1) -> 0 | AW15: =IF(AT15="",0,20) -> 0 | AX15: =IF(AT15=1,30,IF(AT15=2,20,IF(AT15=3,10,0))) -> 0 | AY15: =IF(AT15="","",AV15+AW15+AX15) | BB15: =CEILING(100*BA15/$BA$2,1) -> 0 | BC15: =IF(AZ15="",0,20) -> 0 | BD15: =IF(AZ15=1,30,IF(AZ15=2,20,IF(AZ15=3,10,0))) -> 0 | BE15: =IF(AZ15="","",BB15+BC15+BD15) | BH15: =CEILING(100*BG15/$BG$2,1) -> 0 | BI15: =IF(BF15="",0,20) -> 0 | BJ15: =IF(BF15=1,30,IF(BF15=2,20,IF(BF15=3,10,0))) -> 0 | BK15: =IF(BF15="","",BH15+BI15+BJ15)
A16: 14 | B16: Frank Eneberg Berlin | C16: Blindschack | D16: 2017 | E16: =(R16+X16+AQ16+AD16+AK16+BC16+AW16+BI16)/20 -> 1 | F16: =T16 -> 85 | G16: =Z16 | H16: =AF16 | I16: =AM16 | J16: =AS16 | K16: =AY16 | L16: =BE16 | M16: =BK16 | N16: =IF(E16<4,SUM(F16:M16),SUMPRODUCT(LARGE(F16:M16,{1;2;3;4}))) -> 85 | O16: 9 | P16: 4.5 | Q16: =CEILING(100*P16/$P$2,1) -> 65 | R16: =IF(O16="",0,20) -> 20 | S16: =IF(O16=1,30,IF(O16=2,20,IF(O16=3,10,0))) -> 0 | T16: =IF(O16="","",Q16+R16+S16) -> 85 | W16: =CEILING(100*V16/$V$2,1) -> 0 | X16: =IF(U16="",0,20) -> 0 | Y16: =IF(U16=1,30,IF(U16=2,20,IF(U16=3,10,0))) -> 0 | Z16: =IF(U16="","",W16+X16+Y16) | AC16: =CEILING(100*AB16/$AB$2,1) -> 0 | AD16: =IF(AA16="",0,20) -> 0 | AE16: =IF(AA16=1,30,IF(AA16=2,20,IF(AA16=3,10,0))) -> 0 | AF16: =IF(AA16="","",AC16+AD16+AE16) | AJ16: =IF(AI16=0,"",CEILING(100*AH16/AI16,1)) | AK16: =IF(AG16="",0,20) -> 0 | AL16: =IF(AG16=1,30,IF(AG16=2,20,IF(AG16=3,10,0))) -> 0 | AM16: =IF(AG16="","",AJ16+AK16+AL16) | AP16: =CEILING(100*AO16/$AO$2,1) -> 0 | AQ16: =IF(AN16="",0,20) -> 0 | AR16: =IF(AN16=1,30,IF(AN16=2,20,IF(AN16=3,10,0))) -> 0 | AS16: =IF(AN16="","",AP16+AQ16+AR16) | AV16: =CEILING(100*AU16/$AU$2,1) -> 0 | AW16: =IF(AT16="",0,20) -> 0 | AX16: =IF(AT16=1,30,IF(AT16=2,20,IF(AT16=3,10,0))) -> 0 | AY16: =IF(AT16="","",AV16+AW16+AX16) | BB16: =CEILING(100*BA16/$BA$2,1) -> 0 | BC16: =IF(AZ16="",0,20) -> 0 | BD16: =IF(AZ16=1,30,IF(AZ16=2,20,IF(AZ16=3,10,0))) -> 0 | BE16: =IF(AZ16="","",BB16+BC16+BD16) | BH16: =CEILING(100*BG16/$BG$2,1) -> 0 | BI16: =IF(BF16="",0,20) -> 0 | BJ16: =IF(BF16=1,30,IF(BF16=2,20,IF(BF16=3,10,0))) -> 0 | BK16: =IF(BF16="","",BH16+BI16+BJ16)
A17: 15 | B17: Ivan Fuckar | C17: Blindschack | D17: 2017 | E17: =(R17+X17+AQ17+AD17+AK17+BC17+AW17+BI17)/20 -> 1 | F17: =T17 -> 85 | G17: =Z17 | H17: =AF17 | I17: =AM17 | J17: =AS17 | K17: =AY17 | L17: =BE17 | M17: =BK17 | N17: =IF(E17<4,SUM(F17:M17),SUMPRODUCT(LARGE(F17:M17,{1;2;3;4}))) -> 85 | O17: 12 | P17: 4.5 | Q17: =CEILING(100*P17/$P$2,1) -> 65 | R17: =IF(O17="",0,20) -> 20 | S17: =IF(O17=1,30,IF(O17=2,20,IF(O17=3,10,0))) -> 0 | T17: =IF(O17="","",Q17+R17+S17) -> 85 | W17: =CEILING(100*V17/$V$2,1) -> 0 | X17: =IF(U17="",0,20) -> 0 | Y17: =IF(U17=1,30,IF(U17=2,20,IF(U17=3,10,0))) -> 0 | Z17: =IF(U17="","",W17+X17+Y17) | AC17: =CEILING(100*AB17/$AB$2,1) -> 0 | AD17: =IF(AA17="",0,20) -> 0 | AE17: =IF(AA17=1,30,IF(AA17=2,20,IF(AA17=3,10,0))) -> 0 | AF17: =IF(AA17="","",AC17+AD17+AE17) | AJ17: =IF(AI17=0,"",CEILING(100*AH17/AI17,1)) | AK17: =IF(AG17="",0,20) -> 0 | AL17: =IF(AG17=1,30,IF(AG17=2,20,IF(AG17=3,10,0))) -> 0 | AM17: =IF(AG17="","",AJ17+AK17+AL17) | AP17: =CEILING(100*AO17/$AO$2,1) -> 0 | AQ17: =IF(AN17="",0,20) -> 0 | AR17: =IF(AN17=1,30,IF(AN17=2,20,IF(AN17=3,10,0))) -> 0 | AS17: =IF(AN17="","",AP17+AQ17+AR17) | AV17: =CEILING(100*AU17/$AU$2,1) -> 0 | AW17: =IF(AT17="",0,20) -> 0 | AX17: =IF(AT17=1,30,IF(AT17=2,20,IF(AT17=3,10,0))) -> 0 | AY17: =IF(AT17="","",AV17+AW17+AX17) | BB17: =CEILING(100*BA17/$BA$2,1) -> 0 | BC17: =IF(AZ17="",0,20) -> 0 | BD17: =IF(AZ17=1,30,IF(AZ17=2,20,IF(AZ17=3,10,0))) -> 0 | BE17: =IF(AZ17="","",BB17+BC17+BD17) | BH17: =CEILING(100*BG17/$BG$2,1) -> 0 | BI17: =IF(BF17="",0,20) -> 0 | BJ17: =IF(BF17=1,30,IF(BF17=2,20,IF(BF17=3,10,0))) -> 0 | BK17: =IF(BF17="","",BH17+BI17+BJ17)
A18: 16 | B18: Shreyan Bathini | C18: Limhamns SK | D18: 2019 | E18: =(R18+X18+AQ18+AD18+AK18+BC18+AW18+BI18)/20 -> 1 | F18: =T18 -> 85 | G18: =Z18 | H18: =AF18 | I18: =AM18 | J18: =AS18 | K18: =AY18 | L18: =BE18 | M18: =BK18 | N18: =IF(E18<4,SUM(F18:M18),SUMPRODUCT(LARGE(F18:M18,{1;2;3;4}))) -> 85 | O18: 13 | P18: 4.5 | Q18: =CEILING(100*P18/$P$2,1) -> 65 | R18: =IF(O18="",0,20) -> 20 | S18: =IF(O18=1,30,IF(O18=2,20,IF(O18=3,10,0))) -> 0 | T18: =IF(O18="","",Q18+R18+S18) -> 85 | W18: =CEILING(100*V18/$V$2,1) -> 0 | X18: =IF(U18="",0,20) -> 0 | Y18: =IF(U18=1,30,IF(U18=2,20,IF(U18=3,10,0))) -> 0 | Z18: =IF(U18="","",W18+X18+Y18) | AC18: =CEILING(100*AB18/$AB$2,1) -> 0 | AD18: =IF(AA18="",0,20) -> 0 | AE18: =IF(AA18=1,30,IF(AA18=2,20,IF(AA18=3,10,0))) -> 0 | AF18: =IF(AA18="","",AC18+AD18+AE18) | AJ18: =IF(AI18=0,"",CEILING(100*AH18/AI18,1)) | AK18: =IF(AG18="",0,20) -> 0 | AL18: =IF(AG18=1,30,IF(AG18=2,20,IF(AG18=3,10,0))) -> 0 | AM18: =IF(AG18="","",AJ18+AK18+AL18) | AP18: =CEILING(100*AO18/$AO$2,1) -> 0 | AQ18: =IF(AN18="",0,20) -> 0 | AR18: =IF(AN18=1,30,IF(AN18=2,20,IF(AN18=3,10,0))) -> 0 | AS18: =IF(AN18="","",AP18+AQ18+AR18) | AV18: =CEILING(100*AU18/$AU$2,1) -> 0 | AW18: =IF(AT18="",0,20) -> 0 | AX18: =IF(AT18=1,30,IF(AT18=2,20,IF(AT18=3,10,0))) -> 0 | AY18: =IF(AT18="","",AV18+AW18+AX18) | BB18: =CEILING(100*BA18/$BA$2,1) -> 0 | BC18: =IF(AZ18="",0,20) -> 0 | BD18: =IF(AZ18=1,30,IF(AZ18=2,20,IF(AZ18=3,10,0))) -> 0 | BE18: =IF(AZ18="","",BB18+BC18+BD18) | BH18: =CEILING(100*BG18/$BG$2,1) -> 0 | BI18: =IF(BF18="",0,20) -> 0 | BJ18: =IF(BF18=1,30,IF(BF18=2,20,IF(BF18=3,10,0))) -> 0 | BK18: =IF(BF18="","",BH18+BI18+BJ18)
A19: 17 | B19: Liam Andersson | C19: Helsingborgs ASK | D19: 2016 | E19: =(R19+X19+AQ19+AD19+AK19+BC19+AW19+BI19)/20 -> 1 | F19: =T19 -> 78 | G19: =Z19 | H19: =AF19 | I19: =AM19 | J19: =AS19 | K19: =AY19 | L19: =BE19 | M19: =BK19 | N19: =IF(E19<4,SUM(F19:M19),SUMPRODUCT(LARGE(F19:M19,{1;2;3;4}))) -> 78 | O19: 14 | P19: 4 | Q19: =CEILING(100*P19/$P$2,1) -> 58 | R19: =IF(O19="",0,20) -> 20 | S19: =IF(O19=1,30,IF(O19=2,20,IF(O19=3,10,0))) -> 0 | T19: =IF(O19="","",Q19+R19+S19) -> 78 | W19: =CEILING(100*V19/$V$2,1) -> 0 | X19: =IF(U19="",0,20) -> 0 | Y19: =IF(U19=1,30,IF(U19=2,20,IF(U19=3,10,0))) -> 0 | Z19: =IF(U19="","",W19+X19+Y19) | AC19: =CEILING(100*AB19/$AB$2,1) -> 0 | AD19: =IF(AA19="",0,20) -> 0 | AE19: =IF(AA19=1,30,IF(AA19=2,20,IF(AA19=3,10,0))) -> 0 | AF19: =IF(AA19="","",AC19+AD19+AE19) | AJ19: =IF(AI19=0,"",CEILING(100*AH19/AI19,1)) | AK19: =IF(AG19="",0,20) -> 0 | AL19: =IF(AG19=1,30,IF(AG19=2,20,IF(AG19=3,10,0))) -> 0 | AM19: =IF(AG19="","",AJ19+AK19+AL19) | AP19: =CEILING(100*AO19/$AO$2,1) -> 0 | AQ19: =IF(AN19="",0,20) -> 0 | AR19: =IF(AN19=1,30,IF(AN19=2,20,IF(AN19=3,10,0))) -> 0 | AS19: =IF(AN19="","",AP19+AQ19+AR19) | AV19: =CEILING(100*AU19/$AU$2,1) -> 0 | AW19: =IF(AT19="",0,20) -> 0 | AX19: =IF(AT19=1,30,IF(AT19=2,20,IF(AT19=3,10,0))) -> 0 | AY19: =IF(AT19="","",AV19+AW19+AX19) | BB19: =CEILING(100*BA19/$BA$2,1) -> 0 | BC19: =IF(AZ19="",0,20) -> 0 | BD19: =IF(AZ19=1,30,IF(AZ19=2,20,IF(AZ19=3,10,0))) -> 0 | BE19: =IF(AZ19="","",BB19+BC19+BD19) | BH19: =CEILING(100*BG19/$BG$2,1) -> 0 | BI19: =IF(BF19="",0,20) -> 0 | BJ19: =IF(BF19=1,30,IF(BF19=2,20,IF(BF19=3,10,0))) -> 0 | BK19: =IF(BF19="","",BH19+BI19+BJ19)
A20: 18 | B20: Victor Sten Värendh | C20: Limhamns SK | D20: 2016 | E20: =(R20+X20+AQ20+AD20+AK20+BC20+AW20+BI20)/20 -> 1 | F20: =T20 -> 78 | G20: =Z20 | H20: =AF20 | I20: =AM20 | J20: =AS20 | K20: =AY20 | L20: =BE20 | M20: =BK20 | N20: =IF(E20<4,SUM(F20:M20),SUMPRODUCT(LARGE(F20:M20,{1;2;3;4}))) -> 78 | O20: 15 | P20: 4 | Q20: =CEILING(100*P20/$P$2,1) -> 58 | R20: =IF(O20="",0,20) -> 20 | S20: =IF(O20=1,30,IF(O20=2,20,IF(O20=3,10,0))) -> 0 | T20: =IF(O20="","",Q20+R20+S20) -> 78 | W20: =CEILING(100*V20/$V$2,1) -> 0 | X20: =IF(U20="",0,20) -> 0 | Y20: =IF(U20=1,30,IF(U20=2,20,IF(U20=3,10,0))) -> 0 | Z20: =IF(U20="","",W20+X20+Y20) | AC20: =CEILING(100*AB20/$AB$2,1) -> 0 | AD20: =IF(AA20="",0,20) -> 0 | AE20: =IF(AA20=1,30,IF(AA20=2,20,IF(AA20=3,10,0))) -> 0 | AF20: =IF(AA20="","",AC20+AD20+AE20) | AJ20: =IF(AI20=0,"",CEILING(100*AH20/AI20,1)) | AK20: =IF(AG20="",0,20) -> 0 | AL20: =IF(AG20=1,30,IF(AG20=2,20,IF(AG20=3,10,0))) -> 0 | AM20: =IF(AG20="","",AJ20+AK20+AL20) | AP20: =CEILING(100*AO20/$AO$2,1) -> 0 | AQ20: =IF(AN20="",0,20) -> 0 | AR20: =IF(AN20=1,30,IF(AN20=2,20,IF(AN20=3,10,0))) -> 0 | AS20: =IF(AN20="","",AP20+AQ20+AR20) | AV20: =CEILING(100*AU20/$AU$2,1) -> 0 | AW20: =IF(AT20="",0,20) -> 0 | AX20: =IF(AT20=1,30,IF(AT20=2,20,IF(AT20=3,10,0))) -> 0 | AY20: =IF(AT20="","",AV20+AW20+AX20) | BB20: =CEILING(100*BA20/$BA$2,1) -> 0 | BC20: =IF(AZ20="",0,20) -> 0 | BD20: =IF(AZ20=1,30,IF(AZ20=2,20,IF(AZ20=3,10,0))) -> 0 | BE20: =IF(AZ20="","",BB20+BC20+BD20) | BH20: =CEILING(100*BG20/$BG$2,1) -> 0 | BI20: =IF(BF20="",0,20) -> 0 | BJ20: =IF(BF20=1,30,IF(BF20=2,20,IF(BF20=3,10,0))) -> 0 | BK20: =IF(BF20="","",BH20+BI20+BJ20)
A21: 19 | B21: Yagiz Geray | C21: Blindschack | D21: 2017 | E21: =(R21+X21+AQ21+AD21+AK21+BC21+AW21+BI21)/20 -> 1 | F21: =T21 -> 78 | G21: =Z21 | H21: =AF21 | I21: =AM21 | J21: =AS21 | K21: =AY21 | L21: =BE21 | M21: =BK21 | N21: =IF(E21<4,SUM(F21:M21),SUMPRODUCT(LARGE(F21:M21,{1;2;3;4}))) -> 78 | O21: 16 | P21: 4 | Q21: =CEILING(100*P21/$P$2,1) -> 58 | R21: =IF(O21="",0,20) -> 20 | S21: =IF(O21=1,30,IF(O21=2,20,IF(O21=3,10,0))) -> 0 | T21: =IF(O21="","",Q21+R21+S21) -> 78 | W21: =CEILING(100*V21/$V$2,1) -> 0 | X21: =IF(U21="",0,20) -> 0 | Y21: =IF(U21=1,30,IF(U21=2,20,IF(U21=3,10,0))) -> 0 | Z21: =IF(U21="","",W21+X21+Y21) | AC21: =CEILING(100*AB21/$AB$2,1) -> 0 | AD21: =IF(AA21="",0,20) -> 0 | AE21: =IF(AA21=1,30,IF(AA21=2,20,IF(AA21=3,10,0))) -> 0 | AF21: =IF(AA21="","",AC21+AD21+AE21) | AJ21: =IF(AI21=0,"",CEILING(100*AH21/AI21,1)) | AK21: =IF(AG21="",0,20) -> 0 | AL21: =IF(AG21=1,30,IF(AG21=2,20,IF(AG21=3,10,0))) -> 0 | AM21: =IF(AG21="","",AJ21+AK21+AL21) | AP21: =CEILING(100*AO21/$AO$2,1) -> 0 | AQ21: =IF(AN21="",0,20) -> 0 | AR21: =IF(AN21=1,30,IF(AN21=2,20,IF(AN21=3,10,0))) -> 0 | AS21: =IF(AN21="","",AP21+AQ21+AR21) | AV21: =CEILING(100*AU21/$AU$2,1) -> 0 | AW21: =IF(AT21="",0,20) -> 0 | AX21: =IF(AT21=1,30,IF(AT21=2,20,IF(AT21=3,10,0))) -> 0 | AY21: =IF(AT21="","",AV21+AW21+AX21) | BB21: =CEILING(100*BA21/$BA$2,1) -> 0 | BC21: =IF(AZ21="",0,20) -> 0 | BD21: =IF(AZ21=1,30,IF(AZ21=2,20,IF(AZ21=3,10,0))) -> 0 | BE21: =IF(AZ21="","",BB21+BC21+BD21) | BH21: =CEILING(100*BG21/$BG$2,1) -> 0 | BI21: =IF(BF21="",0,20) -> 0 | BJ21: =IF(BF21=1,30,IF(BF21=2,20,IF(BF21=3,10,0))) -> 0 | BK21: =IF(BF21="","",BH21+BI21+BJ21)
A22: 20 | B22: Bhavik Sai Setikam | C22: Helsingborgs ASK | D22: 2018 | E22: =(R22+X22+AQ22+AD22+AK22+BC22+AW22+BI22)/20 -> 1 | F22: =T22 -> 78 | G22: =Z22 | H22: =AF22 | I22: =AM22 | J22: =AS22 | K22: =AY22 | L22: =BE22 | M22: =BK22 | N22: =IF(E22<4,SUM(F22:M22),SUMPRODUCT(LARGE(F22:M22,{1;2;3;4}))) -> 78 | O22: 17 | P22: 4 | Q22: =CEILING(100*P22/$P$2,1) -> 58 | R22: =IF(O22="",0,20) -> 20 | S22: =IF(O22=1,30,IF(O22=2,20,IF(O22=3,10,0))) -> 0 | T22: =IF(O22="","",Q22+R22+S22) -> 78 | W22: =CEILING(100*V22/$V$2,1) -> 0 | X22: =IF(U22="",0,20) -> 0 | Y22: =IF(U22=1,30,IF(U22=2,20,IF(U22=3,10,0))) -> 0 | Z22: =IF(U22="","",W22+X22+Y22) | AC22: =CEILING(100*AB22/$AB$2,1) -> 0 | AD22: =IF(AA22="",0,20) -> 0 | AE22: =IF(AA22=1,30,IF(AA22=2,20,IF(AA22=3,10,0))) -> 0 | AF22: =IF(AA22="","",AC22+AD22+AE22) | AJ22: =IF(AI22=0,"",CEILING(100*AH22/AI22,1)) | AK22: =IF(AG22="",0,20) -> 0 | AL22: =IF(AG22=1,30,IF(AG22=2,20,IF(AG22=3,10,0))) -> 0 | AM22: =IF(AG22="","",AJ22+AK22+AL22) | AP22: =CEILING(100*AO22/$AO$2,1) -> 0 | AQ22: =IF(AN22="",0,20) -> 0 | AR22: =IF(AN22=1,30,IF(AN22=2,20,IF(AN22=3,10,0))) -> 0 | AS22: =IF(AN22="","",AP22+AQ22+AR22) | AV22: =CEILING(100*AU22/$AU$2,1) -> 0 | AW22: =IF(AT22="",0,20) -> 0 | AX22: =IF(AT22=1,30,IF(AT22=2,20,IF(AT22=3,10,0))) -> 0 | AY22: =IF(AT22="","",AV22+AW22+AX22) | BB22: =CEILING(100*BA22/$BA$2,1) -> 0 | BC22: =IF(AZ22="",0,20) -> 0 | BD22: =IF(AZ22=1,30,IF(AZ22=2,20,IF(AZ22=3,10,0))) -> 0 | BE22: =IF(AZ22="","",BB22+BC22+BD22) | BH22: =CEILING(100*BG22/$BG$2,1) -> 0 | BI22: =IF(BF22="",0,20) -> 0 | BJ22: =IF(BF22=1,30,IF(BF22=2,20,IF(BF22=3,10,0))) -> 0 | BK22: =IF(BF22="","",BH22+BI22+BJ22)
... A29: 27 | B29: Shrihaan Angara | C29: Helsingborgs ASK | D29: 2019 | E29: =(R29+X29+AQ29+AD29+AK29+BC29+AW29+BI29)/20 -> 1 | F29: =T29 -> 70 | G29: =Z29 | H29: =AF29 | I29: =AM29 | J29: =AS29 | K29: =AY29 | L29: =BE29 | M29: =BK29 | N29: =IF(E29<4,SUM(F29:M29),SUMPRODUCT(LARGE(F29:M29,{1;2;3;4}))) -> 70 | O29: 25 | P29: 3.5 | Q29: =CEILING(100*P29/$P$2,1) -> 50 | R29: =IF(O29="",0,20) -> 20 | S29: =IF(O29=1,30,IF(O29=2,20,IF(O29=3,10,0))) -> 0 | T29: =IF(O29="","",Q29+R29+S29) -> 70 | W29: =CEILING(100*V29/$V$2,1) -> 0 | X29: =IF(U29="",0,20) -> 0 | Y29: =IF(U29=1,30,IF(U29=2,20,IF(U29=3,10,0))) -> 0 | Z29: =IF(U29="","",W29+X29+Y29) | AC29: =CEILING(100*AB29/$AB$2,1) -> 0 | AD29: =IF(AA29="",0,20) -> 0 | AE29: =IF(AA29=1,30,IF(AA29=2,20,IF(AA29=3,10,0))) -> 0 | AF29: =IF(AA29="","",AC29+AD29+AE29) | AJ29: =IF(AI29=0,"",CEILING(100*AH29/AI29,1)) | AK29: =IF(AG29="",0,20) -> 0 | AL29: =IF(AG29=1,30,IF(AG29=2,20,IF(AG29=3,10,0))) -> 0 | AM29: =IF(AG29="","",AJ29+AK29+AL29) | AP29: =CEILING(100*AO29/$AO$2,1) -> 0 | AQ29: =IF(AN29="",0,20) -> 0 | AR29: =IF(AN29=1,30,IF(AN29=2,20,IF(AN29=3,10,0))) -> 0 | AS29: =IF(AN29="","",AP29+AQ29+AR29) | AV29: =CEILING(100*AU29/$AU$2,1) -> 0 | AW29: =IF(AT29="",0,20) -> 0 | AX29: =IF(AT29=1,30,IF(AT29=2,20,IF(AT29=3,10,0))) -> 0 | AY29: =IF(AT29="","",AV29+AW29+AX29) | BB29: =CEILING(100*BA29/$BA$2,1) -> 0 | BC29: =IF(AZ29="",0,20) -> 0 | BD29: =IF(AZ29=1,30,IF(AZ29=2,20,IF(AZ29=3,10,0))) -> 0 | BE29: =IF(AZ29="","",BB29+BC29+BD29) | BH29: =CEILING(100*BG29/$BG$2,1) -> 0 | BI29: =IF(BF29="",0,20) -> 0 | BJ29: =IF(BF29=1,30,IF(BF29=2,20,IF(BF29=3,10,0))) -> 0 | BK29: =IF(BF29="","",BH29+BI29+BJ29)
A30: 28 | B30: Emil Bergh | C30: SK Bara Bönder | D30: 2017 | E30: =(R30+X30+AQ30+AD30+AK30+BC30+AW30+BI30)/20 -> 1 | F30: =T30 | G30: =Z30 -> 66 | H30: =AF30 | I30: =AM30 | J30: =AS30 | K30: =AY30 | L30: =BE30 | M30: =BK30 | N30: =IF(E30<4,SUM(F30:M30),SUMPRODUCT(LARGE(F30:M30,{1;2;3;4}))) -> 66 | Q30: =CEILING(100*P30/$P$2,1) -> 0 | R30: =IF(O30="",0,20) -> 0 | S30: =IF(O30=1,30,IF(O30=2,20,IF(O30=3,10,0))) -> 0 | T30: =IF(O30="","",Q30+R30+S30) | U30: 26 | V30: 5 | W30: =CEILING(100*V30/$V$2,1) -> 46 | X30: =IF(U30="",0,20) -> 20 | Y30: =IF(U30=1,30,IF(U30=2,20,IF(U30=3,10,0))) -> 0 | Z30: =IF(U30="","",W30+X30+Y30) -> 66 | AC30: =CEILING(100*AB30/$AB$2,1) -> 0 | AD30: =IF(AA30="",0,20) -> 0 | AE30: =IF(AA30=1,30,IF(AA30=2,20,IF(AA30=3,10,0))) -> 0 | AF30: =IF(AA30="","",AC30+AD30+AE30) | AJ30: =IF(AI30=0,"",CEILING(100*AH30/AI30,1)) | AK30: =IF(AG30="",0,20) -> 0 | AL30: =IF(AG30=1,30,IF(AG30=2,20,IF(AG30=3,10,0))) -> 0 | AM30: =IF(AG30="","",AJ30+AK30+AL30) | AP30: =CEILING(100*AO30/$AO$2,1) -> 0 | AQ30: =IF(AN30="",0,20) -> 0 | AR30: =IF(AN30=1,30,IF(AN30=2,20,IF(AN30=3,10,0))) -> 0 | AS30: =IF(AN30="","",AP30+AQ30+AR30) | AV30: =CEILING(100*AU30/$AU$2,1) -> 0 | AW30: =IF(AT30="",0,20) -> 0 | AX30: =IF(AT30=1,30,IF(AT30=2,20,IF(AT30=3,10,0))) -> 0 | AY30: =IF(AT30="","",AV30+AW30+AX30) | BB30: =CEILING(100*BA30/$BA$2,1) -> 0 | BC30: =IF(AZ30="",0,20) -> 0 | BD30: =IF(AZ30=1,30,IF(AZ30=2,20,IF(AZ30=3,10,0))) -> 0 | BE30: =IF(AZ30="","",BB30+BC30+BD30) | BH30: =CEILING(100*BG30/$BG$2,1) -> 0 | BI30: =IF(BF30="",0,20) -> 0 | BJ30: =IF(BF30=1,30,IF(BF30=2,20,IF(BF30=3,10,0))) -> 0 | BK30: =IF(BF30="","",BH30+BI30+BJ30)
A31: 29 | B31: Samadrita Guharoy | C31: Helsingborgs ASK | D31: 2017 | E31: =(R31+X31+AQ31+AD31+AK31+BC31+AW31+BI31)/20 -> 1 | F31: =T31 -> 63 | G31: =Z31 | H31: =AF31 | I31: =AM31 | J31: =AS31 | K31: =AY31 | L31: =BE31 | M31: =BK31 | N31: =IF(E31<4,SUM(F31:M31),SUMPRODUCT(LARGE(F31:M31,{1;2;3;4}))) -> 63 | O31: 26 | P31: 3 | Q31: =CEILING(100*P31/$P$2,1) -> 43 | R31: =IF(O31="",0,20) -> 20 | S31: =IF(O31=1,30,IF(O31=2,20,IF(O31=3,10,0))) -> 0 | T31: =IF(O31="","",Q31+R31+S31) -> 63 | W31: =CEILING(100*V31/$V$2,1) -> 0 | X31: =IF(U31="",0,20) -> 0 | Y31: =IF(U31=1,30,IF(U31=2,20,IF(U31=3,10,0))) -> 0 | Z31: =IF(U31="","",W31+X31+Y31) | AC31: =CEILING(100*AB31/$AB$2,1) -> 0 | AD31: =IF(AA31="",0,20) -> 0 | AE31: =IF(AA31=1,30,IF(AA31=2,20,IF(AA31=3,10,0))) -> 0 | AF31: =IF(AA31="","",AC31+AD31+AE31) | AJ31: =IF(AI31=0,"",CEILING(100*AH31/AI31,1)) | AK31: =IF(AG31="",0,20) -> 0 | AL31: =IF(AG31=1,30,IF(AG31=2,20,IF(AG31=3,10,0))) -> 0 | AM31: =IF(AG31="","",AJ31+AK31+AL31) | AP31: =CEILING(100*AO31/$AO$2,1) -> 0 | AQ31: =IF(AN31="",0,20) -> 0 | AR31: =IF(AN31=1,30,IF(AN31=2,20,IF(AN31=3,10,0))) -> 0 | AS31: =IF(AN31="","",AP31+AQ31+AR31) | AV31: =CEILING(100*AU31/$AU$2,1) -> 0 | AW31: =IF(AT31="",0,20) -> 0 | AX31: =IF(AT31=1,30,IF(AT31=2,20,IF(AT31=3,10,0))) -> 0 | AY31: =IF(AT31="","",AV31+AW31+AX31) | BB31: =CEILING(100*BA31/$BA$2,1) -> 0 | BC31: =IF(AZ31="",0,20) -> 0 | BD31: =IF(AZ31=1,30,IF(AZ31=2,20,IF(AZ31=3,10,0))) -> 0 | BE31: =IF(AZ31="","",BB31+BC31+BD31) | BH31: =CEILING(100*BG31/$BG$2,1) -> 0 | BI31: =IF(BF31="",0,20) -> 0 | BJ31: =IF(BF31=1,30,IF(BF31=2,20,IF(BF31=3,10,0))) -> 0 | BK31: =IF(BF31="","",BH31+BI31+BJ31)
A32: 30 | B32: Mokshath Yanamadala | C32: Helsingborgs ASK | D32: 2018 | E32: =(R32+X32+AQ32+AD32+AK32+BC32+AW32+BI32)/20 -> 1 | F32: =T32 -> 63 | G32: =Z32 | H32: =AF32 | I32: =AM32 | J32: =AS32 | K32: =AY32 | L32: =BE32 | M32: =BK32 | N32: =IF(E32<4,SUM(F32:M32),SUMPRODUCT(LARGE(F32:M32,{1;2;3;4}))) -> 63 | O32: 27 | P32: 3 | Q32: =CEILING(100*P32/$P$2,1) -> 43 | R32: =IF(O32="",0,20) -> 20 | S32: =IF(O32=1,30,IF(O32=2,20,IF(O32=3,10,0))) -> 0 | T32: =IF(O32="","",Q32+R32+S32) -> 63 | W32: =CEILING(100*V32/$V$2,1) -> 0 | X32: =IF(U32="",0,20) -> 0 | Y32: =IF(U32=1,30,IF(U32=2,20,IF(U32=3,10,0))) -> 0 | Z32: =IF(U32="","",W32+X32+Y32) | AC32: =CEILING(100*AB32/$AB$2,1) -> 0 | AD32: =IF(AA32="",0,20) -> 0 | AE32: =IF(AA32=1,30,IF(AA32=2,20,IF(AA32=3,10,0))) -> 0 | AF32: =IF(AA32="","",AC32+AD32+AE32) | AJ32: =IF(AI32=0,"",CEILING(100*AH32/AI32,1)) | AK32: =IF(AG32="",0,20) -> 0 | AL32: =IF(AG32=1,30,IF(AG32=2,20,IF(AG32=3,10,0))) -> 0 | AM32: =IF(AG32="","",AJ32+AK32+AL32) | AP32: =CEILING(100*AO32/$AO$2,1) -> 0 | AQ32: =IF(AN32="",0,20) -> 0 | AR32: =IF(AN32=1,30,IF(AN32=2,20,IF(AN32=3,10,0))) -> 0 | AS32: =IF(AN32="","",AP32+AQ32+AR32) | AV32: =CEILING(100*AU32/$AU$2,1) -> 0 | AW32: =IF(AT32="",0,20) -> 0 | AX32: =IF(AT32=1,30,IF(AT32=2,20,IF(AT32=3,10,0))) -> 0 | AY32: =IF(AT32="","",AV32+AW32+AX32) | BB32: =CEILING(100*BA32/$BA$2,1) -> 0 | BC32: =IF(AZ32="",0,20) -> 0 | BD32: =IF(AZ32=1,30,IF(AZ32=2,20,IF(AZ32=3,10,0))) -> 0 | BE32: =IF(AZ32="","",BB32+BC32+BD32) | BH32: =CEILING(100*BG32/$BG$2,1) -> 0 | BI32: =IF(BF32="",0,20) -> 0 | BJ32: =IF(BF32=1,30,IF(BF32=2,20,IF(BF32=3,10,0))) -> 0 | BK32: =IF(BF32="","",BH32+BI32+BJ32)
A33: 31 | B33: Leo Sköld Zubanovic | C33: Blindschack | D33: 2016 | E33: =(R33+X33+AQ33+AD33+AK33+BC33+AW33+BI33)/20 -> 1 | F33: =T33 -> 63 | G33: =Z33 | H33: =AF33 | I33: =AM33 | J33: =AS33 | K33: =AY33 | L33: =BE33 | M33: =BK33 | N33: =IF(E33<4,SUM(F33:M33),SUMPRODUCT(LARGE(F33:M33,{1;2;3;4}))) -> 63 | O33: 28 | P33: 3 | Q33: =CEILING(100*P33/$P$2,1) -> 43 | R33: =IF(O33="",0,20) -> 20 | S33: =IF(O33=1,30,IF(O33=2,20,IF(O33=3,10,0))) -> 0 | T33: =IF(O33="","",Q33+R33+S33) -> 63 | W33: =CEILING(100*V33/$V$2,1) -> 0 | X33: =IF(U33="",0,20) -> 0 | Y33: =IF(U33=1,30,IF(U33=2,20,IF(U33=3,10,0))) -> 0 | Z33: =IF(U33="","",W33+X33+Y33) | AC33: =CEILING(100*AB33/$AB$2,1) -> 0 | AD33: =IF(AA33="",0,20) -> 0 | AE33: =IF(AA33=1,30,IF(AA33=2,20,IF(AA33=3,10,0))) -> 0 | AF33: =IF(AA33="","",AC33+AD33+AE33) | AJ33: =IF(AI33=0,"",CEILING(100*AH33/AI33,1)) | AK33: =IF(AG33="",0,20) -> 0 | AL33: =IF(AG33=1,30,IF(AG33=2,20,IF(AG33=3,10,0))) -> 0 | AM33: =IF(AG33="","",AJ33+AK33+AL33) | AP33: =CEILING(100*AO33/$AO$2,1) -> 0 | AQ33: =IF(AN33="",0,20) -> 0 | AR33: =IF(AN33=1,30,IF(AN33=2,20,IF(AN33=3,10,0))) -> 0 | AS33: =IF(AN33="","",AP33+AQ33+AR33) | AV33: =CEILING(100*AU33/$AU$2,1) -> 0 | AW33: =IF(AT33="",0,20) -> 0 | AX33: =IF(AT33=1,30,IF(AT33=2,20,IF(AT33=3,10,0))) -> 0 | AY33: =IF(AT33="","",AV33+AW33+AX33) | BB33: =CEILING(100*BA33/$BA$2,1) -> 0 | BC33: =IF(AZ33="",0,20) -> 0 | BD33: =IF(AZ33=1,30,IF(AZ33=2,20,IF(AZ33=3,10,0))) -> 0 | BE33: =IF(AZ33="","",BB33+BC33+BD33) | BH33: =CEILING(100*BG33/$BG$2,1) -> 0 | BI33: =IF(BF33="",0,20) -> 0 | BJ33: =IF(BF33=1,30,IF(BF33=2,20,IF(BF33=3,10,0))) -> 0 | BK33: =IF(BF33="","",BH33+BI33+BJ33)
A34: 32 | B34: Anisha Jain | C34: Limhamns SK | D34: 2016 | E34: =(R34+X34+AQ34+AD34+AK34+BC34+AW34+BI34)/20 -> 1 | F34: =T34 -> 63 | G34: =Z34 | H34: =AF34 | I34: =AM34 | J34: =AS34 | K34: =AY34 | L34: =BE34 | M34: =BK34 | N34: =IF(E34<4,SUM(F34:M34),SUMPRODUCT(LARGE(F34:M34,{1;2;3;4}))) -> 63 | O34: 29 | P34: 3 | Q34: =CEILING(100*P34/$P$2,1) -> 43 | R34: =IF(O34="",0,20) -> 20 | S34: =IF(O34=1,30,IF(O34=2,20,IF(O34=3,10,0))) -> 0 | T34: =IF(O34="","",Q34+R34+S34) -> 63 | W34: =CEILING(100*V34/$V$2,1) -> 0 | X34: =IF(U34="",0,20) -> 0 | Y34: =IF(U34=1,30,IF(U34=2,20,IF(U34=3,10,0))) -> 0 | Z34: =IF(U34="","",W34+X34+Y34) | AC34: =CEILING(100*AB34/$AB$2,1) -> 0 | AD34: =IF(AA34="",0,20) -> 0 | AE34: =IF(AA34=1,30,IF(AA34=2,20,IF(AA34=3,10,0))) -> 0 | AF34: =IF(AA34="","",AC34+AD34+AE34) | AJ34: =IF(AI34=0,"",CEILING(100*AH34/AI34,1)) | AK34: =IF(AG34="",0,20) -> 0 | AL34: =IF(AG34=1,30,IF(AG34=2,20,IF(AG34=3,10,0))) -> 0 | AM34: =IF(AG34="","",AJ34+AK34+AL34) | AP34: =CEILING(100*AO34/$AO$2,1) -> 0 | AQ34: =IF(AN34="",0,20) -> 0 | AR34: =IF(AN34=1,30,IF(AN34=2,20,IF(AN34=3,10,0))) -> 0 | AS34: =IF(AN34="","",AP34+AQ34+AR34) | AV34: =CEILING(100*AU34/$AU$2,1) -> 0 | AW34: =IF(AT34="",0,20) -> 0 | AX34: =IF(AT34=1,30,IF(AT34=2,20,IF(AT34=3,10,0))) -> 0 | AY34: =IF(AT34="","",AV34+AW34+AX34) | BB34: =CEILING(100*BA34/$BA$2,1) -> 0 | BC34: =IF(AZ34="",0,20) -> 0 | BD34: =IF(AZ34=1,30,IF(AZ34=2,20,IF(AZ34=3,10,0))) -> 0 | BE34: =IF(AZ34="","",BB34+BC34+BD34) | BH34: =CEILING(100*BG34/$BG$2,1) -> 0 | BI34: =IF(BF34="",0,20) -> 0 | BJ34: =IF(BF34=1,30,IF(BF34=2,20,IF(BF34=3,10,0))) -> 0 | BK34: =IF(BF34="","",BH34+BI34+BJ34)
A35: 33 | B35: William Exner | C35: Lunds ASK | D35: 2019 | E35: =(R35+X35+AQ35+AD35+AK35+BC35+AW35+BI35)/20 -> 1 | F35: =T35 -> 63 | G35: =Z35 | H35: =AF35 | I35: =AM35 | J35: =AS35 | K35: =AY35 | L35: =BE35 | M35: =BK35 | N35: =IF(E35<4,SUM(F35:M35),SUMPRODUCT(LARGE(F35:M35,{1;2;3;4}))) -> 63 | O35: 30 | P35: 3 | Q35: =CEILING(100*P35/$P$2,1) -> 43 | R35: =IF(O35="",0,20) -> 20 | S35: =IF(O35=1,30,IF(O35=2,20,IF(O35=3,10,0))) -> 0 | T35: =IF(O35="","",Q35+R35+S35) -> 63 | W35: =CEILING(100*V35/$V$2,1) -> 0 | X35: =IF(U35="",0,20) -> 0 | Y35: =IF(U35=1,30,IF(U35=2,20,IF(U35=3,10,0))) -> 0 | Z35: =IF(U35="","",W35+X35+Y35) | AC35: =CEILING(100*AB35/$AB$2,1) -> 0 | AD35: =IF(AA35="",0,20) -> 0 | AE35: =IF(AA35=1,30,IF(AA35=2,20,IF(AA35=3,10,0))) -> 0 | AF35: =IF(AA35="","",AC35+AD35+AE35) | AJ35: =IF(AI35=0,"",CEILING(100*AH35/AI35,1)) | AK35: =IF(AG35="",0,20) -> 0 | AL35: =IF(AG35=1,30,IF(AG35=2,20,IF(AG35=3,10,0))) -> 0 | AM35: =IF(AG35="","",AJ35+AK35+AL35) | AP35: =CEILING(100*AO35/$AO$2,1) -> 0 | AQ35: =IF(AN35="",0,20) -> 0 | AR35: =IF(AN35=1,30,IF(AN35=2,20,IF(AN35=3,10,0))) -> 0 | AS35: =IF(AN35="","",AP35+AQ35+AR35) | AV35: =CEILING(100*AU35/$AU$2,1) -> 0 | AW35: =IF(AT35="",0,20) -> 0 | AX35: =IF(AT35=1,30,IF(AT35=2,20,IF(AT35=3,10,0))) -> 0 | AY35: =IF(AT35="","",AV35+AW35+AX35) | BB35: =CEILING(100*BA35/$BA$2,1) -> 0 | BC35: =IF(AZ35="",0,20) -> 0 | BD35: =IF(AZ35=1,30,IF(AZ35=2,20,IF(AZ35=3,10,0))) -> 0 | BE35: =IF(AZ35="","",BB35+BC35+BD35) | BH35: =CEILING(100*BG35/$BG$2,1) -> 0 | BI35: =IF(BF35="",0,20) -> 0 | BJ35: =IF(BF35=1,30,IF(BF35=2,20,IF(BF35=3,10,0))) -> 0 | BK35: =IF(BF35="","",BH35+BI35+BJ35)
A36: 34 | B36: Ruwan Rathi | C36: Limhamns SK | D36: 2017 | E36: =(R36+X36+AQ36+AD36+AK36+BC36+AW36+BI36)/20 -> 1 | F36: =T36 -> 63 | G36: =Z36 | H36: =AF36 | I36: =AM36 | J36: =AS36 | K36: =AY36 | L36: =BE36 | M36: =BK36 | N36: =IF(E36<4,SUM(F36:M36),SUMPRODUCT(LARGE(F36:M36,{1;2;3;4}))) -> 63 | O36: 32 | P36: 3 | Q36: =CEILING(100*P36/$P$2,1) -> 43 | R36: =IF(O36="",0,20) -> 20 | S36: =IF(O36=1,30,IF(O36=2,20,IF(O36=3,10,0))) -> 0 | T36: =IF(O36="","",Q36+R36+S36) -> 63 | W36: =CEILING(100*V36/$V$2,1) -> 0 | X36: =IF(U36="",0,20) -> 0 | Y36: =IF(U36=1,30,IF(U36=2,20,IF(U36=3,10,0))) -> 0 | Z36: =IF(U36="","",W36+X36+Y36) | AC36: =CEILING(100*AB36/$AB$2,1) -> 0 | AD36: =IF(AA36="",0,20) -> 0 | AE36: =IF(AA36=1,30,IF(AA36=2,20,IF(AA36=3,10,0))) -> 0 | AF36: =IF(AA36="","",AC36+AD36+AE36) | AJ36: =IF(AI36=0,"",CEILING(100*AH36/AI36,1)) | AK36: =IF(AG36="",0,20) -> 0 | AL36: =IF(AG36=1,30,IF(AG36=2,20,IF(AG36=3,10,0))) -> 0 | AM36: =IF(AG36="","",AJ36+AK36+AL36) | AP36: =CEILING(100*AO36/$AO$2,1) -> 0 | AQ36: =IF(AN36="",0,20) -> 0 | AR36: =IF(AN36=1,30,IF(AN36=2,20,IF(AN36=3,10,0))) -> 0 | AS36: =IF(AN36="","",AP36+AQ36+AR36) | AV36: =CEILING(100*AU36/$AU$2,1) -> 0 | AW36: =IF(AT36="",0,20) -> 0 | AX36: =IF(AT36=1,30,IF(AT36=2,20,IF(AT36=3,10,0))) -> 0 | AY36: =IF(AT36="","",AV36+AW36+AX36) | BB36: =CEILING(100*BA36/$BA$2,1) -> 0 | BC36: =IF(AZ36="",0,20) -> 0 | BD36: =IF(AZ36=1,30,IF(AZ36=2,20,IF(AZ36=3,10,0))) -> 0 | BE36: =IF(AZ36="","",BB36+BC36+BD36) | BH36: =CEILING(100*BG36/$BG$2,1) -> 0 | BI36: =IF(BF36="",0,20) -> 0 | BJ36: =IF(BF36=1,30,IF(BF36=2,20,IF(BF36=3,10,0))) -> 0 | BK36: =IF(BF36="","",BH36+BI36+BJ36)
A37: 35 | B37: Hamsini Bathini | C37: Limhamns SK | D37: 2017 | E37: =(R37+X37+AQ37+AD37+AK37+BC37+AW37+BI37)/20 -> 1 | F37: =T37 -> 63 | G37: =Z37 | H37: =AF37 | I37: =AM37 | J37: =AS37 | K37: =AY37 | L37: =BE37 | M37: =BK37 | N37: =IF(E37<4,SUM(F37:M37),SUMPRODUCT(LARGE(F37:M37,{1;2;3;4}))) -> 63 | O37: 33 | P37: 3 | Q37: =CEILING(100*P37/$P$2,1) -> 43 | R37: =IF(O37="",0,20) -> 20 | S37: =IF(O37=1,30,IF(O37=2,20,IF(O37=3,10,0))) -> 0 | T37: =IF(O37="","",Q37+R37+S37) -> 63 | W37: =CEILING(100*V37/$V$2,1) -> 0 | X37: =IF(U37="",0,20) -> 0 | Y37: =IF(U37=1,30,IF(U37=2,20,IF(U37=3,10,0))) -> 0 | Z37: =IF(U37="","",W37+X37+Y37) | AC37: =CEILING(100*AB37/$AB$2,1) -> 0 | AD37: =IF(AA37="",0,20) -> 0 | AE37: =IF(AA37=1,30,IF(AA37=2,20,IF(AA37=3,10,0))) -> 0 | AF37: =IF(AA37="","",AC37+AD37+AE37) | AJ37: =IF(AI37=0,"",CEILING(100*AH37/AI37,1)) | AK37: =IF(AG37="",0,20) -> 0 | AL37: =IF(AG37=1,30,IF(AG37=2,20,IF(AG37=3,10,0))) -> 0 | AM37: =IF(AG37="","",AJ37+AK37+AL37) | AP37: =CEILING(100*AO37/$AO$2,1) -> 0 | AQ37: =IF(AN37="",0,20) -> 0 | AR37: =IF(AN37=1,30,IF(AN37=2,20,IF(AN37=3,10,0))) -> 0 | AS37: =IF(AN37="","",AP37+AQ37+AR37) | AV37: =CEILING(100*AU37/$AU$2,1) -> 0 | AW37: =IF(AT37="",0,20) -> 0 | AX37: =IF(AT37=1,30,IF(AT37=2,20,IF(AT37=3,10,0))) -> 0 | AY37: =IF(AT37="","",AV37+AW37+AX37) | BB37: =CEILING(100*BA37/$BA$2,1) -> 0 | BC37: =IF(AZ37="",0,20) -> 0 | BD37: =IF(AZ37=1,30,IF(AZ37=2,20,IF(AZ37=3,10,0))) -> 0 | BE37: =IF(AZ37="","",BB37+BC37+BD37) | BH37: =CEILING(100*BG37/$BG$2,1) -> 0 | BI37: =IF(BF37="",0,20) -> 0 | BJ37: =IF(BF37=1,30,IF(BF37=2,20,IF(BF37=3,10,0))) -> 0 | BK37: =IF(BF37="","",BH37+BI37+BJ37)
A38: 36 | B38: Alfred Mares Johansson | C38: SK Sandlöparen | D38: 2016 | E38: =(R38+X38+AQ38+AD38+AK38+BC38+AW38+BI38)/20 -> 1 | F38: =T38 | G38: =Z38 -> 57 | H38: =AF38 | I38: =AM38 | J38: =AS38 | K38: =AY38 | L38: =BE38 | M38: =BK38 | N38: =IF(E38<4,SUM(F38:M38),SUMPRODUCT(LARGE(F38:M38,{1;2;3;4}))) -> 57 | Q38: =CEILING(100*P38/$P$2,1) -> 0 | R38: =IF(O38="",0,20) -> 0 | S38: =IF(O38=1,30,IF(O38=2,20,IF(O38=3,10,0))) -> 0 | T38: =IF(O38="","",Q38+R38+S38) | U38: 35 | V38: 4 | W38: =CEILING(100*V38/$V$2,1) -> 37 | X38: =IF(U38="",0,20) -> 20 | Y38: =IF(U38=1,30,IF(U38=2,20,IF(U38=3,10,0))) -> 0 | Z38: =IF(U38="","",W38+X38+Y38) -> 57 | AC38: =CEILING(100*AB38/$AB$2,1) -> 0 | AD38: =IF(AA38="",0,20) -> 0 | AE38: =IF(AA38=1,30,IF(AA38=2,20,IF(AA38=3,10,0))) -> 0 | AF38: =IF(AA38="","",AC38+AD38+AE38) | AJ38: =IF(AI38=0,"",CEILING(100*AH38/AI38,1)) | AK38: =IF(AG38="",0,20) -> 0 | AL38: =IF(AG38=1,30,IF(AG38=2,20,IF(AG38=3,10,0))) -> 0 | AM38: =IF(AG38="","",AJ38+AK38+AL38) | AP38: =CEILING(100*AO38/$AO$2,1) -> 0 | AQ38: =IF(AN38="",0,20) -> 0 | AR38: =IF(AN38=1,30,IF(AN38=2,20,IF(AN38=3,10,0))) -> 0 | AS38: =IF(AN38="","",AP38+AQ38+AR38) | AV38: =CEILING(100*AU38/$AU$2,1) -> 0 | AW38: =IF(AT38="",0,20) -> 0 | AX38: =IF(AT38=1,30,IF(AT38=2,20,IF(AT38=3,10,0))) -> 0 | AY38: =IF(AT38="","",AV38+AW38+AX38) | BB38: =CEILING(100*BA38/$BA$2,1) -> 0 | BC38: =IF(AZ38="",0,20) -> 0 | BD38: =IF(AZ38=1,30,IF(AZ38=2,20,IF(AZ38=3,10,0))) -> 0 | BE38: =IF(AZ38="","",BB38+BC38+BD38) | BH38: =CEILING(100*BG38/$BG$2,1) -> 0 | BI38: =IF(BF38="",0,20) -> 0 | BJ38: =IF(BF38=1,30,IF(BF38=2,20,IF(BF38=3,10,0))) -> 0 | BK38: =IF(BF38="","",BH38+BI38+BJ38)
A39: 37 | B39: Felix Mannerberg | C39: Limhamns SK | D39: 2016 | E39: =(R39+X39+AQ39+AD39+AK39+BC39+AW39+BI39)/20 -> 1 | F39: =T39 -> 56 | G39: =Z39 | H39: =AF39 | I39: =AM39 | J39: =AS39 | K39: =AY39 | L39: =BE39 | M39: =BK39 | N39: =IF(E39<4,SUM(F39:M39),SUMPRODUCT(LARGE(F39:M39,{1;2;3;4}))) -> 56 | O39: 34 | P39: 2.5 | Q39: =CEILING(100*P39/$P$2,1) -> 36 | R39: =IF(O39="",0,20) -> 20 | S39: =IF(O39=1,30,IF(O39=2,20,IF(O39=3,10,0))) -> 0 | T39: =IF(O39="","",Q39+R39+S39) -> 56 | W39: =CEILING(100*V39/$V$2,1) -> 0 | X39: =IF(U39="",0,20) -> 0 | Y39: =IF(U39=1,30,IF(U39=2,20,IF(U39=3,10,0))) -> 0 | Z39: =IF(U39="","",W39+X39+Y39) | AC39: =CEILING(100*AB39/$AB$2,1) -> 0 | AD39: =IF(AA39="",0,20) -> 0 | AE39: =IF(AA39=1,30,IF(AA39=2,20,IF(AA39=3,10,0))) -> 0 | AF39: =IF(AA39="","",AC39+AD39+AE39) | AJ39: =IF(AI39=0,"",CEILING(100*AH39/AI39,1)) | AK39: =IF(AG39="",0,20) -> 0 | AL39: =IF(AG39=1,30,IF(AG39=2,20,IF(AG39=3,10,0))) -> 0 | AM39: =IF(AG39="","",AJ39+AK39+AL39) | AP39: =CEILING(100*AO39/$AO$2,1) -> 0 | AQ39: =IF(AN39="",0,20) -> 0 | AR39: =IF(AN39=1,30,IF(AN39=2,20,IF(AN39=3,10,0))) -> 0 | AS39: =IF(AN39="","",AP39+AQ39+AR39) | AV39: =CEILING(100*AU39/$AU$2,1) -> 0 | AW39: =IF(AT39="",0,20) -> 0 | AX39: =IF(AT39=1,30,IF(AT39=2,20,IF(AT39=3,10,0))) -> 0 | AY39: =IF(AT39="","",AV39+AW39+AX39) | BB39: =CEILING(100*BA39/$BA$2,1) -> 0 | BC39: =IF(AZ39="",0,20) -> 0 | BD39: =IF(AZ39=1,30,IF(AZ39=2,20,IF(AZ39=3,10,0))) -> 0 | BE39: =IF(AZ39="","",BB39+BC39+BD39) | BH39: =CEILING(100*BG39/$BG$2,1) -> 0 | BI39: =IF(BF39="",0,20) -> 0 | BJ39: =IF(BF39=1,30,IF(BF39=2,20,IF(BF39=3,10,0))) -> 0 | BK39: =IF(BF39="","",BH39+BI39+BJ39)
A40: 38 | B40: Fabian Larsson | C40: Limhamns SK | D40: 2019 | E40: =(R40+X40+AQ40+AD40+AK40+BC40+AW40+BI40)/20 -> 1 | F40: =T40 -> 56 | G40: =Z40 | H40: =AF40 | I40: =AM40 | J40: =AS40 | K40: =AY40 | L40: =BE40 | M40: =BK40 | N40: =IF(E40<4,SUM(F40:M40),SUMPRODUCT(LARGE(F40:M40,{1;2;3;4}))) -> 56 | O40: 35 | P40: 2.5 | Q40: =CEILING(100*P40/$P$2,1) -> 36 | R40: =IF(O40="",0,20) -> 20 | S40: =IF(O40=1,30,IF(O40=2,20,IF(O40=3,10,0))) -> 0 | T40: =IF(O40="","",Q40+R40+S40) -> 56 | W40: =CEILING(100*V40/$V$2,1) -> 0 | X40: =IF(U40="",0,20) -> 0 | Y40: =IF(U40=1,30,IF(U40=2,20,IF(U40=3,10,0))) -> 0 | Z40: =IF(U40="","",W40+X40+Y40) | AC40: =CEILING(100*AB40/$AB$2,1) -> 0 | AD40: =IF(AA40="",0,20) -> 0 | AE40: =IF(AA40=1,30,IF(AA40=2,20,IF(AA40=3,10,0))) -> 0 | AF40: =IF(AA40="","",AC40+AD40+AE40) | AJ40: =IF(AI40=0,"",CEILING(100*AH40/AI40,1)) | AK40: =IF(AG40="",0,20) -> 0 | AL40: =IF(AG40=1,30,IF(AG40=2,20,IF(AG40=3,10,0))) -> 0 | AM40: =IF(AG40="","",AJ40+AK40+AL40) | AP40: =CEILING(100*AO40/$AO$2,1) -> 0 | AQ40: =IF(AN40="",0,20) -> 0 | AR40: =IF(AN40=1,30,IF(AN40=2,20,IF(AN40=3,10,0))) -> 0 | AS40: =IF(AN40="","",AP40+AQ40+AR40) | AV40: =CEILING(100*AU40/$AU$2,1) -> 0 | AW40: =IF(AT40="",0,20) -> 0 | AX40: =IF(AT40=1,30,IF(AT40=2,20,IF(AT40=3,10,0))) -> 0 | AY40: =IF(AT40="","",AV40+AW40+AX40) | BB40: =CEILING(100*BA40/$BA$2,1) -> 0 | BC40: =IF(AZ40="",0,20) -> 0 | BD40: =IF(AZ40=1,30,IF(AZ40=2,20,IF(AZ40=3,10,0))) -> 0 | BE40: =IF(AZ40="","",BB40+BC40+BD40) | BH40: =CEILING(100*BG40/$BG$2,1) -> 0 | BI40: =IF(BF40="",0,20) -> 0 | BJ40: =IF(BF40=1,30,IF(BF40=2,20,IF(BF40=3,10,0))) -> 0 | BK40: =IF(BF40="","",BH40+BI40+BJ40)
A41: 39 | B41: Erik Ingemansson | C41: Helsingborgs SS | D41: 2016 | E41: =(R41+X41+AQ41+AD41+AK41+BC41+AW41+BI41)/20 -> 1 | F41: =T41 -> 49 | G41: =Z41 | H41: =AF41 | I41: =AM41 | J41: =AS41 | K41: =AY41 | L41: =BE41 | M41: =BK41 | N41: =IF(E41<4,SUM(F41:M41),SUMPRODUCT(LARGE(F41:M41,{1;2;3;4}))) -> 49 | O41: 36 | P41: 2 | Q41: =CEILING(100*P41/$P$2,1) -> 29 | R41: =IF(O41="",0,20) -> 20 | S41: =IF(O41=1,30,IF(O41=2,20,IF(O41=3,10,0))) -> 0 | T41: =IF(O41="","",Q41+R41+S41) -> 49 | W41: =CEILING(100*V41/$V$2,1) -> 0 | X41: =IF(U41="",0,20) -> 0 | Y41: =IF(U41=1,30,IF(U41=2,20,IF(U41=3,10,0))) -> 0 | Z41: =IF(U41="","",W41+X41+Y41) | AC41: =CEILING(100*AB41/$AB$2,1) -> 0 | AD41: =IF(AA41="",0,20) -> 0 | AE41: =IF(AA41=1,30,IF(AA41=2,20,IF(AA41=3,10,0))) -> 0 | AF41: =IF(AA41="","",AC41+AD41+AE41) | AJ41: =IF(AI41=0,"",CEILING(100*AH41/AI41,1)) | AK41: =IF(AG41="",0,20) -> 0 | AL41: =IF(AG41=1,30,IF(AG41=2,20,IF(AG41=3,10,0))) -> 0 | AM41: =IF(AG41="","",AJ41+AK41+AL41) | AP41: =CEILING(100*AO41/$AO$2,1) -> 0 | AQ41: =IF(AN41="",0,20) -> 0 | AR41: =IF(AN41=1,30,IF(AN41=2,20,IF(AN41=3,10,0))) -> 0 | AS41: =IF(AN41="","",AP41+AQ41+AR41) | AV41: =CEILING(100*AU41/$AU$2,1) -> 0 | AW41: =IF(AT41="",0,20) -> 0 | AX41: =IF(AT41=1,30,IF(AT41=2,20,IF(AT41=3,10,0))) -> 0 | AY41: =IF(AT41="","",AV41+AW41+AX41) | BB41: =CEILING(100*BA41/$BA$2,1) -> 0 | BC41: =IF(AZ41="",0,20) -> 0 | BD41: =IF(AZ41=1,30,IF(AZ41=2,20,IF(AZ41=3,10,0))) -> 0 | BE41: =IF(AZ41="","",BB41+BC41+BD41) | BH41: =CEILING(100*BG41/$BG$2,1) -> 0 | BI41: =IF(BF41="",0,20) -> 0 | BJ41: =IF(BF41=1,30,IF(BF41=2,20,IF(BF41=3,10,0))) -> 0 | BK41: =IF(BF41="","",BH41+BI41+BJ41)
A42: 40 | B42: Gustav Sandgren Tomelius | C42: Mattadorerna | D42: 2017 | E42: =(R42+X42+AQ42+AD42+AK42+BC42+AW42+BI42)/20 -> 1 | F42: =T42 -> 49 | G42: =Z42 | H42: =AF42 | I42: =AM42 | J42: =AS42 | K42: =AY42 | L42: =BE42 | M42: =BK42 | N42: =IF(E42<4,SUM(F42:M42),SUMPRODUCT(LARGE(F42:M42,{1;2;3;4}))) -> 49 | O42: 37 | P42: 2 | Q42: =CEILING(100*P42/$P$2,1) -> 29 | R42: =IF(O42="",0,20) -> 20 | S42: =IF(O42=1,30,IF(O42=2,20,IF(O42=3,10,0))) -> 0 | T42: =IF(O42="","",Q42+R42+S42) -> 49 | W42: =CEILING(100*V42/$V$2,1) -> 0 | X42: =IF(U42="",0,20) -> 0 | Y42: =IF(U42=1,30,IF(U42=2,20,IF(U42=3,10,0))) -> 0 | Z42: =IF(U42="","",W42+X42+Y42) | AC42: =CEILING(100*AB42/$AB$2,1) -> 0 | AD42: =IF(AA42="",0,20) -> 0 | AE42: =IF(AA42=1,30,IF(AA42=2,20,IF(AA42=3,10,0))) -> 0 | AF42: =IF(AA42="","",AC42+AD42+AE42) | AJ42: =IF(AI42=0,"",CEILING(100*AH42/AI42,1)) | AK42: =IF(AG42="",0,20) -> 0 | AL42: =IF(AG42=1,30,IF(AG42=2,20,IF(AG42=3,10,0))) -> 0 | AM42: =IF(AG42="","",AJ42+AK42+AL42) | AP42: =CEILING(100*AO42/$AO$2,1) -> 0 | AQ42: =IF(AN42="",0,20) -> 0 | AR42: =IF(AN42=1,30,IF(AN42=2,20,IF(AN42=3,10,0))) -> 0 | AS42: =IF(AN42="","",AP42+AQ42+AR42) | AV42: =CEILING(100*AU42/$AU$2,1) -> 0 | AW42: =IF(AT42="",0,20) -> 0 | AX42: =IF(AT42=1,30,IF(AT42=2,20,IF(AT42=3,10,0))) -> 0 | AY42: =IF(AT42="","",AV42+AW42+AX42) | BB42: =CEILING(100*BA42/$BA$2,1) -> 0 | BC42: =IF(AZ42="",0,20) -> 0 | BD42: =IF(AZ42=1,30,IF(AZ42=2,20,IF(AZ42=3,10,0))) -> 0 | BE42: =IF(AZ42="","",BB42+BC42+BD42) | BH42: =CEILING(100*BG42/$BG$2,1) -> 0 | BI42: =IF(BF42="",0,20) -> 0 | BJ42: =IF(BF42=1,30,IF(BF42=2,20,IF(BF42=3,10,0))) -> 0 | BK42: =IF(BF42="","",BH42+BI42+BJ42)
A43: 41 | B43: Sigge Andersson | C43: Mattadorerna | D43: 2017 | E43: =(R43+X43+AQ43+AD43+AK43+BC43+AW43+BI43)/20 -> 1 | F43: =T43 -> 49 | G43: =Z43 | H43: =AF43 | I43: =AM43 | J43: =AS43 | K43: =AY43 | L43: =BE43 | M43: =BK43 | N43: =IF(E43<4,SUM(F43:M43),SUMPRODUCT(LARGE(F43:M43,{1;2;3;4}))) -> 49 | O43: 38 | P43: 2 | Q43: =CEILING(100*P43/$P$2,1) -> 29 | R43: =IF(O43="",0,20) -> 20 | S43: =IF(O43=1,30,IF(O43=2,20,IF(O43=3,10,0))) -> 0 | T43: =IF(O43="","",Q43+R43+S43) -> 49 | W43: =CEILING(100*V43/$V$2,1) -> 0 | X43: =IF(U43="",0,20) -> 0 | Y43: =IF(U43=1,30,IF(U43=2,20,IF(U43=3,10,0))) -> 0 | Z43: =IF(U43="","",W43+X43+Y43) | AC43: =CEILING(100*AB43/$AB$2,1) -> 0 | AD43: =IF(AA43="",0,20) -> 0 | AE43: =IF(AA43=1,30,IF(AA43=2,20,IF(AA43=3,10,0))) -> 0 | AF43: =IF(AA43="","",AC43+AD43+AE43) | AJ43: =IF(AI43=0,"",CEILING(100*AH43/AI43,1)) | AK43: =IF(AG43="",0,20) -> 0 | AL43: =IF(AG43=1,30,IF(AG43=2,20,IF(AG43=3,10,0))) -> 0 | AM43: =IF(AG43="","",AJ43+AK43+AL43) | AP43: =CEILING(100*AO43/$AO$2,1) -> 0 | AQ43: =IF(AN43="",0,20) -> 0 | AR43: =IF(AN43=1,30,IF(AN43=2,20,IF(AN43=3,10,0))) -> 0 | AS43: =IF(AN43="","",AP43+AQ43+AR43) | AV43: =CEILING(100*AU43/$AU$2,1) -> 0 | AW43: =IF(AT43="",0,20) -> 0 | AX43: =IF(AT43=1,30,IF(AT43=2,20,IF(AT43=3,10,0))) -> 0 | AY43: =IF(AT43="","",AV43+AW43+AX43) | BB43: =CEILING(100*BA43/$BA$2,1) -> 0 | BC43: =IF(AZ43="",0,20) -> 0 | BD43: =IF(AZ43=1,30,IF(AZ43=2,20,IF(AZ43=3,10,0))) -> 0 | BE43: =IF(AZ43="","",BB43+BC43+BD43) | BH43: =CEILING(100*BG43/$BG$2,1) -> 0 | BI43: =IF(BF43="",0,20) -> 0 | BJ43: =IF(BF43=1,30,IF(BF43=2,20,IF(BF43=3,10,0))) -> 0 | BK43: =IF(BF43="","",BH43+BI43+BJ43)
A44: 42 | B44: Nova Tegsell | C44: Helsingborgs ASK | D44: 2017 | E44: =(R44+X44+AQ44+AD44+AK44+BC44+AW44+BI44)/20 -> 1 | F44: =T44 -> 42 | G44: =Z44 | H44: =AF44 | I44: =AM44 | J44: =AS44 | K44: =AY44 | L44: =BE44 | M44: =BK44 | N44: =IF(E44<4,SUM(F44:M44),SUMPRODUCT(LARGE(F44:M44,{1;2;3;4}))) -> 42 | O44: 40 | P44: 1.5 | Q44: =CEILING(100*P44/$P$2,1) -> 22 | R44: =IF(O44="",0,20) -> 20 | S44: =IF(O44=1,30,IF(O44=2,20,IF(O44=3,10,0))) -> 0 | T44: =IF(O44="","",Q44+R44+S44) -> 42 | W44: =CEILING(100*V44/$V$2,1) -> 0 | X44: =IF(U44="",0,20) -> 0 | Y44: =IF(U44=1,30,IF(U44=2,20,IF(U44=3,10,0))) -> 0 | Z44: =IF(U44="","",W44+X44+Y44) | AC44: =CEILING(100*AB44/$AB$2,1) -> 0 | AD44: =IF(AA44="",0,20) -> 0 | AE44: =IF(AA44=1,30,IF(AA44=2,20,IF(AA44=3,10,0))) -> 0 | AF44: =IF(AA44="","",AC44+AD44+AE44) | AJ44: =IF(AI44=0,"",CEILING(100*AH44/AI44,1)) | AK44: =IF(AG44="",0,20) -> 0 | AL44: =IF(AG44=1,30,IF(AG44=2,20,IF(AG44=3,10,0))) -> 0 | AM44: =IF(AG44="","",AJ44+AK44+AL44) | AP44: =CEILING(100*AO44/$AO$2,1) -> 0 | AQ44: =IF(AN44="",0,20) -> 0 | AR44: =IF(AN44=1,30,IF(AN44=2,20,IF(AN44=3,10,0))) -> 0 | AS44: =IF(AN44="","",AP44+AQ44+AR44) | AV44: =CEILING(100*AU44/$AU$2,1) -> 0 | AW44: =IF(AT44="",0,20) -> 0 | AX44: =IF(AT44=1,30,IF(AT44=2,20,IF(AT44=3,10,0))) -> 0 | AY44: =IF(AT44="","",AV44+AW44+AX44) | BB44: =CEILING(100*BA44/$BA$2,1) -> 0 | BC44: =IF(AZ44="",0,20) -> 0 | BD44: =IF(AZ44=1,30,IF(AZ44=2,20,IF(AZ44=3,10,0))) -> 0 | BE44: =IF(AZ44="","",BB44+BC44+BD44) | BH44: =CEILING(100*BG44/$BG$2,1) -> 0 | BI44: =IF(BF44="",0,20) -> 0 | BJ44: =IF(BF44=1,30,IF(BF44=2,20,IF(BF44=3,10,0))) -> 0 | BK44: =IF(BF44="","",BH44+BI44+BJ44)
